BEGIN:VCALENDAR
VERSION:2.0
PRODID:-//The Freeport Club - ECPv6.15.20//NONSGML v1.0//EN
CALSCALE:GREGORIAN
METHOD:PUBLISH
X-WR-CALNAME:The Freeport Club
X-ORIGINAL-URL:https://freeportclub.com
X-WR-CALDESC:Events for The Freeport Club
REFRESH-INTERVAL;VALUE=DURATION:PT1H
X-Robots-Tag:noindex
X-PUBLISHED-TTL:PT1H
BEGIN:VTIMEZONE
TZID:America/Chicago
BEGIN:DAYLIGHT
TZOFFSETFROM:-0600
TZOFFSETTO:-0500
TZNAME:CDT
DTSTART:20260308T080000
END:DAYLIGHT
BEGIN:STANDARD
TZOFFSETFROM:-0500
TZOFFSETTO:-0600
TZNAME:CST
DTSTART:20261101T070000
END:STANDARD
BEGIN:DAYLIGHT
TZOFFSETFROM:-0600
TZOFFSETTO:-0500
TZNAME:CDT
DTSTART:20270314T080000
END:DAYLIGHT
BEGIN:STANDARD
TZOFFSETFROM:-0500
TZOFFSETTO:-0600
TZNAME:CST
DTSTART:20271107T070000
END:STANDARD
BEGIN:DAYLIGHT
TZOFFSETFROM:-0600
TZOFFSETTO:-0500
TZNAME:CDT
DTSTART:20280312T080000
END:DAYLIGHT
BEGIN:STANDARD
TZOFFSETFROM:-0500
TZOFFSETTO:-0600
TZNAME:CST
DTSTART:20281105T070000
END:STANDARD
END:VTIMEZONE
BEGIN:VEVENT
DTSTART;TZID=America/Chicago:20270803T170000
DTEND;TZID=America/Chicago:20270803T213000
DTSTAMP:20260424T202515
CREATED:20260325T222543Z
LAST-MODIFIED:20260326T192448Z
UID:10001452-1817312400-1817328600@freeportclub.com
SUMMARY:⛳ Ladies League
DESCRIPTION:
URL:https://freeportclub.com/event/ladies-league/2027-08-03/
LOCATION:The Freeport Club\, 1614 South Park Boulevard\, Freeport\, IL\, 61032\, United States
END:VEVENT
BEGIN:VEVENT
DTSTART;TZID=America/Chicago:20270805T170000
DTEND;TZID=America/Chicago:20270805T210000
DTSTAMP:20260424T202515
CREATED:20260325T222643Z
LAST-MODIFIED:20260326T192442Z
UID:10001522-1817485200-1817499600@freeportclub.com
SUMMARY:⛳ Men’s League
DESCRIPTION:
URL:https://freeportclub.com/event/mens-league/2027-08-05/
LOCATION:The Freeport Club\, 1614 South Park Boulevard\, Freeport\, IL\, 61032\, United States
END:VEVENT
BEGIN:VEVENT
DTSTART;TZID=America/Chicago:20270806T170000
DTEND;TZID=America/Chicago:20270806T203000
DTSTAMP:20260424T202515
CREATED:20260325T222342Z
LAST-MODIFIED:20260326T192122Z
UID:10001201-1817571600-1817584200@freeportclub.com
SUMMARY:🍸 Happy Hour!
DESCRIPTION:
URL:https://freeportclub.com/event/happy-hour/2027-08-06/
LOCATION:Mousies Lounge at The Freeport Club\, 1614 South Park Boulevard\, Freeport\, IL\, 61032\, United States
END:VEVENT
BEGIN:VEVENT
DTSTART;TZID=America/Chicago:20270810T170000
DTEND;TZID=America/Chicago:20270810T213000
DTSTAMP:20260424T202515
CREATED:20260325T222543Z
LAST-MODIFIED:20260326T192448Z
UID:10001453-1817917200-1817933400@freeportclub.com
SUMMARY:⛳ Ladies League
DESCRIPTION:
URL:https://freeportclub.com/event/ladies-league/2027-08-10/
LOCATION:The Freeport Club\, 1614 South Park Boulevard\, Freeport\, IL\, 61032\, United States
END:VEVENT
BEGIN:VEVENT
DTSTART;TZID=America/Chicago:20270812T170000
DTEND;TZID=America/Chicago:20270812T210000
DTSTAMP:20260424T202515
CREATED:20260325T222643Z
LAST-MODIFIED:20260326T192442Z
UID:10001523-1818090000-1818104400@freeportclub.com
SUMMARY:⛳ Men’s League
DESCRIPTION:
URL:https://freeportclub.com/event/mens-league/2027-08-12/
LOCATION:The Freeport Club\, 1614 South Park Boulevard\, Freeport\, IL\, 61032\, United States
END:VEVENT
BEGIN:VEVENT
DTSTART;TZID=America/Chicago:20270813T170000
DTEND;TZID=America/Chicago:20270813T203000
DTSTAMP:20260424T202515
CREATED:20260325T222342Z
LAST-MODIFIED:20260326T192122Z
UID:10001202-1818176400-1818189000@freeportclub.com
SUMMARY:🍸 Happy Hour!
DESCRIPTION:
URL:https://freeportclub.com/event/happy-hour/2027-08-13/
LOCATION:Mousies Lounge at The Freeport Club\, 1614 South Park Boulevard\, Freeport\, IL\, 61032\, United States
END:VEVENT
BEGIN:VEVENT
DTSTART;TZID=America/Chicago:20270817T170000
DTEND;TZID=America/Chicago:20270817T213000
DTSTAMP:20260424T202515
CREATED:20260325T222543Z
LAST-MODIFIED:20260326T192448Z
UID:10001454-1818522000-1818538200@freeportclub.com
SUMMARY:⛳ Ladies League
DESCRIPTION:
URL:https://freeportclub.com/event/ladies-league/2027-08-17/
LOCATION:The Freeport Club\, 1614 South Park Boulevard\, Freeport\, IL\, 61032\, United States
END:VEVENT
BEGIN:VEVENT
DTSTART;TZID=America/Chicago:20270819T170000
DTEND;TZID=America/Chicago:20270819T210000
DTSTAMP:20260424T202515
CREATED:20260325T222643Z
LAST-MODIFIED:20260326T192442Z
UID:10001524-1818694800-1818709200@freeportclub.com
SUMMARY:⛳ Men’s League
DESCRIPTION:
URL:https://freeportclub.com/event/mens-league/2027-08-19/
LOCATION:The Freeport Club\, 1614 South Park Boulevard\, Freeport\, IL\, 61032\, United States
END:VEVENT
BEGIN:VEVENT
DTSTART;TZID=America/Chicago:20270820T170000
DTEND;TZID=America/Chicago:20270820T203000
DTSTAMP:20260424T202515
CREATED:20260325T222342Z
LAST-MODIFIED:20260326T192122Z
UID:10001203-1818781200-1818793800@freeportclub.com
SUMMARY:🍸 Happy Hour!
DESCRIPTION:
URL:https://freeportclub.com/event/happy-hour/2027-08-20/
LOCATION:Mousies Lounge at The Freeport Club\, 1614 South Park Boulevard\, Freeport\, IL\, 61032\, United States
END:VEVENT
BEGIN:VEVENT
DTSTART;TZID=America/Chicago:20270824T170000
DTEND;TZID=America/Chicago:20270824T213000
DTSTAMP:20260424T202515
CREATED:20260325T222543Z
LAST-MODIFIED:20260326T192448Z
UID:10001455-1819126800-1819143000@freeportclub.com
SUMMARY:⛳ Ladies League
DESCRIPTION:
URL:https://freeportclub.com/event/ladies-league/2027-08-24/
LOCATION:The Freeport Club\, 1614 South Park Boulevard\, Freeport\, IL\, 61032\, United States
END:VEVENT
BEGIN:VEVENT
DTSTART;TZID=America/Chicago:20270826T170000
DTEND;TZID=America/Chicago:20270826T210000
DTSTAMP:20260424T202515
CREATED:20260325T222643Z
LAST-MODIFIED:20260326T192442Z
UID:10001525-1819299600-1819314000@freeportclub.com
SUMMARY:⛳ Men’s League
DESCRIPTION:
URL:https://freeportclub.com/event/mens-league/2027-08-26/
LOCATION:The Freeport Club\, 1614 South Park Boulevard\, Freeport\, IL\, 61032\, United States
END:VEVENT
BEGIN:VEVENT
DTSTART;TZID=America/Chicago:20270827T170000
DTEND;TZID=America/Chicago:20270827T203000
DTSTAMP:20260424T202515
CREATED:20260325T222342Z
LAST-MODIFIED:20260326T192122Z
UID:10001204-1819386000-1819398600@freeportclub.com
SUMMARY:🍸 Happy Hour!
DESCRIPTION:
URL:https://freeportclub.com/event/happy-hour/2027-08-27/
LOCATION:Mousies Lounge at The Freeport Club\, 1614 South Park Boulevard\, Freeport\, IL\, 61032\, United States
END:VEVENT
BEGIN:VEVENT
DTSTART;TZID=America/Chicago:20270831T170000
DTEND;TZID=America/Chicago:20270831T213000
DTSTAMP:20260424T202515
CREATED:20260325T222543Z
LAST-MODIFIED:20260326T192448Z
UID:10001456-1819731600-1819747800@freeportclub.com
SUMMARY:⛳ Ladies League
DESCRIPTION:
URL:https://freeportclub.com/event/ladies-league/2027-08-31/
LOCATION:The Freeport Club\, 1614 South Park Boulevard\, Freeport\, IL\, 61032\, United States
END:VEVENT
END:VCALENDAR