BEGIN:VCALENDAR
VERSION:2.0
PRODID:-//The Freeport Club - ECPv6.15.20//NONSGML v1.0//EN
CALSCALE:GREGORIAN
METHOD:PUBLISH
X-ORIGINAL-URL:https://freeportclub.com
X-WR-CALDESC:Events for The Freeport Club
REFRESH-INTERVAL;VALUE=DURATION:PT1H
X-Robots-Tag:noindex
X-PUBLISHED-TTL:PT1H
BEGIN:VTIMEZONE
TZID:America/Chicago
BEGIN:DAYLIGHT
TZOFFSETFROM:-0600
TZOFFSETTO:-0500
TZNAME:CDT
DTSTART:20260308T080000
END:DAYLIGHT
BEGIN:STANDARD
TZOFFSETFROM:-0500
TZOFFSETTO:-0600
TZNAME:CST
DTSTART:20261101T070000
END:STANDARD
BEGIN:DAYLIGHT
TZOFFSETFROM:-0600
TZOFFSETTO:-0500
TZNAME:CDT
DTSTART:20270314T080000
END:DAYLIGHT
BEGIN:STANDARD
TZOFFSETFROM:-0500
TZOFFSETTO:-0600
TZNAME:CST
DTSTART:20271107T070000
END:STANDARD
BEGIN:DAYLIGHT
TZOFFSETFROM:-0600
TZOFFSETTO:-0500
TZNAME:CDT
DTSTART:20280312T080000
END:DAYLIGHT
BEGIN:STANDARD
TZOFFSETFROM:-0500
TZOFFSETTO:-0600
TZNAME:CST
DTSTART:20281105T070000
END:STANDARD
END:VTIMEZONE
BEGIN:VEVENT
DTSTART;TZID=America/Chicago:20270202T170000
DTEND;TZID=America/Chicago:20270202T213000
DTSTAMP:20260424T130102
CREATED:20260325T222543Z
LAST-MODIFIED:20260326T192448Z
UID:10001426-1801587600-1801603800@freeportclub.com
SUMMARY:⛳ Ladies League
DESCRIPTION:
URL:https://freeportclub.com/event/ladies-league/2027-02-02/
LOCATION:The Freeport Club\, 1614 South Park Boulevard\, Freeport\, IL\, 61032\, United States
END:VEVENT
BEGIN:VEVENT
DTSTART;TZID=America/Chicago:20270204T170000
DTEND;TZID=America/Chicago:20270204T210000
DTSTAMP:20260424T130102
CREATED:20260325T222643Z
LAST-MODIFIED:20260326T192442Z
UID:10001496-1801760400-1801774800@freeportclub.com
SUMMARY:⛳ Men’s League
DESCRIPTION:
URL:https://freeportclub.com/event/mens-league/2027-02-04/
LOCATION:The Freeport Club\, 1614 South Park Boulevard\, Freeport\, IL\, 61032\, United States
END:VEVENT
BEGIN:VEVENT
DTSTART;TZID=America/Chicago:20270205T170000
DTEND;TZID=America/Chicago:20270205T203000
DTSTAMP:20260424T130102
CREATED:20260325T222342Z
LAST-MODIFIED:20260326T192122Z
UID:10001175-1801846800-1801859400@freeportclub.com
SUMMARY:🍸 Happy Hour!
DESCRIPTION:
URL:https://freeportclub.com/event/happy-hour/2027-02-05/
LOCATION:Mousies Lounge at The Freeport Club\, 1614 South Park Boulevard\, Freeport\, IL\, 61032\, United States
END:VEVENT
BEGIN:VEVENT
DTSTART;TZID=America/Chicago:20270209T170000
DTEND;TZID=America/Chicago:20270209T213000
DTSTAMP:20260424T130102
CREATED:20260325T222543Z
LAST-MODIFIED:20260326T192448Z
UID:10001427-1802192400-1802208600@freeportclub.com
SUMMARY:⛳ Ladies League
DESCRIPTION:
URL:https://freeportclub.com/event/ladies-league/2027-02-09/
LOCATION:The Freeport Club\, 1614 South Park Boulevard\, Freeport\, IL\, 61032\, United States
END:VEVENT
BEGIN:VEVENT
DTSTART;TZID=America/Chicago:20270211T170000
DTEND;TZID=America/Chicago:20270211T210000
DTSTAMP:20260424T130102
CREATED:20260325T222643Z
LAST-MODIFIED:20260326T192442Z
UID:10001497-1802365200-1802379600@freeportclub.com
SUMMARY:⛳ Men’s League
DESCRIPTION:
URL:https://freeportclub.com/event/mens-league/2027-02-11/
LOCATION:The Freeport Club\, 1614 South Park Boulevard\, Freeport\, IL\, 61032\, United States
END:VEVENT
BEGIN:VEVENT
DTSTART;TZID=America/Chicago:20270212T170000
DTEND;TZID=America/Chicago:20270212T203000
DTSTAMP:20260424T130102
CREATED:20260325T222342Z
LAST-MODIFIED:20260326T192122Z
UID:10001176-1802451600-1802464200@freeportclub.com
SUMMARY:🍸 Happy Hour!
DESCRIPTION:
URL:https://freeportclub.com/event/happy-hour/2027-02-12/
LOCATION:Mousies Lounge at The Freeport Club\, 1614 South Park Boulevard\, Freeport\, IL\, 61032\, United States
END:VEVENT
BEGIN:VEVENT
DTSTART;TZID=America/Chicago:20270216T170000
DTEND;TZID=America/Chicago:20270216T213000
DTSTAMP:20260424T130102
CREATED:20260325T222543Z
LAST-MODIFIED:20260326T192448Z
UID:10001428-1802797200-1802813400@freeportclub.com
SUMMARY:⛳ Ladies League
DESCRIPTION:
URL:https://freeportclub.com/event/ladies-league/2027-02-16/
LOCATION:The Freeport Club\, 1614 South Park Boulevard\, Freeport\, IL\, 61032\, United States
END:VEVENT
BEGIN:VEVENT
DTSTART;TZID=America/Chicago:20270218T170000
DTEND;TZID=America/Chicago:20270218T210000
DTSTAMP:20260424T130102
CREATED:20260325T222643Z
LAST-MODIFIED:20260326T192442Z
UID:10001498-1802970000-1802984400@freeportclub.com
SUMMARY:⛳ Men’s League
DESCRIPTION:
URL:https://freeportclub.com/event/mens-league/2027-02-18/
LOCATION:The Freeport Club\, 1614 South Park Boulevard\, Freeport\, IL\, 61032\, United States
END:VEVENT
BEGIN:VEVENT
DTSTART;TZID=America/Chicago:20270219T170000
DTEND;TZID=America/Chicago:20270219T203000
DTSTAMP:20260424T130102
CREATED:20260325T222342Z
LAST-MODIFIED:20260326T192122Z
UID:10001177-1803056400-1803069000@freeportclub.com
SUMMARY:🍸 Happy Hour!
DESCRIPTION:
URL:https://freeportclub.com/event/happy-hour/2027-02-19/
LOCATION:Mousies Lounge at The Freeport Club\, 1614 South Park Boulevard\, Freeport\, IL\, 61032\, United States
END:VEVENT
BEGIN:VEVENT
DTSTART;TZID=America/Chicago:20270223T170000
DTEND;TZID=America/Chicago:20270223T213000
DTSTAMP:20260424T130102
CREATED:20260325T222543Z
LAST-MODIFIED:20260326T192448Z
UID:10001429-1803402000-1803418200@freeportclub.com
SUMMARY:⛳ Ladies League
DESCRIPTION:
URL:https://freeportclub.com/event/ladies-league/2027-02-23/
LOCATION:The Freeport Club\, 1614 South Park Boulevard\, Freeport\, IL\, 61032\, United States
END:VEVENT
BEGIN:VEVENT
DTSTART;TZID=America/Chicago:20270225T170000
DTEND;TZID=America/Chicago:20270225T210000
DTSTAMP:20260424T130102
CREATED:20260325T222643Z
LAST-MODIFIED:20260326T192442Z
UID:10001499-1803574800-1803589200@freeportclub.com
SUMMARY:⛳ Men’s League
DESCRIPTION:
URL:https://freeportclub.com/event/mens-league/2027-02-25/
LOCATION:The Freeport Club\, 1614 South Park Boulevard\, Freeport\, IL\, 61032\, United States
END:VEVENT
BEGIN:VEVENT
DTSTART;TZID=America/Chicago:20270226T170000
DTEND;TZID=America/Chicago:20270226T203000
DTSTAMP:20260424T130102
CREATED:20260325T222342Z
LAST-MODIFIED:20260326T192122Z
UID:10001178-1803661200-1803673800@freeportclub.com
SUMMARY:🍸 Happy Hour!
DESCRIPTION:
URL:https://freeportclub.com/event/happy-hour/2027-02-26/
LOCATION:Mousies Lounge at The Freeport Club\, 1614 South Park Boulevard\, Freeport\, IL\, 61032\, United States
END:VEVENT
END:VCALENDAR