BEGIN:VCALENDAR
VERSION:2.0
PRODID:-//The Freeport Club - ECPv6.15.20//NONSGML v1.0//EN
CALSCALE:GREGORIAN
METHOD:PUBLISH
X-WR-CALNAME:The Freeport Club
X-ORIGINAL-URL:https://freeportclub.com
X-WR-CALDESC:Events for The Freeport Club
REFRESH-INTERVAL;VALUE=DURATION:PT1H
X-Robots-Tag:noindex
X-PUBLISHED-TTL:PT1H
BEGIN:VTIMEZONE
TZID:America/Chicago
BEGIN:DAYLIGHT
TZOFFSETFROM:-0600
TZOFFSETTO:-0500
TZNAME:CDT
DTSTART:20250309T080000
END:DAYLIGHT
BEGIN:STANDARD
TZOFFSETFROM:-0500
TZOFFSETTO:-0600
TZNAME:CST
DTSTART:20251102T070000
END:STANDARD
BEGIN:DAYLIGHT
TZOFFSETFROM:-0600
TZOFFSETTO:-0500
TZNAME:CDT
DTSTART:20260308T080000
END:DAYLIGHT
BEGIN:STANDARD
TZOFFSETFROM:-0500
TZOFFSETTO:-0600
TZNAME:CST
DTSTART:20261101T070000
END:STANDARD
BEGIN:DAYLIGHT
TZOFFSETFROM:-0600
TZOFFSETTO:-0500
TZNAME:CDT
DTSTART:20270314T080000
END:DAYLIGHT
BEGIN:STANDARD
TZOFFSETFROM:-0500
TZOFFSETTO:-0600
TZNAME:CST
DTSTART:20271107T070000
END:STANDARD
END:VTIMEZONE
BEGIN:VEVENT
DTSTART;TZID=America/Chicago:20260901T170000
DTEND;TZID=America/Chicago:20260901T213000
DTSTAMP:20260424T055359
CREATED:20260325T222543Z
LAST-MODIFIED:20260326T192448Z
UID:10001404-1788282000-1788298200@freeportclub.com
SUMMARY:⛳ Ladies League
DESCRIPTION:
URL:https://freeportclub.com/event/ladies-league/2026-09-01/
LOCATION:The Freeport Club\, 1614 South Park Boulevard\, Freeport\, IL\, 61032\, United States
END:VEVENT
BEGIN:VEVENT
DTSTART;TZID=America/Chicago:20260903T170000
DTEND;TZID=America/Chicago:20260903T210000
DTSTAMP:20260424T055359
CREATED:20260325T222643Z
LAST-MODIFIED:20260326T192442Z
UID:10001474-1788454800-1788469200@freeportclub.com
SUMMARY:⛳ Men’s League
DESCRIPTION:
URL:https://freeportclub.com/event/mens-league/2026-09-03/
LOCATION:The Freeport Club\, 1614 South Park Boulevard\, Freeport\, IL\, 61032\, United States
END:VEVENT
BEGIN:VEVENT
DTSTART;TZID=America/Chicago:20260904T170000
DTEND;TZID=America/Chicago:20260904T203000
DTSTAMP:20260424T055359
CREATED:20260325T222342Z
LAST-MODIFIED:20260326T192122Z
UID:10001153-1788541200-1788553800@freeportclub.com
SUMMARY:🍸 Happy Hour!
DESCRIPTION:
URL:https://freeportclub.com/event/happy-hour/2026-09-04/
LOCATION:Mousies Lounge at The Freeport Club\, 1614 South Park Boulevard\, Freeport\, IL\, 61032\, United States
END:VEVENT
BEGIN:VEVENT
DTSTART;TZID=America/Chicago:20260908T170000
DTEND;TZID=America/Chicago:20260908T213000
DTSTAMP:20260424T055359
CREATED:20260325T222543Z
LAST-MODIFIED:20260326T192448Z
UID:10001405-1788886800-1788903000@freeportclub.com
SUMMARY:⛳ Ladies League
DESCRIPTION:
URL:https://freeportclub.com/event/ladies-league/2026-09-08/
LOCATION:The Freeport Club\, 1614 South Park Boulevard\, Freeport\, IL\, 61032\, United States
END:VEVENT
BEGIN:VEVENT
DTSTART;TZID=America/Chicago:20260910T170000
DTEND;TZID=America/Chicago:20260910T210000
DTSTAMP:20260424T055359
CREATED:20260325T222643Z
LAST-MODIFIED:20260326T192442Z
UID:10001475-1789059600-1789074000@freeportclub.com
SUMMARY:⛳ Men’s League
DESCRIPTION:
URL:https://freeportclub.com/event/mens-league/2026-09-10/
LOCATION:The Freeport Club\, 1614 South Park Boulevard\, Freeport\, IL\, 61032\, United States
END:VEVENT
BEGIN:VEVENT
DTSTART;TZID=America/Chicago:20260911T170000
DTEND;TZID=America/Chicago:20260911T203000
DTSTAMP:20260424T055359
CREATED:20260325T222342Z
LAST-MODIFIED:20260326T192122Z
UID:10001154-1789146000-1789158600@freeportclub.com
SUMMARY:🍸 Happy Hour!
DESCRIPTION:
URL:https://freeportclub.com/event/happy-hour/2026-09-11/
LOCATION:Mousies Lounge at The Freeport Club\, 1614 South Park Boulevard\, Freeport\, IL\, 61032\, United States
END:VEVENT
BEGIN:VEVENT
DTSTART;TZID=America/Chicago:20260912T000000
DTEND;TZID=America/Chicago:20260912T000000
DTSTAMP:20260424T055359
CREATED:20260325T221511Z
LAST-MODIFIED:20260326T192242Z
UID:10001127-1789171200-1789171200@freeportclub.com
SUMMARY:⛳ Crimestoppers Outing
DESCRIPTION:
URL:https://freeportclub.com/event/crimestoppers-outing-2/
LOCATION:The Freeport Club\, 1614 South Park Boulevard\, Freeport\, IL\, 61032\, United States
END:VEVENT
BEGIN:VEVENT
DTSTART;TZID=America/Chicago:20260915T170000
DTEND;TZID=America/Chicago:20260915T213000
DTSTAMP:20260424T055359
CREATED:20260325T222543Z
LAST-MODIFIED:20260326T192448Z
UID:10001406-1789491600-1789507800@freeportclub.com
SUMMARY:⛳ Ladies League
DESCRIPTION:
URL:https://freeportclub.com/event/ladies-league/2026-09-15/
LOCATION:The Freeport Club\, 1614 South Park Boulevard\, Freeport\, IL\, 61032\, United States
END:VEVENT
BEGIN:VEVENT
DTSTART;TZID=America/Chicago:20260917T170000
DTEND;TZID=America/Chicago:20260917T210000
DTSTAMP:20260424T055359
CREATED:20260325T222643Z
LAST-MODIFIED:20260326T192442Z
UID:10001476-1789664400-1789678800@freeportclub.com
SUMMARY:⛳ Men’s League
DESCRIPTION:
URL:https://freeportclub.com/event/mens-league/2026-09-17/
LOCATION:The Freeport Club\, 1614 South Park Boulevard\, Freeport\, IL\, 61032\, United States
END:VEVENT
BEGIN:VEVENT
DTSTART;TZID=America/Chicago:20260918T170000
DTEND;TZID=America/Chicago:20260918T203000
DTSTAMP:20260424T055359
CREATED:20260325T222342Z
LAST-MODIFIED:20260326T192122Z
UID:10001155-1789750800-1789763400@freeportclub.com
SUMMARY:🍸 Happy Hour!
DESCRIPTION:
URL:https://freeportclub.com/event/happy-hour/2026-09-18/
LOCATION:Mousies Lounge at The Freeport Club\, 1614 South Park Boulevard\, Freeport\, IL\, 61032\, United States
END:VEVENT
BEGIN:VEVENT
DTSTART;TZID=America/Chicago:20260922T170000
DTEND;TZID=America/Chicago:20260922T213000
DTSTAMP:20260424T055359
CREATED:20260325T222543Z
LAST-MODIFIED:20260326T192448Z
UID:10001407-1790096400-1790112600@freeportclub.com
SUMMARY:⛳ Ladies League
DESCRIPTION:
URL:https://freeportclub.com/event/ladies-league/2026-09-22/
LOCATION:The Freeport Club\, 1614 South Park Boulevard\, Freeport\, IL\, 61032\, United States
END:VEVENT
BEGIN:VEVENT
DTSTART;TZID=America/Chicago:20260924T170000
DTEND;TZID=America/Chicago:20260924T210000
DTSTAMP:20260424T055359
CREATED:20260325T222643Z
LAST-MODIFIED:20260326T192442Z
UID:10001477-1790269200-1790283600@freeportclub.com
SUMMARY:⛳ Men’s League
DESCRIPTION:
URL:https://freeportclub.com/event/mens-league/2026-09-24/
LOCATION:The Freeport Club\, 1614 South Park Boulevard\, Freeport\, IL\, 61032\, United States
END:VEVENT
BEGIN:VEVENT
DTSTART;TZID=America/Chicago:20260925T170000
DTEND;TZID=America/Chicago:20260925T203000
DTSTAMP:20260424T055359
CREATED:20260325T222342Z
LAST-MODIFIED:20260326T192122Z
UID:10001156-1790355600-1790368200@freeportclub.com
SUMMARY:🍸 Happy Hour!
DESCRIPTION:
URL:https://freeportclub.com/event/happy-hour/2026-09-25/
LOCATION:Mousies Lounge at The Freeport Club\, 1614 South Park Boulevard\, Freeport\, IL\, 61032\, United States
END:VEVENT
BEGIN:VEVENT
DTSTART;TZID=America/Chicago:20260929T170000
DTEND;TZID=America/Chicago:20260929T213000
DTSTAMP:20260424T055359
CREATED:20260325T222543Z
LAST-MODIFIED:20260326T192448Z
UID:10001408-1790701200-1790717400@freeportclub.com
SUMMARY:⛳ Ladies League
DESCRIPTION:
URL:https://freeportclub.com/event/ladies-league/2026-09-29/
LOCATION:The Freeport Club\, 1614 South Park Boulevard\, Freeport\, IL\, 61032\, United States
END:VEVENT
END:VCALENDAR