BEGIN:VCALENDAR
VERSION:2.0
PRODID:-//The Freeport Club - ECPv6.15.20//NONSGML v1.0//EN
CALSCALE:GREGORIAN
METHOD:PUBLISH
X-ORIGINAL-URL:https://freeportclub.com
X-WR-CALDESC:Events for The Freeport Club
REFRESH-INTERVAL;VALUE=DURATION:PT1H
X-Robots-Tag:noindex
X-PUBLISHED-TTL:PT1H
BEGIN:VTIMEZONE
TZID:America/Chicago
BEGIN:DAYLIGHT
TZOFFSETFROM:-0600
TZOFFSETTO:-0500
TZNAME:CDT
DTSTART:20240310T080000
END:DAYLIGHT
BEGIN:STANDARD
TZOFFSETFROM:-0500
TZOFFSETTO:-0600
TZNAME:CST
DTSTART:20241103T070000
END:STANDARD
BEGIN:DAYLIGHT
TZOFFSETFROM:-0600
TZOFFSETTO:-0500
TZNAME:CDT
DTSTART:20250309T080000
END:DAYLIGHT
BEGIN:STANDARD
TZOFFSETFROM:-0500
TZOFFSETTO:-0600
TZNAME:CST
DTSTART:20251102T070000
END:STANDARD
BEGIN:DAYLIGHT
TZOFFSETFROM:-0600
TZOFFSETTO:-0500
TZNAME:CDT
DTSTART:20260308T080000
END:DAYLIGHT
BEGIN:STANDARD
TZOFFSETFROM:-0500
TZOFFSETTO:-0600
TZNAME:CST
DTSTART:20261101T070000
END:STANDARD
END:VTIMEZONE
BEGIN:VEVENT
DTSTART;VALUE=DATE:20250610
DTEND;VALUE=DATE:20250611
DTSTAMP:20260419T122307
CREATED:20250402T183523Z
LAST-MODIFIED:20250402T183523Z
UID:10001077-1749513600-1749599999@freeportclub.com
SUMMARY:Ladies Invitational
DESCRIPTION:
URL:https://freeportclub.com/event/ladies-invitational/
LOCATION:The Freeport Club\, 1614 South Park Boulevard\, Freeport\, IL\, 61032\, United States
CATEGORIES:Outings
ATTACH;FMTTYPE=image/png:https://freeportclub.com/wp-content/uploads/2023/05/Golf-Outing-square.png
END:VEVENT
BEGIN:VEVENT
DTSTART;VALUE=DATE:20250617
DTEND;VALUE=DATE:20250618
DTSTAMP:20260419T122307
CREATED:20250402T183602Z
LAST-MODIFIED:20250402T183602Z
UID:10001078-1750118400-1750204799@freeportclub.com
SUMMARY:Chesney Outing
DESCRIPTION:
URL:https://freeportclub.com/event/chesney-outing/
LOCATION:The Freeport Club\, 1614 South Park Boulevard\, Freeport\, IL\, 61032\, United States
CATEGORIES:Outings
ATTACH;FMTTYPE=image/png:https://freeportclub.com/wp-content/uploads/2023/05/Golf-Outing-square.png
END:VEVENT
BEGIN:VEVENT
DTSTART;TZID=America/Chicago:20250627T170000
DTEND;TZID=America/Chicago:20250627T233000
DTSTAMP:20260419T122307
CREATED:20250612T172329Z
LAST-MODIFIED:20250612T172549Z
UID:10001085-1751043600-1751067000@freeportclub.com
SUMMARY:COUPLES TWILIGHT OUTING
DESCRIPTION:NO MEMBERSHIP REQUIRED!
URL:https://freeportclub.com/event/couples-twilight-outing/
LOCATION:The Freeport Club\, 1614 South Park Boulevard\, Freeport\, IL\, 61032\, United States
CATEGORIES:Outings,Parties/Events
ATTACH;FMTTYPE=image/png:https://freeportclub.com/wp-content/uploads/2025/06/Couples-Twilight.png
END:VEVENT
BEGIN:VEVENT
DTSTART;TZID=America/Chicago:20250629T170000
DTEND;TZID=America/Chicago:20250629T200000
DTSTAMP:20260419T122307
CREATED:20250612T171249Z
LAST-MODIFIED:20250612T171533Z
UID:10001084-1751216400-1751227200@freeportclub.com
SUMMARY:Music on the Patio
DESCRIPTION:
URL:https://freeportclub.com/event/music-on-the-patio/
LOCATION:The Freeport Club\, 1614 South Park Boulevard\, Freeport\, IL\, 61032\, United States
CATEGORIES:Live Music,Non-Golf Events,Parties/Events
ATTACH;FMTTYPE=image/png:https://freeportclub.com/wp-content/uploads/2025/06/Screenshot-2025-06-12-at-12.08.39-PM.png
END:VEVENT
END:VCALENDAR