BEGIN:VCALENDAR
VERSION:2.0
PRODID:-//The Freeport Club - ECPv6.15.20//NONSGML v1.0//EN
CALSCALE:GREGORIAN
METHOD:PUBLISH
X-WR-CALNAME:The Freeport Club
X-ORIGINAL-URL:https://freeportclub.com
X-WR-CALDESC:Events for The Freeport Club
REFRESH-INTERVAL;VALUE=DURATION:PT1H
X-Robots-Tag:noindex
X-PUBLISHED-TTL:PT1H
BEGIN:VTIMEZONE
TZID:America/Chicago
BEGIN:DAYLIGHT
TZOFFSETFROM:-0600
TZOFFSETTO:-0500
TZNAME:CDT
DTSTART:20260308T080000
END:DAYLIGHT
BEGIN:STANDARD
TZOFFSETFROM:-0500
TZOFFSETTO:-0600
TZNAME:CST
DTSTART:20261101T070000
END:STANDARD
BEGIN:DAYLIGHT
TZOFFSETFROM:-0600
TZOFFSETTO:-0500
TZNAME:CDT
DTSTART:20270314T080000
END:DAYLIGHT
BEGIN:STANDARD
TZOFFSETFROM:-0500
TZOFFSETTO:-0600
TZNAME:CST
DTSTART:20271107T070000
END:STANDARD
BEGIN:DAYLIGHT
TZOFFSETFROM:-0600
TZOFFSETTO:-0500
TZNAME:CDT
DTSTART:20280312T080000
END:DAYLIGHT
BEGIN:STANDARD
TZOFFSETFROM:-0500
TZOFFSETTO:-0600
TZNAME:CST
DTSTART:20281105T070000
END:STANDARD
END:VTIMEZONE
BEGIN:VEVENT
DTSTART;TZID=America/Chicago:20270415T170000
DTEND;TZID=America/Chicago:20270415T210000
DTSTAMP:20260420T011638
CREATED:20260325T222643Z
LAST-MODIFIED:20260326T192442Z
UID:10001506-1807808400-1807822800@freeportclub.com
SUMMARY:⛳ Men’s League
DESCRIPTION:
URL:https://freeportclub.com/event/mens-league/2027-04-15/
LOCATION:The Freeport Club\, 1614 South Park Boulevard\, Freeport\, IL\, 61032\, United States
END:VEVENT
BEGIN:VEVENT
DTSTART;TZID=America/Chicago:20270416T170000
DTEND;TZID=America/Chicago:20270416T203000
DTSTAMP:20260420T011638
CREATED:20260325T222342Z
LAST-MODIFIED:20260326T192122Z
UID:10001185-1807894800-1807907400@freeportclub.com
SUMMARY:🍸 Happy Hour!
DESCRIPTION:
URL:https://freeportclub.com/event/happy-hour/2027-04-16/
LOCATION:Mousies Lounge at The Freeport Club\, 1614 South Park Boulevard\, Freeport\, IL\, 61032\, United States
END:VEVENT
BEGIN:VEVENT
DTSTART;TZID=America/Chicago:20270420T170000
DTEND;TZID=America/Chicago:20270420T213000
DTSTAMP:20260420T011638
CREATED:20260325T222543Z
LAST-MODIFIED:20260326T192448Z
UID:10001437-1808240400-1808256600@freeportclub.com
SUMMARY:⛳ Ladies League
DESCRIPTION:
URL:https://freeportclub.com/event/ladies-league/2027-04-20/
LOCATION:The Freeport Club\, 1614 South Park Boulevard\, Freeport\, IL\, 61032\, United States
END:VEVENT
BEGIN:VEVENT
DTSTART;TZID=America/Chicago:20270422T170000
DTEND;TZID=America/Chicago:20270422T210000
DTSTAMP:20260420T011638
CREATED:20260325T222643Z
LAST-MODIFIED:20260326T192442Z
UID:10001507-1808413200-1808427600@freeportclub.com
SUMMARY:⛳ Men’s League
DESCRIPTION:
URL:https://freeportclub.com/event/mens-league/2027-04-22/
LOCATION:The Freeport Club\, 1614 South Park Boulevard\, Freeport\, IL\, 61032\, United States
END:VEVENT
BEGIN:VEVENT
DTSTART;TZID=America/Chicago:20270423T170000
DTEND;TZID=America/Chicago:20270423T203000
DTSTAMP:20260420T011638
CREATED:20260325T222342Z
LAST-MODIFIED:20260326T192122Z
UID:10001186-1808499600-1808512200@freeportclub.com
SUMMARY:🍸 Happy Hour!
DESCRIPTION:
URL:https://freeportclub.com/event/happy-hour/2027-04-23/
LOCATION:Mousies Lounge at The Freeport Club\, 1614 South Park Boulevard\, Freeport\, IL\, 61032\, United States
END:VEVENT
BEGIN:VEVENT
DTSTART;TZID=America/Chicago:20270427T170000
DTEND;TZID=America/Chicago:20270427T213000
DTSTAMP:20260420T011638
CREATED:20260325T222543Z
LAST-MODIFIED:20260326T192448Z
UID:10001438-1808845200-1808861400@freeportclub.com
SUMMARY:⛳ Ladies League
DESCRIPTION:
URL:https://freeportclub.com/event/ladies-league/2027-04-27/
LOCATION:The Freeport Club\, 1614 South Park Boulevard\, Freeport\, IL\, 61032\, United States
END:VEVENT
BEGIN:VEVENT
DTSTART;TZID=America/Chicago:20270429T170000
DTEND;TZID=America/Chicago:20270429T210000
DTSTAMP:20260420T011638
CREATED:20260325T222643Z
LAST-MODIFIED:20260326T192442Z
UID:10001508-1809018000-1809032400@freeportclub.com
SUMMARY:⛳ Men’s League
DESCRIPTION:
URL:https://freeportclub.com/event/mens-league/2027-04-29/
LOCATION:The Freeport Club\, 1614 South Park Boulevard\, Freeport\, IL\, 61032\, United States
END:VEVENT
BEGIN:VEVENT
DTSTART;TZID=America/Chicago:20270430T170000
DTEND;TZID=America/Chicago:20270430T203000
DTSTAMP:20260420T011638
CREATED:20260325T222342Z
LAST-MODIFIED:20260326T192122Z
UID:10001187-1809104400-1809117000@freeportclub.com
SUMMARY:🍸 Happy Hour!
DESCRIPTION:
URL:https://freeportclub.com/event/happy-hour/2027-04-30/
LOCATION:Mousies Lounge at The Freeport Club\, 1614 South Park Boulevard\, Freeport\, IL\, 61032\, United States
END:VEVENT
BEGIN:VEVENT
DTSTART;TZID=America/Chicago:20270504T170000
DTEND;TZID=America/Chicago:20270504T213000
DTSTAMP:20260420T011638
CREATED:20260325T222543Z
LAST-MODIFIED:20260326T192448Z
UID:10001439-1809450000-1809466200@freeportclub.com
SUMMARY:⛳ Ladies League
DESCRIPTION:
URL:https://freeportclub.com/event/ladies-league/2027-05-04/
LOCATION:The Freeport Club\, 1614 South Park Boulevard\, Freeport\, IL\, 61032\, United States
END:VEVENT
BEGIN:VEVENT
DTSTART;TZID=America/Chicago:20270506T170000
DTEND;TZID=America/Chicago:20270506T210000
DTSTAMP:20260420T011638
CREATED:20260325T222643Z
LAST-MODIFIED:20260326T192442Z
UID:10001509-1809622800-1809637200@freeportclub.com
SUMMARY:⛳ Men’s League
DESCRIPTION:
URL:https://freeportclub.com/event/mens-league/2027-05-06/
LOCATION:The Freeport Club\, 1614 South Park Boulevard\, Freeport\, IL\, 61032\, United States
END:VEVENT
BEGIN:VEVENT
DTSTART;TZID=America/Chicago:20270507T170000
DTEND;TZID=America/Chicago:20270507T203000
DTSTAMP:20260420T011638
CREATED:20260325T222342Z
LAST-MODIFIED:20260326T192122Z
UID:10001188-1809709200-1809721800@freeportclub.com
SUMMARY:🍸 Happy Hour!
DESCRIPTION:
URL:https://freeportclub.com/event/happy-hour/2027-05-07/
LOCATION:Mousies Lounge at The Freeport Club\, 1614 South Park Boulevard\, Freeport\, IL\, 61032\, United States
END:VEVENT
BEGIN:VEVENT
DTSTART;TZID=America/Chicago:20270511T170000
DTEND;TZID=America/Chicago:20270511T213000
DTSTAMP:20260420T011638
CREATED:20260325T222543Z
LAST-MODIFIED:20260326T192448Z
UID:10001440-1810054800-1810071000@freeportclub.com
SUMMARY:⛳ Ladies League
DESCRIPTION:
URL:https://freeportclub.com/event/ladies-league/2027-05-11/
LOCATION:The Freeport Club\, 1614 South Park Boulevard\, Freeport\, IL\, 61032\, United States
END:VEVENT
BEGIN:VEVENT
DTSTART;TZID=America/Chicago:20270513T170000
DTEND;TZID=America/Chicago:20270513T210000
DTSTAMP:20260420T011638
CREATED:20260325T222643Z
LAST-MODIFIED:20260326T192442Z
UID:10001510-1810227600-1810242000@freeportclub.com
SUMMARY:⛳ Men’s League
DESCRIPTION:
URL:https://freeportclub.com/event/mens-league/2027-05-13/
LOCATION:The Freeport Club\, 1614 South Park Boulevard\, Freeport\, IL\, 61032\, United States
END:VEVENT
BEGIN:VEVENT
DTSTART;TZID=America/Chicago:20270514T170000
DTEND;TZID=America/Chicago:20270514T203000
DTSTAMP:20260420T011638
CREATED:20260325T222342Z
LAST-MODIFIED:20260326T192122Z
UID:10001189-1810314000-1810326600@freeportclub.com
SUMMARY:🍸 Happy Hour!
DESCRIPTION:
URL:https://freeportclub.com/event/happy-hour/2027-05-14/
LOCATION:Mousies Lounge at The Freeport Club\, 1614 South Park Boulevard\, Freeport\, IL\, 61032\, United States
END:VEVENT
BEGIN:VEVENT
DTSTART;TZID=America/Chicago:20270518T170000
DTEND;TZID=America/Chicago:20270518T213000
DTSTAMP:20260420T011638
CREATED:20260325T222543Z
LAST-MODIFIED:20260326T192448Z
UID:10001441-1810659600-1810675800@freeportclub.com
SUMMARY:⛳ Ladies League
DESCRIPTION:
URL:https://freeportclub.com/event/ladies-league/2027-05-18/
LOCATION:The Freeport Club\, 1614 South Park Boulevard\, Freeport\, IL\, 61032\, United States
END:VEVENT
BEGIN:VEVENT
DTSTART;TZID=America/Chicago:20270520T170000
DTEND;TZID=America/Chicago:20270520T210000
DTSTAMP:20260420T011638
CREATED:20260325T222643Z
LAST-MODIFIED:20260326T192442Z
UID:10001511-1810832400-1810846800@freeportclub.com
SUMMARY:⛳ Men’s League
DESCRIPTION:
URL:https://freeportclub.com/event/mens-league/2027-05-20/
LOCATION:The Freeport Club\, 1614 South Park Boulevard\, Freeport\, IL\, 61032\, United States
END:VEVENT
BEGIN:VEVENT
DTSTART;TZID=America/Chicago:20270521T170000
DTEND;TZID=America/Chicago:20270521T203000
DTSTAMP:20260420T011638
CREATED:20260325T222342Z
LAST-MODIFIED:20260326T192122Z
UID:10001190-1810918800-1810931400@freeportclub.com
SUMMARY:🍸 Happy Hour!
DESCRIPTION:
URL:https://freeportclub.com/event/happy-hour/2027-05-21/
LOCATION:Mousies Lounge at The Freeport Club\, 1614 South Park Boulevard\, Freeport\, IL\, 61032\, United States
END:VEVENT
BEGIN:VEVENT
DTSTART;TZID=America/Chicago:20270525T170000
DTEND;TZID=America/Chicago:20270525T213000
DTSTAMP:20260420T011638
CREATED:20260325T222543Z
LAST-MODIFIED:20260326T192448Z
UID:10001442-1811264400-1811280600@freeportclub.com
SUMMARY:⛳ Ladies League
DESCRIPTION:
URL:https://freeportclub.com/event/ladies-league/2027-05-25/
LOCATION:The Freeport Club\, 1614 South Park Boulevard\, Freeport\, IL\, 61032\, United States
END:VEVENT
BEGIN:VEVENT
DTSTART;TZID=America/Chicago:20270527T170000
DTEND;TZID=America/Chicago:20270527T210000
DTSTAMP:20260420T011638
CREATED:20260325T222643Z
LAST-MODIFIED:20260326T192442Z
UID:10001512-1811437200-1811451600@freeportclub.com
SUMMARY:⛳ Men’s League
DESCRIPTION:
URL:https://freeportclub.com/event/mens-league/2027-05-27/
LOCATION:The Freeport Club\, 1614 South Park Boulevard\, Freeport\, IL\, 61032\, United States
END:VEVENT
BEGIN:VEVENT
DTSTART;TZID=America/Chicago:20270528T170000
DTEND;TZID=America/Chicago:20270528T203000
DTSTAMP:20260420T011638
CREATED:20260325T222342Z
LAST-MODIFIED:20260326T192122Z
UID:10001191-1811523600-1811536200@freeportclub.com
SUMMARY:🍸 Happy Hour!
DESCRIPTION:
URL:https://freeportclub.com/event/happy-hour/2027-05-28/
LOCATION:Mousies Lounge at The Freeport Club\, 1614 South Park Boulevard\, Freeport\, IL\, 61032\, United States
END:VEVENT
BEGIN:VEVENT
DTSTART;TZID=America/Chicago:20270601T170000
DTEND;TZID=America/Chicago:20270601T213000
DTSTAMP:20260420T011638
CREATED:20260325T222543Z
LAST-MODIFIED:20260326T192448Z
UID:10001443-1811869200-1811885400@freeportclub.com
SUMMARY:⛳ Ladies League
DESCRIPTION:
URL:https://freeportclub.com/event/ladies-league/2027-06-01/
LOCATION:The Freeport Club\, 1614 South Park Boulevard\, Freeport\, IL\, 61032\, United States
END:VEVENT
BEGIN:VEVENT
DTSTART;TZID=America/Chicago:20270603T170000
DTEND;TZID=America/Chicago:20270603T210000
DTSTAMP:20260420T011638
CREATED:20260325T222643Z
LAST-MODIFIED:20260326T192442Z
UID:10001513-1812042000-1812056400@freeportclub.com
SUMMARY:⛳ Men’s League
DESCRIPTION:
URL:https://freeportclub.com/event/mens-league/2027-06-03/
LOCATION:The Freeport Club\, 1614 South Park Boulevard\, Freeport\, IL\, 61032\, United States
END:VEVENT
BEGIN:VEVENT
DTSTART;TZID=America/Chicago:20270604T170000
DTEND;TZID=America/Chicago:20270604T203000
DTSTAMP:20260420T011638
CREATED:20260325T222342Z
LAST-MODIFIED:20260326T192122Z
UID:10001192-1812128400-1812141000@freeportclub.com
SUMMARY:🍸 Happy Hour!
DESCRIPTION:
URL:https://freeportclub.com/event/happy-hour/2027-06-04/
LOCATION:Mousies Lounge at The Freeport Club\, 1614 South Park Boulevard\, Freeport\, IL\, 61032\, United States
END:VEVENT
BEGIN:VEVENT
DTSTART;TZID=America/Chicago:20270608T170000
DTEND;TZID=America/Chicago:20270608T213000
DTSTAMP:20260420T011638
CREATED:20260325T222543Z
LAST-MODIFIED:20260326T192448Z
UID:10001444-1812474000-1812490200@freeportclub.com
SUMMARY:⛳ Ladies League
DESCRIPTION:
URL:https://freeportclub.com/event/ladies-league/2027-06-08/
LOCATION:The Freeport Club\, 1614 South Park Boulevard\, Freeport\, IL\, 61032\, United States
END:VEVENT
BEGIN:VEVENT
DTSTART;TZID=America/Chicago:20270610T170000
DTEND;TZID=America/Chicago:20270610T210000
DTSTAMP:20260420T011638
CREATED:20260325T222643Z
LAST-MODIFIED:20260326T192442Z
UID:10001514-1812646800-1812661200@freeportclub.com
SUMMARY:⛳ Men’s League
DESCRIPTION:
URL:https://freeportclub.com/event/mens-league/2027-06-10/
LOCATION:The Freeport Club\, 1614 South Park Boulevard\, Freeport\, IL\, 61032\, United States
END:VEVENT
BEGIN:VEVENT
DTSTART;TZID=America/Chicago:20270611T170000
DTEND;TZID=America/Chicago:20270611T203000
DTSTAMP:20260420T011638
CREATED:20260325T222342Z
LAST-MODIFIED:20260326T192122Z
UID:10001193-1812733200-1812745800@freeportclub.com
SUMMARY:🍸 Happy Hour!
DESCRIPTION:
URL:https://freeportclub.com/event/happy-hour/2027-06-11/
LOCATION:Mousies Lounge at The Freeport Club\, 1614 South Park Boulevard\, Freeport\, IL\, 61032\, United States
END:VEVENT
BEGIN:VEVENT
DTSTART;TZID=America/Chicago:20270615T170000
DTEND;TZID=America/Chicago:20270615T213000
DTSTAMP:20260420T011638
CREATED:20260325T222543Z
LAST-MODIFIED:20260326T192448Z
UID:10001445-1813078800-1813095000@freeportclub.com
SUMMARY:⛳ Ladies League
DESCRIPTION:
URL:https://freeportclub.com/event/ladies-league/2027-06-15/
LOCATION:The Freeport Club\, 1614 South Park Boulevard\, Freeport\, IL\, 61032\, United States
END:VEVENT
BEGIN:VEVENT
DTSTART;TZID=America/Chicago:20270617T170000
DTEND;TZID=America/Chicago:20270617T210000
DTSTAMP:20260420T011638
CREATED:20260325T222643Z
LAST-MODIFIED:20260326T192442Z
UID:10001515-1813251600-1813266000@freeportclub.com
SUMMARY:⛳ Men’s League
DESCRIPTION:
URL:https://freeportclub.com/event/mens-league/2027-06-17/
LOCATION:The Freeport Club\, 1614 South Park Boulevard\, Freeport\, IL\, 61032\, United States
END:VEVENT
BEGIN:VEVENT
DTSTART;TZID=America/Chicago:20270618T170000
DTEND;TZID=America/Chicago:20270618T203000
DTSTAMP:20260420T011638
CREATED:20260325T222342Z
LAST-MODIFIED:20260326T192122Z
UID:10001194-1813338000-1813350600@freeportclub.com
SUMMARY:🍸 Happy Hour!
DESCRIPTION:
URL:https://freeportclub.com/event/happy-hour/2027-06-18/
LOCATION:Mousies Lounge at The Freeport Club\, 1614 South Park Boulevard\, Freeport\, IL\, 61032\, United States
END:VEVENT
BEGIN:VEVENT
DTSTART;TZID=America/Chicago:20270622T170000
DTEND;TZID=America/Chicago:20270622T213000
DTSTAMP:20260420T011638
CREATED:20260325T222543Z
LAST-MODIFIED:20260326T192448Z
UID:10001446-1813683600-1813699800@freeportclub.com
SUMMARY:⛳ Ladies League
DESCRIPTION:
URL:https://freeportclub.com/event/ladies-league/2027-06-22/
LOCATION:The Freeport Club\, 1614 South Park Boulevard\, Freeport\, IL\, 61032\, United States
END:VEVENT
END:VCALENDAR