BEGIN:VCALENDAR
VERSION:2.0
PRODID:-//The Freeport Club - ECPv6.15.20//NONSGML v1.0//EN
CALSCALE:GREGORIAN
METHOD:PUBLISH
X-WR-CALNAME:The Freeport Club
X-ORIGINAL-URL:https://freeportclub.com
X-WR-CALDESC:Events for The Freeport Club
REFRESH-INTERVAL;VALUE=DURATION:PT1H
X-Robots-Tag:noindex
X-PUBLISHED-TTL:PT1H
BEGIN:VTIMEZONE
TZID:America/Chicago
BEGIN:DAYLIGHT
TZOFFSETFROM:-0600
TZOFFSETTO:-0500
TZNAME:CDT
DTSTART:20250309T080000
END:DAYLIGHT
BEGIN:STANDARD
TZOFFSETFROM:-0500
TZOFFSETTO:-0600
TZNAME:CST
DTSTART:20251102T070000
END:STANDARD
BEGIN:DAYLIGHT
TZOFFSETFROM:-0600
TZOFFSETTO:-0500
TZNAME:CDT
DTSTART:20260308T080000
END:DAYLIGHT
BEGIN:STANDARD
TZOFFSETFROM:-0500
TZOFFSETTO:-0600
TZNAME:CST
DTSTART:20261101T070000
END:STANDARD
BEGIN:DAYLIGHT
TZOFFSETFROM:-0600
TZOFFSETTO:-0500
TZNAME:CDT
DTSTART:20270314T080000
END:DAYLIGHT
BEGIN:STANDARD
TZOFFSETFROM:-0500
TZOFFSETTO:-0600
TZNAME:CST
DTSTART:20271107T070000
END:STANDARD
BEGIN:DAYLIGHT
TZOFFSETFROM:-0600
TZOFFSETTO:-0500
TZNAME:CDT
DTSTART:20280312T080000
END:DAYLIGHT
BEGIN:STANDARD
TZOFFSETFROM:-0500
TZOFFSETTO:-0600
TZNAME:CST
DTSTART:20281105T070000
END:STANDARD
END:VTIMEZONE
BEGIN:VEVENT
DTSTART;TZID=America/Chicago:20261113T170000
DTEND;TZID=America/Chicago:20261113T203000
DTSTAMP:20260420T022146
CREATED:20260325T222342Z
LAST-MODIFIED:20260326T192122Z
UID:10001163-1794589200-1794601800@freeportclub.com
SUMMARY:🍸 Happy Hour!
DESCRIPTION:
URL:https://freeportclub.com/event/happy-hour/2026-11-13/
LOCATION:Mousies Lounge at The Freeport Club\, 1614 South Park Boulevard\, Freeport\, IL\, 61032\, United States
END:VEVENT
BEGIN:VEVENT
DTSTART;TZID=America/Chicago:20261117T170000
DTEND;TZID=America/Chicago:20261117T213000
DTSTAMP:20260420T022146
CREATED:20260325T222543Z
LAST-MODIFIED:20260326T192448Z
UID:10001415-1794934800-1794951000@freeportclub.com
SUMMARY:⛳ Ladies League
DESCRIPTION:
URL:https://freeportclub.com/event/ladies-league/2026-11-17/
LOCATION:The Freeport Club\, 1614 South Park Boulevard\, Freeport\, IL\, 61032\, United States
END:VEVENT
BEGIN:VEVENT
DTSTART;TZID=America/Chicago:20261119T170000
DTEND;TZID=America/Chicago:20261119T210000
DTSTAMP:20260420T022146
CREATED:20260325T222643Z
LAST-MODIFIED:20260326T192442Z
UID:10001485-1795107600-1795122000@freeportclub.com
SUMMARY:⛳ Men’s League
DESCRIPTION:
URL:https://freeportclub.com/event/mens-league/2026-11-19/
LOCATION:The Freeport Club\, 1614 South Park Boulevard\, Freeport\, IL\, 61032\, United States
END:VEVENT
BEGIN:VEVENT
DTSTART;TZID=America/Chicago:20261120T170000
DTEND;TZID=America/Chicago:20261120T203000
DTSTAMP:20260420T022146
CREATED:20260325T222342Z
LAST-MODIFIED:20260326T192122Z
UID:10001164-1795194000-1795206600@freeportclub.com
SUMMARY:🍸 Happy Hour!
DESCRIPTION:
URL:https://freeportclub.com/event/happy-hour/2026-11-20/
LOCATION:Mousies Lounge at The Freeport Club\, 1614 South Park Boulevard\, Freeport\, IL\, 61032\, United States
END:VEVENT
BEGIN:VEVENT
DTSTART;TZID=America/Chicago:20261124T170000
DTEND;TZID=America/Chicago:20261124T213000
DTSTAMP:20260420T022146
CREATED:20260325T222543Z
LAST-MODIFIED:20260326T192448Z
UID:10001416-1795539600-1795555800@freeportclub.com
SUMMARY:⛳ Ladies League
DESCRIPTION:
URL:https://freeportclub.com/event/ladies-league/2026-11-24/
LOCATION:The Freeport Club\, 1614 South Park Boulevard\, Freeport\, IL\, 61032\, United States
END:VEVENT
BEGIN:VEVENT
DTSTART;TZID=America/Chicago:20261126T170000
DTEND;TZID=America/Chicago:20261126T210000
DTSTAMP:20260420T022146
CREATED:20260325T222643Z
LAST-MODIFIED:20260326T192442Z
UID:10001486-1795712400-1795726800@freeportclub.com
SUMMARY:⛳ Men’s League
DESCRIPTION:
URL:https://freeportclub.com/event/mens-league/2026-11-26/
LOCATION:The Freeport Club\, 1614 South Park Boulevard\, Freeport\, IL\, 61032\, United States
END:VEVENT
BEGIN:VEVENT
DTSTART;TZID=America/Chicago:20261127T170000
DTEND;TZID=America/Chicago:20261127T203000
DTSTAMP:20260420T022146
CREATED:20260325T222342Z
LAST-MODIFIED:20260326T192122Z
UID:10001165-1795798800-1795811400@freeportclub.com
SUMMARY:🍸 Happy Hour!
DESCRIPTION:
URL:https://freeportclub.com/event/happy-hour/2026-11-27/
LOCATION:Mousies Lounge at The Freeport Club\, 1614 South Park Boulevard\, Freeport\, IL\, 61032\, United States
END:VEVENT
BEGIN:VEVENT
DTSTART;TZID=America/Chicago:20261201T170000
DTEND;TZID=America/Chicago:20261201T213000
DTSTAMP:20260420T022146
CREATED:20260325T222543Z
LAST-MODIFIED:20260326T192448Z
UID:10001417-1796144400-1796160600@freeportclub.com
SUMMARY:⛳ Ladies League
DESCRIPTION:
URL:https://freeportclub.com/event/ladies-league/2026-12-01/
LOCATION:The Freeport Club\, 1614 South Park Boulevard\, Freeport\, IL\, 61032\, United States
END:VEVENT
BEGIN:VEVENT
DTSTART;TZID=America/Chicago:20261203T170000
DTEND;TZID=America/Chicago:20261203T210000
DTSTAMP:20260420T022146
CREATED:20260325T222643Z
LAST-MODIFIED:20260326T192442Z
UID:10001487-1796317200-1796331600@freeportclub.com
SUMMARY:⛳ Men’s League
DESCRIPTION:
URL:https://freeportclub.com/event/mens-league/2026-12-03/
LOCATION:The Freeport Club\, 1614 South Park Boulevard\, Freeport\, IL\, 61032\, United States
END:VEVENT
BEGIN:VEVENT
DTSTART;TZID=America/Chicago:20261204T170000
DTEND;TZID=America/Chicago:20261204T203000
DTSTAMP:20260420T022147
CREATED:20260325T222342Z
LAST-MODIFIED:20260326T192122Z
UID:10001166-1796403600-1796416200@freeportclub.com
SUMMARY:🍸 Happy Hour!
DESCRIPTION:
URL:https://freeportclub.com/event/happy-hour/2026-12-04/
LOCATION:Mousies Lounge at The Freeport Club\, 1614 South Park Boulevard\, Freeport\, IL\, 61032\, United States
END:VEVENT
BEGIN:VEVENT
DTSTART;TZID=America/Chicago:20261208T170000
DTEND;TZID=America/Chicago:20261208T213000
DTSTAMP:20260420T022147
CREATED:20260325T222543Z
LAST-MODIFIED:20260326T192448Z
UID:10001418-1796749200-1796765400@freeportclub.com
SUMMARY:⛳ Ladies League
DESCRIPTION:
URL:https://freeportclub.com/event/ladies-league/2026-12-08/
LOCATION:The Freeport Club\, 1614 South Park Boulevard\, Freeport\, IL\, 61032\, United States
END:VEVENT
BEGIN:VEVENT
DTSTART;TZID=America/Chicago:20261210T170000
DTEND;TZID=America/Chicago:20261210T210000
DTSTAMP:20260420T022147
CREATED:20260325T222643Z
LAST-MODIFIED:20260326T192442Z
UID:10001488-1796922000-1796936400@freeportclub.com
SUMMARY:⛳ Men’s League
DESCRIPTION:
URL:https://freeportclub.com/event/mens-league/2026-12-10/
LOCATION:The Freeport Club\, 1614 South Park Boulevard\, Freeport\, IL\, 61032\, United States
END:VEVENT
BEGIN:VEVENT
DTSTART;TZID=America/Chicago:20261211T170000
DTEND;TZID=America/Chicago:20261211T203000
DTSTAMP:20260420T022147
CREATED:20260325T222342Z
LAST-MODIFIED:20260326T192122Z
UID:10001167-1797008400-1797021000@freeportclub.com
SUMMARY:🍸 Happy Hour!
DESCRIPTION:
URL:https://freeportclub.com/event/happy-hour/2026-12-11/
LOCATION:Mousies Lounge at The Freeport Club\, 1614 South Park Boulevard\, Freeport\, IL\, 61032\, United States
END:VEVENT
BEGIN:VEVENT
DTSTART;TZID=America/Chicago:20261215T170000
DTEND;TZID=America/Chicago:20261215T213000
DTSTAMP:20260420T022147
CREATED:20260325T222543Z
LAST-MODIFIED:20260326T192448Z
UID:10001419-1797354000-1797370200@freeportclub.com
SUMMARY:⛳ Ladies League
DESCRIPTION:
URL:https://freeportclub.com/event/ladies-league/2026-12-15/
LOCATION:The Freeport Club\, 1614 South Park Boulevard\, Freeport\, IL\, 61032\, United States
END:VEVENT
BEGIN:VEVENT
DTSTART;TZID=America/Chicago:20261217T170000
DTEND;TZID=America/Chicago:20261217T210000
DTSTAMP:20260420T022147
CREATED:20260325T222643Z
LAST-MODIFIED:20260326T192442Z
UID:10001489-1797526800-1797541200@freeportclub.com
SUMMARY:⛳ Men’s League
DESCRIPTION:
URL:https://freeportclub.com/event/mens-league/2026-12-17/
LOCATION:The Freeport Club\, 1614 South Park Boulevard\, Freeport\, IL\, 61032\, United States
END:VEVENT
BEGIN:VEVENT
DTSTART;TZID=America/Chicago:20261218T170000
DTEND;TZID=America/Chicago:20261218T203000
DTSTAMP:20260420T022147
CREATED:20260325T222342Z
LAST-MODIFIED:20260326T192122Z
UID:10001168-1797613200-1797625800@freeportclub.com
SUMMARY:🍸 Happy Hour!
DESCRIPTION:
URL:https://freeportclub.com/event/happy-hour/2026-12-18/
LOCATION:Mousies Lounge at The Freeport Club\, 1614 South Park Boulevard\, Freeport\, IL\, 61032\, United States
END:VEVENT
BEGIN:VEVENT
DTSTART;TZID=America/Chicago:20261222T170000
DTEND;TZID=America/Chicago:20261222T213000
DTSTAMP:20260420T022147
CREATED:20260325T222543Z
LAST-MODIFIED:20260326T192448Z
UID:10001420-1797958800-1797975000@freeportclub.com
SUMMARY:⛳ Ladies League
DESCRIPTION:
URL:https://freeportclub.com/event/ladies-league/2026-12-22/
LOCATION:The Freeport Club\, 1614 South Park Boulevard\, Freeport\, IL\, 61032\, United States
END:VEVENT
BEGIN:VEVENT
DTSTART;TZID=America/Chicago:20261224T170000
DTEND;TZID=America/Chicago:20261224T210000
DTSTAMP:20260420T022147
CREATED:20260325T222643Z
LAST-MODIFIED:20260326T192442Z
UID:10001490-1798131600-1798146000@freeportclub.com
SUMMARY:⛳ Men’s League
DESCRIPTION:
URL:https://freeportclub.com/event/mens-league/2026-12-24/
LOCATION:The Freeport Club\, 1614 South Park Boulevard\, Freeport\, IL\, 61032\, United States
END:VEVENT
BEGIN:VEVENT
DTSTART;TZID=America/Chicago:20261225T170000
DTEND;TZID=America/Chicago:20261225T203000
DTSTAMP:20260420T022147
CREATED:20260325T222342Z
LAST-MODIFIED:20260326T192122Z
UID:10001169-1798218000-1798230600@freeportclub.com
SUMMARY:🍸 Happy Hour!
DESCRIPTION:
URL:https://freeportclub.com/event/happy-hour/2026-12-25/
LOCATION:Mousies Lounge at The Freeport Club\, 1614 South Park Boulevard\, Freeport\, IL\, 61032\, United States
END:VEVENT
BEGIN:VEVENT
DTSTART;TZID=America/Chicago:20261229T170000
DTEND;TZID=America/Chicago:20261229T213000
DTSTAMP:20260420T022147
CREATED:20260325T222543Z
LAST-MODIFIED:20260326T192448Z
UID:10001421-1798563600-1798579800@freeportclub.com
SUMMARY:⛳ Ladies League
DESCRIPTION:
URL:https://freeportclub.com/event/ladies-league/2026-12-29/
LOCATION:The Freeport Club\, 1614 South Park Boulevard\, Freeport\, IL\, 61032\, United States
END:VEVENT
BEGIN:VEVENT
DTSTART;TZID=America/Chicago:20261231T170000
DTEND;TZID=America/Chicago:20261231T210000
DTSTAMP:20260420T022147
CREATED:20260325T222643Z
LAST-MODIFIED:20260326T192442Z
UID:10001491-1798736400-1798750800@freeportclub.com
SUMMARY:⛳ Men’s League
DESCRIPTION:
URL:https://freeportclub.com/event/mens-league/2026-12-31/
LOCATION:The Freeport Club\, 1614 South Park Boulevard\, Freeport\, IL\, 61032\, United States
END:VEVENT
BEGIN:VEVENT
DTSTART;TZID=America/Chicago:20270101T170000
DTEND;TZID=America/Chicago:20270101T203000
DTSTAMP:20260420T022147
CREATED:20260325T222342Z
LAST-MODIFIED:20260326T192122Z
UID:10001170-1798822800-1798835400@freeportclub.com
SUMMARY:🍸 Happy Hour!
DESCRIPTION:
URL:https://freeportclub.com/event/happy-hour/2027-01-01/
LOCATION:Mousies Lounge at The Freeport Club\, 1614 South Park Boulevard\, Freeport\, IL\, 61032\, United States
END:VEVENT
BEGIN:VEVENT
DTSTART;TZID=America/Chicago:20270105T170000
DTEND;TZID=America/Chicago:20270105T213000
DTSTAMP:20260420T022147
CREATED:20260325T222543Z
LAST-MODIFIED:20260326T192448Z
UID:10001422-1799168400-1799184600@freeportclub.com
SUMMARY:⛳ Ladies League
DESCRIPTION:
URL:https://freeportclub.com/event/ladies-league/2027-01-05/
LOCATION:The Freeport Club\, 1614 South Park Boulevard\, Freeport\, IL\, 61032\, United States
END:VEVENT
BEGIN:VEVENT
DTSTART;TZID=America/Chicago:20270107T170000
DTEND;TZID=America/Chicago:20270107T210000
DTSTAMP:20260420T022147
CREATED:20260325T222643Z
LAST-MODIFIED:20260326T192442Z
UID:10001492-1799341200-1799355600@freeportclub.com
SUMMARY:⛳ Men’s League
DESCRIPTION:
URL:https://freeportclub.com/event/mens-league/2027-01-07/
LOCATION:The Freeport Club\, 1614 South Park Boulevard\, Freeport\, IL\, 61032\, United States
END:VEVENT
BEGIN:VEVENT
DTSTART;TZID=America/Chicago:20270108T170000
DTEND;TZID=America/Chicago:20270108T203000
DTSTAMP:20260420T022147
CREATED:20260325T222342Z
LAST-MODIFIED:20260326T192122Z
UID:10001171-1799427600-1799440200@freeportclub.com
SUMMARY:🍸 Happy Hour!
DESCRIPTION:
URL:https://freeportclub.com/event/happy-hour/2027-01-08/
LOCATION:Mousies Lounge at The Freeport Club\, 1614 South Park Boulevard\, Freeport\, IL\, 61032\, United States
END:VEVENT
BEGIN:VEVENT
DTSTART;TZID=America/Chicago:20270112T170000
DTEND;TZID=America/Chicago:20270112T213000
DTSTAMP:20260420T022147
CREATED:20260325T222543Z
LAST-MODIFIED:20260326T192448Z
UID:10001423-1799773200-1799789400@freeportclub.com
SUMMARY:⛳ Ladies League
DESCRIPTION:
URL:https://freeportclub.com/event/ladies-league/2027-01-12/
LOCATION:The Freeport Club\, 1614 South Park Boulevard\, Freeport\, IL\, 61032\, United States
END:VEVENT
BEGIN:VEVENT
DTSTART;TZID=America/Chicago:20270114T170000
DTEND;TZID=America/Chicago:20270114T210000
DTSTAMP:20260420T022147
CREATED:20260325T222643Z
LAST-MODIFIED:20260326T192442Z
UID:10001493-1799946000-1799960400@freeportclub.com
SUMMARY:⛳ Men’s League
DESCRIPTION:
URL:https://freeportclub.com/event/mens-league/2027-01-14/
LOCATION:The Freeport Club\, 1614 South Park Boulevard\, Freeport\, IL\, 61032\, United States
END:VEVENT
BEGIN:VEVENT
DTSTART;TZID=America/Chicago:20270115T170000
DTEND;TZID=America/Chicago:20270115T203000
DTSTAMP:20260420T022147
CREATED:20260325T222342Z
LAST-MODIFIED:20260326T192122Z
UID:10001172-1800032400-1800045000@freeportclub.com
SUMMARY:🍸 Happy Hour!
DESCRIPTION:
URL:https://freeportclub.com/event/happy-hour/2027-01-15/
LOCATION:Mousies Lounge at The Freeport Club\, 1614 South Park Boulevard\, Freeport\, IL\, 61032\, United States
END:VEVENT
BEGIN:VEVENT
DTSTART;TZID=America/Chicago:20270119T170000
DTEND;TZID=America/Chicago:20270119T213000
DTSTAMP:20260420T022147
CREATED:20260325T222543Z
LAST-MODIFIED:20260326T192448Z
UID:10001424-1800378000-1800394200@freeportclub.com
SUMMARY:⛳ Ladies League
DESCRIPTION:
URL:https://freeportclub.com/event/ladies-league/2027-01-19/
LOCATION:The Freeport Club\, 1614 South Park Boulevard\, Freeport\, IL\, 61032\, United States
END:VEVENT
BEGIN:VEVENT
DTSTART;TZID=America/Chicago:20270121T170000
DTEND;TZID=America/Chicago:20270121T210000
DTSTAMP:20260420T022147
CREATED:20260325T222643Z
LAST-MODIFIED:20260326T192442Z
UID:10001494-1800550800-1800565200@freeportclub.com
SUMMARY:⛳ Men’s League
DESCRIPTION:
URL:https://freeportclub.com/event/mens-league/2027-01-21/
LOCATION:The Freeport Club\, 1614 South Park Boulevard\, Freeport\, IL\, 61032\, United States
END:VEVENT
END:VCALENDAR