BEGIN:VCALENDAR
VERSION:2.0
PRODID:-//The Freeport Club - ECPv6.15.20//NONSGML v1.0//EN
CALSCALE:GREGORIAN
METHOD:PUBLISH
X-ORIGINAL-URL:https://freeportclub.com
X-WR-CALDESC:Events for The Freeport Club
REFRESH-INTERVAL;VALUE=DURATION:PT1H
X-Robots-Tag:noindex
X-PUBLISHED-TTL:PT1H
BEGIN:VTIMEZONE
TZID:America/Chicago
BEGIN:DAYLIGHT
TZOFFSETFROM:-0600
TZOFFSETTO:-0500
TZNAME:CDT
DTSTART:20250309T080000
END:DAYLIGHT
BEGIN:STANDARD
TZOFFSETFROM:-0500
TZOFFSETTO:-0600
TZNAME:CST
DTSTART:20251102T070000
END:STANDARD
BEGIN:DAYLIGHT
TZOFFSETFROM:-0600
TZOFFSETTO:-0500
TZNAME:CDT
DTSTART:20260308T080000
END:DAYLIGHT
BEGIN:STANDARD
TZOFFSETFROM:-0500
TZOFFSETTO:-0600
TZNAME:CST
DTSTART:20261101T070000
END:STANDARD
BEGIN:DAYLIGHT
TZOFFSETFROM:-0600
TZOFFSETTO:-0500
TZNAME:CDT
DTSTART:20270314T080000
END:DAYLIGHT
BEGIN:STANDARD
TZOFFSETFROM:-0500
TZOFFSETTO:-0600
TZNAME:CST
DTSTART:20271107T070000
END:STANDARD
END:VTIMEZONE
BEGIN:VEVENT
DTSTART;TZID=America/Chicago:20260419T110000
DTEND;TZID=America/Chicago:20260419T150000
DTSTAMP:20260419T165044
CREATED:20260325T215903Z
LAST-MODIFIED:20260326T192752Z
UID:10001097-1776596400-1776610800@freeportclub.com
SUMMARY:🍴 LADIES LUNCHEON
DESCRIPTION:
URL:https://freeportclub.com/event/ladies-luncheon/
LOCATION:Mousies Lounge at The Freeport Club\, 1614 South Park Boulevard\, Freeport\, IL\, 61032\, United States
CATEGORIES:Non-Golf Events
ATTACH;FMTTYPE=image/jpeg:https://freeportclub.com/wp-content/uploads/2026/03/ladiesday.jpeg
END:VEVENT
BEGIN:VEVENT
DTSTART;TZID=America/Chicago:20260424T080000
DTEND;TZID=America/Chicago:20260424T170000
DTSTAMP:20260419T165044
CREATED:20260325T215945Z
LAST-MODIFIED:20260326T192746Z
UID:10001098-1777017600-1777050000@freeportclub.com
SUMMARY:🍴 KIWANIS RAFFLE
DESCRIPTION:
URL:https://freeportclub.com/event/kiwanis-raffle/
LOCATION:Mousies Lounge at The Freeport Club\, 1614 South Park Boulevard\, Freeport\, IL\, 61032\, United States
END:VEVENT
BEGIN:VEVENT
DTSTART;TZID=America/Chicago:20260424T160000
DTEND;TZID=America/Chicago:20260424T230000
DTSTAMP:20260419T165044
CREATED:20260326T192047Z
LAST-MODIFIED:20260326T192842Z
UID:10001532-1777046400-1777071600@freeportclub.com
SUMMARY:🚫 NO HAPPY HOUR | PRIVATE EVENT
DESCRIPTION:
URL:https://freeportclub.com/event/no-happy-hour-private-event/2026-04-24/
LOCATION:Mousies Lounge at The Freeport Club\, 1614 South Park Boulevard\, Freeport\, IL\, 61032\, United States
CATEGORIES:Mousie's Upstairs Lounge
END:VEVENT
BEGIN:VEVENT
DTSTART;TZID=America/Chicago:20260426T093000
DTEND;TZID=America/Chicago:20260426T150000
DTSTAMP:20260419T165044
CREATED:20260325T220011Z
LAST-MODIFIED:20260401T200025Z
UID:10001099-1777195800-1777215600@freeportclub.com
SUMMARY:⛳ $PRING $CRAMBLE
DESCRIPTION:
URL:https://freeportclub.com/event/pring-cramble/
LOCATION:The Freeport Club\, 1614 South Park Boulevard\, Freeport\, IL\, 61032\, United States
ATTACH;FMTTYPE=image/png:https://freeportclub.com/wp-content/uploads/2026/03/2026-Spring-Scramble.png
END:VEVENT
BEGIN:VEVENT
DTSTART;TZID=America/Chicago:20260501T170000
DTEND;TZID=America/Chicago:20260501T203000
DTSTAMP:20260419T165044
CREATED:20260325T222342Z
LAST-MODIFIED:20260326T192122Z
UID:10001135-1777654800-1777667400@freeportclub.com
SUMMARY:🍸 Happy Hour!
DESCRIPTION:
URL:https://freeportclub.com/event/happy-hour/2026-05-01/
LOCATION:Mousies Lounge at The Freeport Club\, 1614 South Park Boulevard\, Freeport\, IL\, 61032\, United States
END:VEVENT
BEGIN:VEVENT
DTSTART;TZID=America/Chicago:20260501T170000
DTEND;TZID=America/Chicago:20260501T210000
DTSTAMP:20260419T165044
CREATED:20260325T220245Z
LAST-MODIFIED:20260326T192535Z
UID:10001100-1777654800-1777669200@freeportclub.com
SUMMARY:⛳ Sponge Bob (9H)
DESCRIPTION:
URL:https://freeportclub.com/event/sponge-bob-9h/
LOCATION:The Freeport Club\, 1614 South Park Boulevard\, Freeport\, IL\, 61032\, United States
END:VEVENT
BEGIN:VEVENT
DTSTART;TZID=America/Chicago:20260502T000000
DTEND;TZID=America/Chicago:20260502T000000
DTSTAMP:20260419T165044
CREATED:20260325T221109Z
LAST-MODIFIED:20260325T221954Z
UID:10001101-1777680000-1777680000@freeportclub.com
SUMMARY:Kentucky Derby Event
DESCRIPTION:
URL:https://freeportclub.com/event/kentucky-derby-event/
LOCATION:The Freeport Club\, 1614 South Park Boulevard\, Freeport\, IL\, 61032\, United States
END:VEVENT
BEGIN:VEVENT
DTSTART;TZID=America/Chicago:20260508T170000
DTEND;TZID=America/Chicago:20260508T203000
DTSTAMP:20260419T165044
CREATED:20260325T222342Z
LAST-MODIFIED:20260326T192122Z
UID:10001136-1778259600-1778272200@freeportclub.com
SUMMARY:🍸 Happy Hour!
DESCRIPTION:
URL:https://freeportclub.com/event/happy-hour/2026-05-08/
LOCATION:Mousies Lounge at The Freeport Club\, 1614 South Park Boulevard\, Freeport\, IL\, 61032\, United States
END:VEVENT
BEGIN:VEVENT
DTSTART;TZID=America/Chicago:20260510T000000
DTEND;TZID=America/Chicago:20260510T000000
DTSTAMP:20260419T165044
CREATED:20260325T221111Z
LAST-MODIFIED:20260325T221955Z
UID:10001102-1778371200-1778371200@freeportclub.com
SUMMARY:Mother's Day Brunch
DESCRIPTION:
URL:https://freeportclub.com/event/mothers-day-brunch/
LOCATION:The Freeport Club\, 1614 South Park Boulevard\, Freeport\, IL\, 61032\, United States
END:VEVENT
BEGIN:VEVENT
DTSTART;TZID=America/Chicago:20260515T000000
DTEND;TZID=America/Chicago:20260515T000000
DTSTAMP:20260419T165044
CREATED:20260325T221112Z
LAST-MODIFIED:20260326T192527Z
UID:10001103-1778803200-1778803200@freeportclub.com
SUMMARY:⛳ State Bank Outing
DESCRIPTION:
URL:https://freeportclub.com/event/state-bank-outing-3/
LOCATION:The Freeport Club\, 1614 South Park Boulevard\, Freeport\, IL\, 61032\, United States
END:VEVENT
BEGIN:VEVENT
DTSTART;TZID=America/Chicago:20260515T170000
DTEND;TZID=America/Chicago:20260515T203000
DTSTAMP:20260419T165044
CREATED:20260325T222342Z
LAST-MODIFIED:20260326T192122Z
UID:10001137-1778864400-1778877000@freeportclub.com
SUMMARY:🍸 Happy Hour!
DESCRIPTION:
URL:https://freeportclub.com/event/happy-hour/2026-05-15/
LOCATION:Mousies Lounge at The Freeport Club\, 1614 South Park Boulevard\, Freeport\, IL\, 61032\, United States
END:VEVENT
BEGIN:VEVENT
DTSTART;TZID=America/Chicago:20260522T000000
DTEND;TZID=America/Chicago:20260522T000000
DTSTAMP:20260419T165044
CREATED:20260325T221113Z
LAST-MODIFIED:20260326T192521Z
UID:10001104-1779408000-1779408000@freeportclub.com
SUMMARY:⛳ HCC Golf Outing
DESCRIPTION:
URL:https://freeportclub.com/event/hcc-golf-outing/
LOCATION:The Freeport Club\, 1614 South Park Boulevard\, Freeport\, IL\, 61032\, United States
END:VEVENT
BEGIN:VEVENT
DTSTART;TZID=America/Chicago:20260522T160000
DTEND;TZID=America/Chicago:20260522T230000
DTSTAMP:20260419T165044
CREATED:20260326T192047Z
LAST-MODIFIED:20260326T192842Z
UID:10001533-1779465600-1779490800@freeportclub.com
SUMMARY:🚫 NO HAPPY HOUR | PRIVATE EVENT
DESCRIPTION:
URL:https://freeportclub.com/event/no-happy-hour-private-event/2026-05-22/
LOCATION:Mousies Lounge at The Freeport Club\, 1614 South Park Boulevard\, Freeport\, IL\, 61032\, United States
CATEGORIES:Mousie's Upstairs Lounge
END:VEVENT
BEGIN:VEVENT
DTSTART;TZID=America/Chicago:20260524T000000
DTEND;TZID=America/Chicago:20260524T000000
DTSTAMP:20260419T165044
CREATED:20260325T221114Z
LAST-MODIFIED:20260326T192516Z
UID:10001105-1779580800-1779580800@freeportclub.com
SUMMARY:⛳ Greenskeeper's Revenge
DESCRIPTION:
URL:https://freeportclub.com/event/greenskeepers-revenge/
LOCATION:The Freeport Club\, 1614 South Park Boulevard\, Freeport\, IL\, 61032\, United States
END:VEVENT
BEGIN:VEVENT
DTSTART;TZID=America/Chicago:20260526T000000
DTEND;TZID=America/Chicago:20260526T000000
DTSTAMP:20260419T165044
CREATED:20260325T221128Z
LAST-MODIFIED:20260326T192511Z
UID:10001106-1779753600-1779753600@freeportclub.com
SUMMARY:⛳ Ladies League Begins
DESCRIPTION:
URL:https://freeportclub.com/event/ladies-league-begins/
LOCATION:The Freeport Club\, 1614 South Park Boulevard\, Freeport\, IL\, 61032\, United States
END:VEVENT
BEGIN:VEVENT
DTSTART;TZID=America/Chicago:20260528T000000
DTEND;TZID=America/Chicago:20260528T000000
DTSTAMP:20260419T165044
CREATED:20260325T221129Z
LAST-MODIFIED:20260326T192505Z
UID:10001107-1779926400-1779926400@freeportclub.com
SUMMARY:⛳ Men's League Begins
DESCRIPTION:
URL:https://freeportclub.com/event/mens-league-begins/
LOCATION:The Freeport Club\, 1614 South Park Boulevard\, Freeport\, IL\, 61032\, United States
END:VEVENT
BEGIN:VEVENT
DTSTART;TZID=America/Chicago:20260529T170000
DTEND;TZID=America/Chicago:20260529T203000
DTSTAMP:20260419T165044
CREATED:20260325T222342Z
LAST-MODIFIED:20260326T192122Z
UID:10001139-1780074000-1780086600@freeportclub.com
SUMMARY:🍸 Happy Hour!
DESCRIPTION:
URL:https://freeportclub.com/event/happy-hour/2026-05-29/
LOCATION:Mousies Lounge at The Freeport Club\, 1614 South Park Boulevard\, Freeport\, IL\, 61032\, United States
END:VEVENT
BEGIN:VEVENT
DTSTART;TZID=America/Chicago:20260530T000000
DTEND;TZID=America/Chicago:20260530T000000
DTSTAMP:20260419T165044
CREATED:20260325T221130Z
LAST-MODIFIED:20260326T192500Z
UID:10001108-1780099200-1780099200@freeportclub.com
SUMMARY:⛳ The Dode
DESCRIPTION:
URL:https://freeportclub.com/event/the-dode/
LOCATION:The Freeport Club\, 1614 South Park Boulevard\, Freeport\, IL\, 61032\, United States
END:VEVENT
BEGIN:VEVENT
DTSTART;TZID=America/Chicago:20260602T000000
DTEND;TZID=America/Chicago:20260602T000000
DTSTAMP:20260419T165044
CREATED:20260325T221131Z
LAST-MODIFIED:20260326T192454Z
UID:10001109-1780358400-1780358400@freeportclub.com
SUMMARY:⛳ Ladies Invitational
DESCRIPTION:
URL:https://freeportclub.com/event/ladies-invitational-2/
LOCATION:The Freeport Club\, 1614 South Park Boulevard\, Freeport\, IL\, 61032\, United States
END:VEVENT
BEGIN:VEVENT
DTSTART;TZID=America/Chicago:20260602T170000
DTEND;TZID=America/Chicago:20260602T213000
DTSTAMP:20260419T165044
CREATED:20260325T222543Z
LAST-MODIFIED:20260326T192448Z
UID:10001391-1780419600-1780435800@freeportclub.com
SUMMARY:⛳ Ladies League
DESCRIPTION:
URL:https://freeportclub.com/event/ladies-league/2026-06-02/
LOCATION:The Freeport Club\, 1614 South Park Boulevard\, Freeport\, IL\, 61032\, United States
END:VEVENT
BEGIN:VEVENT
DTSTART;TZID=America/Chicago:20260604T170000
DTEND;TZID=America/Chicago:20260604T210000
DTSTAMP:20260419T165044
CREATED:20260325T222643Z
LAST-MODIFIED:20260326T192442Z
UID:10001461-1780592400-1780606800@freeportclub.com
SUMMARY:⛳ Men’s League
DESCRIPTION:
URL:https://freeportclub.com/event/mens-league/2026-06-04/
LOCATION:The Freeport Club\, 1614 South Park Boulevard\, Freeport\, IL\, 61032\, United States
END:VEVENT
BEGIN:VEVENT
DTSTART;TZID=America/Chicago:20260605T170000
DTEND;TZID=America/Chicago:20260605T203000
DTSTAMP:20260419T165044
CREATED:20260325T222342Z
LAST-MODIFIED:20260326T192122Z
UID:10001140-1780678800-1780691400@freeportclub.com
SUMMARY:🍸 Happy Hour!
DESCRIPTION:
URL:https://freeportclub.com/event/happy-hour/2026-06-05/
LOCATION:Mousies Lounge at The Freeport Club\, 1614 South Park Boulevard\, Freeport\, IL\, 61032\, United States
END:VEVENT
BEGIN:VEVENT
DTSTART;TZID=America/Chicago:20260609T170000
DTEND;TZID=America/Chicago:20260609T213000
DTSTAMP:20260419T165044
CREATED:20260325T222543Z
LAST-MODIFIED:20260326T192448Z
UID:10001392-1781024400-1781040600@freeportclub.com
SUMMARY:⛳ Ladies League
DESCRIPTION:
URL:https://freeportclub.com/event/ladies-league/2026-06-09/
LOCATION:The Freeport Club\, 1614 South Park Boulevard\, Freeport\, IL\, 61032\, United States
END:VEVENT
BEGIN:VEVENT
DTSTART;TZID=America/Chicago:20260611T170000
DTEND;TZID=America/Chicago:20260611T210000
DTSTAMP:20260419T165044
CREATED:20260325T222643Z
LAST-MODIFIED:20260326T192442Z
UID:10001462-1781197200-1781211600@freeportclub.com
SUMMARY:⛳ Men’s League
DESCRIPTION:
URL:https://freeportclub.com/event/mens-league/2026-06-11/
LOCATION:The Freeport Club\, 1614 South Park Boulevard\, Freeport\, IL\, 61032\, United States
END:VEVENT
BEGIN:VEVENT
DTSTART;TZID=America/Chicago:20260612T170000
DTEND;TZID=America/Chicago:20260612T203000
DTSTAMP:20260419T165044
CREATED:20260325T222342Z
LAST-MODIFIED:20260326T192122Z
UID:10001141-1781283600-1781296200@freeportclub.com
SUMMARY:🍸 Happy Hour!
DESCRIPTION:
URL:https://freeportclub.com/event/happy-hour/2026-06-12/
LOCATION:Mousies Lounge at The Freeport Club\, 1614 South Park Boulevard\, Freeport\, IL\, 61032\, United States
END:VEVENT
BEGIN:VEVENT
DTSTART;TZID=America/Chicago:20260616T170000
DTEND;TZID=America/Chicago:20260616T213000
DTSTAMP:20260419T165044
CREATED:20260325T222543Z
LAST-MODIFIED:20260326T192448Z
UID:10001393-1781629200-1781645400@freeportclub.com
SUMMARY:⛳ Ladies League
DESCRIPTION:
URL:https://freeportclub.com/event/ladies-league/2026-06-16/
LOCATION:The Freeport Club\, 1614 South Park Boulevard\, Freeport\, IL\, 61032\, United States
END:VEVENT
BEGIN:VEVENT
DTSTART;TZID=America/Chicago:20260618T170000
DTEND;TZID=America/Chicago:20260618T210000
DTSTAMP:20260419T165044
CREATED:20260325T222643Z
LAST-MODIFIED:20260326T192442Z
UID:10001463-1781802000-1781816400@freeportclub.com
SUMMARY:⛳ Men’s League
DESCRIPTION:
URL:https://freeportclub.com/event/mens-league/2026-06-18/
LOCATION:The Freeport Club\, 1614 South Park Boulevard\, Freeport\, IL\, 61032\, United States
END:VEVENT
BEGIN:VEVENT
DTSTART;TZID=America/Chicago:20260619T170000
DTEND;TZID=America/Chicago:20260619T203000
DTSTAMP:20260419T165044
CREATED:20260325T222342Z
LAST-MODIFIED:20260326T192122Z
UID:10001142-1781888400-1781901000@freeportclub.com
SUMMARY:🍸 Happy Hour!
DESCRIPTION:
URL:https://freeportclub.com/event/happy-hour/2026-06-19/
LOCATION:Mousies Lounge at The Freeport Club\, 1614 South Park Boulevard\, Freeport\, IL\, 61032\, United States
END:VEVENT
BEGIN:VEVENT
DTSTART;TZID=America/Chicago:20260621T000000
DTEND;TZID=America/Chicago:20260621T000000
DTSTAMP:20260419T165044
CREATED:20260325T221132Z
LAST-MODIFIED:20260326T192727Z
UID:10001110-1782000000-1782000000@freeportclub.com
SUMMARY:🍴 Father's Day BBQ
DESCRIPTION:
URL:https://freeportclub.com/event/fathers-day-bbq/
LOCATION:The Freeport Club\, 1614 South Park Boulevard\, Freeport\, IL\, 61032\, United States
END:VEVENT
BEGIN:VEVENT
DTSTART;TZID=America/Chicago:20260623T000000
DTEND;TZID=America/Chicago:20260623T000000
DTSTAMP:20260419T165044
CREATED:20260325T221300Z
LAST-MODIFIED:20260326T192414Z
UID:10001111-1782172800-1782172800@freeportclub.com
SUMMARY:⛳ Sen Chesney Outing
DESCRIPTION:
URL:https://freeportclub.com/event/sen-chesney-outing/
LOCATION:The Freeport Club\, 1614 South Park Boulevard\, Freeport\, IL\, 61032\, United States
END:VEVENT
END:VCALENDAR