BEGIN:VCALENDAR
VERSION:2.0
PRODID:-//The Freeport Club - ECPv6.15.20//NONSGML v1.0//EN
CALSCALE:GREGORIAN
METHOD:PUBLISH
X-ORIGINAL-URL:https://freeportclub.com
X-WR-CALDESC:Events for The Freeport Club
REFRESH-INTERVAL;VALUE=DURATION:PT1H
X-Robots-Tag:noindex
X-PUBLISHED-TTL:PT1H
BEGIN:VTIMEZONE
TZID:America/Chicago
BEGIN:DAYLIGHT
TZOFFSETFROM:-0600
TZOFFSETTO:-0500
TZNAME:CDT
DTSTART:20290311T080000
END:DAYLIGHT
BEGIN:STANDARD
TZOFFSETFROM:-0500
TZOFFSETTO:-0600
TZNAME:CST
DTSTART:20291104T070000
END:STANDARD
BEGIN:DAYLIGHT
TZOFFSETFROM:-0600
TZOFFSETTO:-0500
TZNAME:CDT
DTSTART:20300310T080000
END:DAYLIGHT
BEGIN:STANDARD
TZOFFSETFROM:-0500
TZOFFSETTO:-0600
TZNAME:CST
DTSTART:20301103T070000
END:STANDARD
BEGIN:DAYLIGHT
TZOFFSETFROM:-0600
TZOFFSETTO:-0500
TZNAME:CDT
DTSTART:20310309T080000
END:DAYLIGHT
BEGIN:STANDARD
TZOFFSETFROM:-0500
TZOFFSETTO:-0600
TZNAME:CST
DTSTART:20311102T070000
END:STANDARD
END:VTIMEZONE
BEGIN:VEVENT
DTSTART;TZID=America/Chicago:20300419T170000
DTEND;TZID=America/Chicago:20300419T203000
DTSTAMP:20260420T134752
CREATED:20260325T222342Z
LAST-MODIFIED:20260326T192122Z
UID:10001342-1902848400-1902861000@freeportclub.com
SUMMARY:🍸 Happy Hour!
DESCRIPTION:
URL:https://freeportclub.com/event/happy-hour/2030-04-19/
LOCATION:Mousies Lounge at The Freeport Club\, 1614 South Park Boulevard\, Freeport\, IL\, 61032\, United States
END:VEVENT
BEGIN:VEVENT
DTSTART;TZID=America/Chicago:20300426T170000
DTEND;TZID=America/Chicago:20300426T203000
DTSTAMP:20260420T134752
CREATED:20260325T222342Z
LAST-MODIFIED:20260326T192122Z
UID:10001343-1903453200-1903465800@freeportclub.com
SUMMARY:🍸 Happy Hour!
DESCRIPTION:
URL:https://freeportclub.com/event/happy-hour/2030-04-26/
LOCATION:Mousies Lounge at The Freeport Club\, 1614 South Park Boulevard\, Freeport\, IL\, 61032\, United States
END:VEVENT
BEGIN:VEVENT
DTSTART;TZID=America/Chicago:20300503T170000
DTEND;TZID=America/Chicago:20300503T203000
DTSTAMP:20260420T134752
CREATED:20260325T222342Z
LAST-MODIFIED:20260326T192122Z
UID:10001344-1904058000-1904070600@freeportclub.com
SUMMARY:🍸 Happy Hour!
DESCRIPTION:
URL:https://freeportclub.com/event/happy-hour/2030-05-03/
LOCATION:Mousies Lounge at The Freeport Club\, 1614 South Park Boulevard\, Freeport\, IL\, 61032\, United States
END:VEVENT
BEGIN:VEVENT
DTSTART;TZID=America/Chicago:20300510T170000
DTEND;TZID=America/Chicago:20300510T203000
DTSTAMP:20260420T134752
CREATED:20260325T222342Z
LAST-MODIFIED:20260326T192122Z
UID:10001345-1904662800-1904675400@freeportclub.com
SUMMARY:🍸 Happy Hour!
DESCRIPTION:
URL:https://freeportclub.com/event/happy-hour/2030-05-10/
LOCATION:Mousies Lounge at The Freeport Club\, 1614 South Park Boulevard\, Freeport\, IL\, 61032\, United States
END:VEVENT
BEGIN:VEVENT
DTSTART;TZID=America/Chicago:20300517T170000
DTEND;TZID=America/Chicago:20300517T203000
DTSTAMP:20260420T134752
CREATED:20260325T222342Z
LAST-MODIFIED:20260326T192122Z
UID:10001346-1905267600-1905280200@freeportclub.com
SUMMARY:🍸 Happy Hour!
DESCRIPTION:
URL:https://freeportclub.com/event/happy-hour/2030-05-17/
LOCATION:Mousies Lounge at The Freeport Club\, 1614 South Park Boulevard\, Freeport\, IL\, 61032\, United States
END:VEVENT
BEGIN:VEVENT
DTSTART;TZID=America/Chicago:20300524T170000
DTEND;TZID=America/Chicago:20300524T203000
DTSTAMP:20260420T134752
CREATED:20260325T222342Z
LAST-MODIFIED:20260326T192122Z
UID:10001347-1905872400-1905885000@freeportclub.com
SUMMARY:🍸 Happy Hour!
DESCRIPTION:
URL:https://freeportclub.com/event/happy-hour/2030-05-24/
LOCATION:Mousies Lounge at The Freeport Club\, 1614 South Park Boulevard\, Freeport\, IL\, 61032\, United States
END:VEVENT
BEGIN:VEVENT
DTSTART;TZID=America/Chicago:20300531T170000
DTEND;TZID=America/Chicago:20300531T203000
DTSTAMP:20260420T134752
CREATED:20260325T222342Z
LAST-MODIFIED:20260326T192122Z
UID:10001348-1906477200-1906489800@freeportclub.com
SUMMARY:🍸 Happy Hour!
DESCRIPTION:
URL:https://freeportclub.com/event/happy-hour/2030-05-31/
LOCATION:Mousies Lounge at The Freeport Club\, 1614 South Park Boulevard\, Freeport\, IL\, 61032\, United States
END:VEVENT
BEGIN:VEVENT
DTSTART;TZID=America/Chicago:20300607T170000
DTEND;TZID=America/Chicago:20300607T203000
DTSTAMP:20260420T134752
CREATED:20260325T222342Z
LAST-MODIFIED:20260326T192122Z
UID:10001349-1907082000-1907094600@freeportclub.com
SUMMARY:🍸 Happy Hour!
DESCRIPTION:
URL:https://freeportclub.com/event/happy-hour/2030-06-07/
LOCATION:Mousies Lounge at The Freeport Club\, 1614 South Park Boulevard\, Freeport\, IL\, 61032\, United States
END:VEVENT
BEGIN:VEVENT
DTSTART;TZID=America/Chicago:20300614T170000
DTEND;TZID=America/Chicago:20300614T203000
DTSTAMP:20260420T134752
CREATED:20260325T222342Z
LAST-MODIFIED:20260326T192122Z
UID:10001350-1907686800-1907699400@freeportclub.com
SUMMARY:🍸 Happy Hour!
DESCRIPTION:
URL:https://freeportclub.com/event/happy-hour/2030-06-14/
LOCATION:Mousies Lounge at The Freeport Club\, 1614 South Park Boulevard\, Freeport\, IL\, 61032\, United States
END:VEVENT
BEGIN:VEVENT
DTSTART;TZID=America/Chicago:20300621T170000
DTEND;TZID=America/Chicago:20300621T203000
DTSTAMP:20260420T134752
CREATED:20260325T222342Z
LAST-MODIFIED:20260326T192122Z
UID:10001351-1908291600-1908304200@freeportclub.com
SUMMARY:🍸 Happy Hour!
DESCRIPTION:
URL:https://freeportclub.com/event/happy-hour/2030-06-21/
LOCATION:Mousies Lounge at The Freeport Club\, 1614 South Park Boulevard\, Freeport\, IL\, 61032\, United States
END:VEVENT
BEGIN:VEVENT
DTSTART;TZID=America/Chicago:20300628T170000
DTEND;TZID=America/Chicago:20300628T203000
DTSTAMP:20260420T134752
CREATED:20260325T222342Z
LAST-MODIFIED:20260326T192122Z
UID:10001352-1908896400-1908909000@freeportclub.com
SUMMARY:🍸 Happy Hour!
DESCRIPTION:
URL:https://freeportclub.com/event/happy-hour/2030-06-28/
LOCATION:Mousies Lounge at The Freeport Club\, 1614 South Park Boulevard\, Freeport\, IL\, 61032\, United States
END:VEVENT
BEGIN:VEVENT
DTSTART;TZID=America/Chicago:20300705T170000
DTEND;TZID=America/Chicago:20300705T203000
DTSTAMP:20260420T134752
CREATED:20260325T222342Z
LAST-MODIFIED:20260326T192122Z
UID:10001353-1909501200-1909513800@freeportclub.com
SUMMARY:🍸 Happy Hour!
DESCRIPTION:
URL:https://freeportclub.com/event/happy-hour/2030-07-05/
LOCATION:Mousies Lounge at The Freeport Club\, 1614 South Park Boulevard\, Freeport\, IL\, 61032\, United States
END:VEVENT
BEGIN:VEVENT
DTSTART;TZID=America/Chicago:20300712T170000
DTEND;TZID=America/Chicago:20300712T203000
DTSTAMP:20260420T134752
CREATED:20260325T222342Z
LAST-MODIFIED:20260326T192122Z
UID:10001354-1910106000-1910118600@freeportclub.com
SUMMARY:🍸 Happy Hour!
DESCRIPTION:
URL:https://freeportclub.com/event/happy-hour/2030-07-12/
LOCATION:Mousies Lounge at The Freeport Club\, 1614 South Park Boulevard\, Freeport\, IL\, 61032\, United States
END:VEVENT
BEGIN:VEVENT
DTSTART;TZID=America/Chicago:20300719T170000
DTEND;TZID=America/Chicago:20300719T203000
DTSTAMP:20260420T134752
CREATED:20260325T222342Z
LAST-MODIFIED:20260326T192122Z
UID:10001355-1910710800-1910723400@freeportclub.com
SUMMARY:🍸 Happy Hour!
DESCRIPTION:
URL:https://freeportclub.com/event/happy-hour/2030-07-19/
LOCATION:Mousies Lounge at The Freeport Club\, 1614 South Park Boulevard\, Freeport\, IL\, 61032\, United States
END:VEVENT
BEGIN:VEVENT
DTSTART;TZID=America/Chicago:20300726T170000
DTEND;TZID=America/Chicago:20300726T203000
DTSTAMP:20260420T134752
CREATED:20260325T222342Z
LAST-MODIFIED:20260326T192122Z
UID:10001356-1911315600-1911328200@freeportclub.com
SUMMARY:🍸 Happy Hour!
DESCRIPTION:
URL:https://freeportclub.com/event/happy-hour/2030-07-26/
LOCATION:Mousies Lounge at The Freeport Club\, 1614 South Park Boulevard\, Freeport\, IL\, 61032\, United States
END:VEVENT
BEGIN:VEVENT
DTSTART;TZID=America/Chicago:20300802T170000
DTEND;TZID=America/Chicago:20300802T203000
DTSTAMP:20260420T134752
CREATED:20260325T222342Z
LAST-MODIFIED:20260326T192122Z
UID:10001357-1911920400-1911933000@freeportclub.com
SUMMARY:🍸 Happy Hour!
DESCRIPTION:
URL:https://freeportclub.com/event/happy-hour/2030-08-02/
LOCATION:Mousies Lounge at The Freeport Club\, 1614 South Park Boulevard\, Freeport\, IL\, 61032\, United States
END:VEVENT
BEGIN:VEVENT
DTSTART;TZID=America/Chicago:20300809T170000
DTEND;TZID=America/Chicago:20300809T203000
DTSTAMP:20260420T134752
CREATED:20260325T222342Z
LAST-MODIFIED:20260326T192122Z
UID:10001358-1912525200-1912537800@freeportclub.com
SUMMARY:🍸 Happy Hour!
DESCRIPTION:
URL:https://freeportclub.com/event/happy-hour/2030-08-09/
LOCATION:Mousies Lounge at The Freeport Club\, 1614 South Park Boulevard\, Freeport\, IL\, 61032\, United States
END:VEVENT
BEGIN:VEVENT
DTSTART;TZID=America/Chicago:20300816T170000
DTEND;TZID=America/Chicago:20300816T203000
DTSTAMP:20260420T134752
CREATED:20260325T222342Z
LAST-MODIFIED:20260326T192122Z
UID:10001359-1913130000-1913142600@freeportclub.com
SUMMARY:🍸 Happy Hour!
DESCRIPTION:
URL:https://freeportclub.com/event/happy-hour/2030-08-16/
LOCATION:Mousies Lounge at The Freeport Club\, 1614 South Park Boulevard\, Freeport\, IL\, 61032\, United States
END:VEVENT
BEGIN:VEVENT
DTSTART;TZID=America/Chicago:20300823T170000
DTEND;TZID=America/Chicago:20300823T203000
DTSTAMP:20260420T134752
CREATED:20260325T222342Z
LAST-MODIFIED:20260326T192122Z
UID:10001360-1913734800-1913747400@freeportclub.com
SUMMARY:🍸 Happy Hour!
DESCRIPTION:
URL:https://freeportclub.com/event/happy-hour/2030-08-23/
LOCATION:Mousies Lounge at The Freeport Club\, 1614 South Park Boulevard\, Freeport\, IL\, 61032\, United States
END:VEVENT
BEGIN:VEVENT
DTSTART;TZID=America/Chicago:20300830T170000
DTEND;TZID=America/Chicago:20300830T203000
DTSTAMP:20260420T134752
CREATED:20260325T222342Z
LAST-MODIFIED:20260326T192122Z
UID:10001361-1914339600-1914352200@freeportclub.com
SUMMARY:🍸 Happy Hour!
DESCRIPTION:
URL:https://freeportclub.com/event/happy-hour/2030-08-30/
LOCATION:Mousies Lounge at The Freeport Club\, 1614 South Park Boulevard\, Freeport\, IL\, 61032\, United States
END:VEVENT
BEGIN:VEVENT
DTSTART;TZID=America/Chicago:20300906T170000
DTEND;TZID=America/Chicago:20300906T203000
DTSTAMP:20260420T134752
CREATED:20260325T222342Z
LAST-MODIFIED:20260326T192122Z
UID:10001362-1914944400-1914957000@freeportclub.com
SUMMARY:🍸 Happy Hour!
DESCRIPTION:
URL:https://freeportclub.com/event/happy-hour/2030-09-06/
LOCATION:Mousies Lounge at The Freeport Club\, 1614 South Park Boulevard\, Freeport\, IL\, 61032\, United States
END:VEVENT
BEGIN:VEVENT
DTSTART;TZID=America/Chicago:20300913T170000
DTEND;TZID=America/Chicago:20300913T203000
DTSTAMP:20260420T134752
CREATED:20260325T222342Z
LAST-MODIFIED:20260326T192122Z
UID:10001363-1915549200-1915561800@freeportclub.com
SUMMARY:🍸 Happy Hour!
DESCRIPTION:
URL:https://freeportclub.com/event/happy-hour/2030-09-13/
LOCATION:Mousies Lounge at The Freeport Club\, 1614 South Park Boulevard\, Freeport\, IL\, 61032\, United States
END:VEVENT
BEGIN:VEVENT
DTSTART;TZID=America/Chicago:20300920T170000
DTEND;TZID=America/Chicago:20300920T203000
DTSTAMP:20260420T134752
CREATED:20260325T222342Z
LAST-MODIFIED:20260326T192122Z
UID:10001364-1916154000-1916166600@freeportclub.com
SUMMARY:🍸 Happy Hour!
DESCRIPTION:
URL:https://freeportclub.com/event/happy-hour/2030-09-20/
LOCATION:Mousies Lounge at The Freeport Club\, 1614 South Park Boulevard\, Freeport\, IL\, 61032\, United States
END:VEVENT
BEGIN:VEVENT
DTSTART;TZID=America/Chicago:20300927T170000
DTEND;TZID=America/Chicago:20300927T203000
DTSTAMP:20260420T134752
CREATED:20260325T222342Z
LAST-MODIFIED:20260326T192122Z
UID:10001365-1916758800-1916771400@freeportclub.com
SUMMARY:🍸 Happy Hour!
DESCRIPTION:
URL:https://freeportclub.com/event/happy-hour/2030-09-27/
LOCATION:Mousies Lounge at The Freeport Club\, 1614 South Park Boulevard\, Freeport\, IL\, 61032\, United States
END:VEVENT
BEGIN:VEVENT
DTSTART;TZID=America/Chicago:20301004T170000
DTEND;TZID=America/Chicago:20301004T203000
DTSTAMP:20260420T134752
CREATED:20260325T222342Z
LAST-MODIFIED:20260326T192122Z
UID:10001366-1917363600-1917376200@freeportclub.com
SUMMARY:🍸 Happy Hour!
DESCRIPTION:
URL:https://freeportclub.com/event/happy-hour/2030-10-04/
LOCATION:Mousies Lounge at The Freeport Club\, 1614 South Park Boulevard\, Freeport\, IL\, 61032\, United States
END:VEVENT
BEGIN:VEVENT
DTSTART;TZID=America/Chicago:20301011T170000
DTEND;TZID=America/Chicago:20301011T203000
DTSTAMP:20260420T134752
CREATED:20260325T222342Z
LAST-MODIFIED:20260326T192122Z
UID:10001367-1917968400-1917981000@freeportclub.com
SUMMARY:🍸 Happy Hour!
DESCRIPTION:
URL:https://freeportclub.com/event/happy-hour/2030-10-11/
LOCATION:Mousies Lounge at The Freeport Club\, 1614 South Park Boulevard\, Freeport\, IL\, 61032\, United States
END:VEVENT
BEGIN:VEVENT
DTSTART;TZID=America/Chicago:20301018T170000
DTEND;TZID=America/Chicago:20301018T203000
DTSTAMP:20260420T134752
CREATED:20260325T222342Z
LAST-MODIFIED:20260326T192122Z
UID:10001368-1918573200-1918585800@freeportclub.com
SUMMARY:🍸 Happy Hour!
DESCRIPTION:
URL:https://freeportclub.com/event/happy-hour/2030-10-18/
LOCATION:Mousies Lounge at The Freeport Club\, 1614 South Park Boulevard\, Freeport\, IL\, 61032\, United States
END:VEVENT
BEGIN:VEVENT
DTSTART;TZID=America/Chicago:20301025T170000
DTEND;TZID=America/Chicago:20301025T203000
DTSTAMP:20260420T134752
CREATED:20260325T222342Z
LAST-MODIFIED:20260326T192122Z
UID:10001369-1919178000-1919190600@freeportclub.com
SUMMARY:🍸 Happy Hour!
DESCRIPTION:
URL:https://freeportclub.com/event/happy-hour/2030-10-25/
LOCATION:Mousies Lounge at The Freeport Club\, 1614 South Park Boulevard\, Freeport\, IL\, 61032\, United States
END:VEVENT
BEGIN:VEVENT
DTSTART;TZID=America/Chicago:20301101T170000
DTEND;TZID=America/Chicago:20301101T203000
DTSTAMP:20260420T134752
CREATED:20260325T222342Z
LAST-MODIFIED:20260326T192122Z
UID:10001370-1919782800-1919795400@freeportclub.com
SUMMARY:🍸 Happy Hour!
DESCRIPTION:
URL:https://freeportclub.com/event/happy-hour/2030-11-01/
LOCATION:Mousies Lounge at The Freeport Club\, 1614 South Park Boulevard\, Freeport\, IL\, 61032\, United States
END:VEVENT
BEGIN:VEVENT
DTSTART;TZID=America/Chicago:20301108T170000
DTEND;TZID=America/Chicago:20301108T203000
DTSTAMP:20260420T134752
CREATED:20260325T222342Z
LAST-MODIFIED:20260326T192122Z
UID:10001371-1920387600-1920400200@freeportclub.com
SUMMARY:🍸 Happy Hour!
DESCRIPTION:
URL:https://freeportclub.com/event/happy-hour/2030-11-08/
LOCATION:Mousies Lounge at The Freeport Club\, 1614 South Park Boulevard\, Freeport\, IL\, 61032\, United States
END:VEVENT
END:VCALENDAR