BEGIN:VCALENDAR
VERSION:2.0
PRODID:-//The Freeport Club - ECPv6.15.20//NONSGML v1.0//EN
CALSCALE:GREGORIAN
METHOD:PUBLISH
X-ORIGINAL-URL:https://freeportclub.com
X-WR-CALDESC:Events for The Freeport Club
REFRESH-INTERVAL;VALUE=DURATION:PT1H
X-Robots-Tag:noindex
X-PUBLISHED-TTL:PT1H
BEGIN:VTIMEZONE
TZID:America/Chicago
BEGIN:DAYLIGHT
TZOFFSETFROM:-0600
TZOFFSETTO:-0500
TZNAME:CDT
DTSTART:20280312T080000
END:DAYLIGHT
BEGIN:STANDARD
TZOFFSETFROM:-0500
TZOFFSETTO:-0600
TZNAME:CST
DTSTART:20281105T070000
END:STANDARD
BEGIN:DAYLIGHT
TZOFFSETFROM:-0600
TZOFFSETTO:-0500
TZNAME:CDT
DTSTART:20290311T080000
END:DAYLIGHT
BEGIN:STANDARD
TZOFFSETFROM:-0500
TZOFFSETTO:-0600
TZNAME:CST
DTSTART:20291104T070000
END:STANDARD
BEGIN:DAYLIGHT
TZOFFSETFROM:-0600
TZOFFSETTO:-0500
TZNAME:CDT
DTSTART:20300310T080000
END:DAYLIGHT
BEGIN:STANDARD
TZOFFSETFROM:-0500
TZOFFSETTO:-0600
TZNAME:CST
DTSTART:20301103T070000
END:STANDARD
BEGIN:DAYLIGHT
TZOFFSETFROM:-0600
TZOFFSETTO:-0500
TZNAME:CDT
DTSTART:20310309T080000
END:DAYLIGHT
BEGIN:STANDARD
TZOFFSETFROM:-0500
TZOFFSETTO:-0600
TZNAME:CST
DTSTART:20311102T070000
END:STANDARD
END:VTIMEZONE
BEGIN:VEVENT
DTSTART;TZID=America/Chicago:20290921T170000
DTEND;TZID=America/Chicago:20290921T203000
DTSTAMP:20260419T190348
CREATED:20260325T222342Z
LAST-MODIFIED:20260326T192122Z
UID:10001312-1884704400-1884717000@freeportclub.com
SUMMARY:🍸 Happy Hour!
DESCRIPTION:
URL:https://freeportclub.com/event/happy-hour/2029-09-21/
LOCATION:Mousies Lounge at The Freeport Club\, 1614 South Park Boulevard\, Freeport\, IL\, 61032\, United States
END:VEVENT
BEGIN:VEVENT
DTSTART;TZID=America/Chicago:20290928T170000
DTEND;TZID=America/Chicago:20290928T203000
DTSTAMP:20260419T190348
CREATED:20260325T222342Z
LAST-MODIFIED:20260326T192122Z
UID:10001313-1885309200-1885321800@freeportclub.com
SUMMARY:🍸 Happy Hour!
DESCRIPTION:
URL:https://freeportclub.com/event/happy-hour/2029-09-28/
LOCATION:Mousies Lounge at The Freeport Club\, 1614 South Park Boulevard\, Freeport\, IL\, 61032\, United States
END:VEVENT
BEGIN:VEVENT
DTSTART;TZID=America/Chicago:20291005T170000
DTEND;TZID=America/Chicago:20291005T203000
DTSTAMP:20260419T190348
CREATED:20260325T222342Z
LAST-MODIFIED:20260326T192122Z
UID:10001314-1885914000-1885926600@freeportclub.com
SUMMARY:🍸 Happy Hour!
DESCRIPTION:
URL:https://freeportclub.com/event/happy-hour/2029-10-05/
LOCATION:Mousies Lounge at The Freeport Club\, 1614 South Park Boulevard\, Freeport\, IL\, 61032\, United States
END:VEVENT
BEGIN:VEVENT
DTSTART;TZID=America/Chicago:20291012T170000
DTEND;TZID=America/Chicago:20291012T203000
DTSTAMP:20260419T190348
CREATED:20260325T222342Z
LAST-MODIFIED:20260326T192122Z
UID:10001315-1886518800-1886531400@freeportclub.com
SUMMARY:🍸 Happy Hour!
DESCRIPTION:
URL:https://freeportclub.com/event/happy-hour/2029-10-12/
LOCATION:Mousies Lounge at The Freeport Club\, 1614 South Park Boulevard\, Freeport\, IL\, 61032\, United States
END:VEVENT
BEGIN:VEVENT
DTSTART;TZID=America/Chicago:20291019T170000
DTEND;TZID=America/Chicago:20291019T203000
DTSTAMP:20260419T190348
CREATED:20260325T222342Z
LAST-MODIFIED:20260326T192122Z
UID:10001316-1887123600-1887136200@freeportclub.com
SUMMARY:🍸 Happy Hour!
DESCRIPTION:
URL:https://freeportclub.com/event/happy-hour/2029-10-19/
LOCATION:Mousies Lounge at The Freeport Club\, 1614 South Park Boulevard\, Freeport\, IL\, 61032\, United States
END:VEVENT
BEGIN:VEVENT
DTSTART;TZID=America/Chicago:20291026T170000
DTEND;TZID=America/Chicago:20291026T203000
DTSTAMP:20260419T190348
CREATED:20260325T222342Z
LAST-MODIFIED:20260326T192122Z
UID:10001317-1887728400-1887741000@freeportclub.com
SUMMARY:🍸 Happy Hour!
DESCRIPTION:
URL:https://freeportclub.com/event/happy-hour/2029-10-26/
LOCATION:Mousies Lounge at The Freeport Club\, 1614 South Park Boulevard\, Freeport\, IL\, 61032\, United States
END:VEVENT
BEGIN:VEVENT
DTSTART;TZID=America/Chicago:20291102T170000
DTEND;TZID=America/Chicago:20291102T203000
DTSTAMP:20260419T190348
CREATED:20260325T222342Z
LAST-MODIFIED:20260326T192122Z
UID:10001318-1888333200-1888345800@freeportclub.com
SUMMARY:🍸 Happy Hour!
DESCRIPTION:
URL:https://freeportclub.com/event/happy-hour/2029-11-02/
LOCATION:Mousies Lounge at The Freeport Club\, 1614 South Park Boulevard\, Freeport\, IL\, 61032\, United States
END:VEVENT
BEGIN:VEVENT
DTSTART;TZID=America/Chicago:20291109T170000
DTEND;TZID=America/Chicago:20291109T203000
DTSTAMP:20260419T190348
CREATED:20260325T222342Z
LAST-MODIFIED:20260326T192122Z
UID:10001319-1888938000-1888950600@freeportclub.com
SUMMARY:🍸 Happy Hour!
DESCRIPTION:
URL:https://freeportclub.com/event/happy-hour/2029-11-09/
LOCATION:Mousies Lounge at The Freeport Club\, 1614 South Park Boulevard\, Freeport\, IL\, 61032\, United States
END:VEVENT
BEGIN:VEVENT
DTSTART;TZID=America/Chicago:20291116T170000
DTEND;TZID=America/Chicago:20291116T203000
DTSTAMP:20260419T190348
CREATED:20260325T222342Z
LAST-MODIFIED:20260326T192122Z
UID:10001320-1889542800-1889555400@freeportclub.com
SUMMARY:🍸 Happy Hour!
DESCRIPTION:
URL:https://freeportclub.com/event/happy-hour/2029-11-16/
LOCATION:Mousies Lounge at The Freeport Club\, 1614 South Park Boulevard\, Freeport\, IL\, 61032\, United States
END:VEVENT
BEGIN:VEVENT
DTSTART;TZID=America/Chicago:20291123T170000
DTEND;TZID=America/Chicago:20291123T203000
DTSTAMP:20260419T190348
CREATED:20260325T222342Z
LAST-MODIFIED:20260326T192122Z
UID:10001321-1890147600-1890160200@freeportclub.com
SUMMARY:🍸 Happy Hour!
DESCRIPTION:
URL:https://freeportclub.com/event/happy-hour/2029-11-23/
LOCATION:Mousies Lounge at The Freeport Club\, 1614 South Park Boulevard\, Freeport\, IL\, 61032\, United States
END:VEVENT
BEGIN:VEVENT
DTSTART;TZID=America/Chicago:20291130T170000
DTEND;TZID=America/Chicago:20291130T203000
DTSTAMP:20260419T190348
CREATED:20260325T222342Z
LAST-MODIFIED:20260326T192122Z
UID:10001322-1890752400-1890765000@freeportclub.com
SUMMARY:🍸 Happy Hour!
DESCRIPTION:
URL:https://freeportclub.com/event/happy-hour/2029-11-30/
LOCATION:Mousies Lounge at The Freeport Club\, 1614 South Park Boulevard\, Freeport\, IL\, 61032\, United States
END:VEVENT
BEGIN:VEVENT
DTSTART;TZID=America/Chicago:20291207T170000
DTEND;TZID=America/Chicago:20291207T203000
DTSTAMP:20260419T190348
CREATED:20260325T222342Z
LAST-MODIFIED:20260326T192122Z
UID:10001323-1891357200-1891369800@freeportclub.com
SUMMARY:🍸 Happy Hour!
DESCRIPTION:
URL:https://freeportclub.com/event/happy-hour/2029-12-07/
LOCATION:Mousies Lounge at The Freeport Club\, 1614 South Park Boulevard\, Freeport\, IL\, 61032\, United States
END:VEVENT
BEGIN:VEVENT
DTSTART;TZID=America/Chicago:20291214T170000
DTEND;TZID=America/Chicago:20291214T203000
DTSTAMP:20260419T190348
CREATED:20260325T222342Z
LAST-MODIFIED:20260326T192122Z
UID:10001324-1891962000-1891974600@freeportclub.com
SUMMARY:🍸 Happy Hour!
DESCRIPTION:
URL:https://freeportclub.com/event/happy-hour/2029-12-14/
LOCATION:Mousies Lounge at The Freeport Club\, 1614 South Park Boulevard\, Freeport\, IL\, 61032\, United States
END:VEVENT
BEGIN:VEVENT
DTSTART;TZID=America/Chicago:20291221T170000
DTEND;TZID=America/Chicago:20291221T203000
DTSTAMP:20260419T190348
CREATED:20260325T222342Z
LAST-MODIFIED:20260326T192122Z
UID:10001325-1892566800-1892579400@freeportclub.com
SUMMARY:🍸 Happy Hour!
DESCRIPTION:
URL:https://freeportclub.com/event/happy-hour/2029-12-21/
LOCATION:Mousies Lounge at The Freeport Club\, 1614 South Park Boulevard\, Freeport\, IL\, 61032\, United States
END:VEVENT
BEGIN:VEVENT
DTSTART;TZID=America/Chicago:20291228T170000
DTEND;TZID=America/Chicago:20291228T203000
DTSTAMP:20260419T190348
CREATED:20260325T222342Z
LAST-MODIFIED:20260326T192122Z
UID:10001326-1893171600-1893184200@freeportclub.com
SUMMARY:🍸 Happy Hour!
DESCRIPTION:
URL:https://freeportclub.com/event/happy-hour/2029-12-28/
LOCATION:Mousies Lounge at The Freeport Club\, 1614 South Park Boulevard\, Freeport\, IL\, 61032\, United States
END:VEVENT
BEGIN:VEVENT
DTSTART;TZID=America/Chicago:20300104T170000
DTEND;TZID=America/Chicago:20300104T203000
DTSTAMP:20260419T190348
CREATED:20260325T222342Z
LAST-MODIFIED:20260326T192122Z
UID:10001327-1893776400-1893789000@freeportclub.com
SUMMARY:🍸 Happy Hour!
DESCRIPTION:
URL:https://freeportclub.com/event/happy-hour/2030-01-04/
LOCATION:Mousies Lounge at The Freeport Club\, 1614 South Park Boulevard\, Freeport\, IL\, 61032\, United States
END:VEVENT
BEGIN:VEVENT
DTSTART;TZID=America/Chicago:20300111T170000
DTEND;TZID=America/Chicago:20300111T203000
DTSTAMP:20260419T190348
CREATED:20260325T222342Z
LAST-MODIFIED:20260326T192122Z
UID:10001328-1894381200-1894393800@freeportclub.com
SUMMARY:🍸 Happy Hour!
DESCRIPTION:
URL:https://freeportclub.com/event/happy-hour/2030-01-11/
LOCATION:Mousies Lounge at The Freeport Club\, 1614 South Park Boulevard\, Freeport\, IL\, 61032\, United States
END:VEVENT
BEGIN:VEVENT
DTSTART;TZID=America/Chicago:20300118T170000
DTEND;TZID=America/Chicago:20300118T203000
DTSTAMP:20260419T190348
CREATED:20260325T222342Z
LAST-MODIFIED:20260326T192122Z
UID:10001329-1894986000-1894998600@freeportclub.com
SUMMARY:🍸 Happy Hour!
DESCRIPTION:
URL:https://freeportclub.com/event/happy-hour/2030-01-18/
LOCATION:Mousies Lounge at The Freeport Club\, 1614 South Park Boulevard\, Freeport\, IL\, 61032\, United States
END:VEVENT
BEGIN:VEVENT
DTSTART;TZID=America/Chicago:20300125T170000
DTEND;TZID=America/Chicago:20300125T203000
DTSTAMP:20260419T190348
CREATED:20260325T222342Z
LAST-MODIFIED:20260326T192122Z
UID:10001330-1895590800-1895603400@freeportclub.com
SUMMARY:🍸 Happy Hour!
DESCRIPTION:
URL:https://freeportclub.com/event/happy-hour/2030-01-25/
LOCATION:Mousies Lounge at The Freeport Club\, 1614 South Park Boulevard\, Freeport\, IL\, 61032\, United States
END:VEVENT
BEGIN:VEVENT
DTSTART;TZID=America/Chicago:20300201T170000
DTEND;TZID=America/Chicago:20300201T203000
DTSTAMP:20260419T190348
CREATED:20260325T222342Z
LAST-MODIFIED:20260326T192122Z
UID:10001331-1896195600-1896208200@freeportclub.com
SUMMARY:🍸 Happy Hour!
DESCRIPTION:
URL:https://freeportclub.com/event/happy-hour/2030-02-01/
LOCATION:Mousies Lounge at The Freeport Club\, 1614 South Park Boulevard\, Freeport\, IL\, 61032\, United States
END:VEVENT
BEGIN:VEVENT
DTSTART;TZID=America/Chicago:20300208T170000
DTEND;TZID=America/Chicago:20300208T203000
DTSTAMP:20260419T190348
CREATED:20260325T222342Z
LAST-MODIFIED:20260326T192122Z
UID:10001332-1896800400-1896813000@freeportclub.com
SUMMARY:🍸 Happy Hour!
DESCRIPTION:
URL:https://freeportclub.com/event/happy-hour/2030-02-08/
LOCATION:Mousies Lounge at The Freeport Club\, 1614 South Park Boulevard\, Freeport\, IL\, 61032\, United States
END:VEVENT
BEGIN:VEVENT
DTSTART;TZID=America/Chicago:20300215T170000
DTEND;TZID=America/Chicago:20300215T203000
DTSTAMP:20260419T190348
CREATED:20260325T222342Z
LAST-MODIFIED:20260326T192122Z
UID:10001333-1897405200-1897417800@freeportclub.com
SUMMARY:🍸 Happy Hour!
DESCRIPTION:
URL:https://freeportclub.com/event/happy-hour/2030-02-15/
LOCATION:Mousies Lounge at The Freeport Club\, 1614 South Park Boulevard\, Freeport\, IL\, 61032\, United States
END:VEVENT
BEGIN:VEVENT
DTSTART;TZID=America/Chicago:20300222T170000
DTEND;TZID=America/Chicago:20300222T203000
DTSTAMP:20260419T190348
CREATED:20260325T222342Z
LAST-MODIFIED:20260326T192122Z
UID:10001334-1898010000-1898022600@freeportclub.com
SUMMARY:🍸 Happy Hour!
DESCRIPTION:
URL:https://freeportclub.com/event/happy-hour/2030-02-22/
LOCATION:Mousies Lounge at The Freeport Club\, 1614 South Park Boulevard\, Freeport\, IL\, 61032\, United States
END:VEVENT
BEGIN:VEVENT
DTSTART;TZID=America/Chicago:20300301T170000
DTEND;TZID=America/Chicago:20300301T203000
DTSTAMP:20260419T190348
CREATED:20260325T222342Z
LAST-MODIFIED:20260326T192122Z
UID:10001335-1898614800-1898627400@freeportclub.com
SUMMARY:🍸 Happy Hour!
DESCRIPTION:
URL:https://freeportclub.com/event/happy-hour/2030-03-01/
LOCATION:Mousies Lounge at The Freeport Club\, 1614 South Park Boulevard\, Freeport\, IL\, 61032\, United States
END:VEVENT
BEGIN:VEVENT
DTSTART;TZID=America/Chicago:20300308T170000
DTEND;TZID=America/Chicago:20300308T203000
DTSTAMP:20260419T190348
CREATED:20260325T222342Z
LAST-MODIFIED:20260326T192122Z
UID:10001336-1899219600-1899232200@freeportclub.com
SUMMARY:🍸 Happy Hour!
DESCRIPTION:
URL:https://freeportclub.com/event/happy-hour/2030-03-08/
LOCATION:Mousies Lounge at The Freeport Club\, 1614 South Park Boulevard\, Freeport\, IL\, 61032\, United States
END:VEVENT
BEGIN:VEVENT
DTSTART;TZID=America/Chicago:20300315T170000
DTEND;TZID=America/Chicago:20300315T203000
DTSTAMP:20260419T190348
CREATED:20260325T222342Z
LAST-MODIFIED:20260326T192122Z
UID:10001337-1899824400-1899837000@freeportclub.com
SUMMARY:🍸 Happy Hour!
DESCRIPTION:
URL:https://freeportclub.com/event/happy-hour/2030-03-15/
LOCATION:Mousies Lounge at The Freeport Club\, 1614 South Park Boulevard\, Freeport\, IL\, 61032\, United States
END:VEVENT
BEGIN:VEVENT
DTSTART;TZID=America/Chicago:20300322T170000
DTEND;TZID=America/Chicago:20300322T203000
DTSTAMP:20260419T190348
CREATED:20260325T222342Z
LAST-MODIFIED:20260326T192122Z
UID:10001338-1900429200-1900441800@freeportclub.com
SUMMARY:🍸 Happy Hour!
DESCRIPTION:
URL:https://freeportclub.com/event/happy-hour/2030-03-22/
LOCATION:Mousies Lounge at The Freeport Club\, 1614 South Park Boulevard\, Freeport\, IL\, 61032\, United States
END:VEVENT
BEGIN:VEVENT
DTSTART;TZID=America/Chicago:20300329T170000
DTEND;TZID=America/Chicago:20300329T203000
DTSTAMP:20260419T190348
CREATED:20260325T222342Z
LAST-MODIFIED:20260326T192122Z
UID:10001339-1901034000-1901046600@freeportclub.com
SUMMARY:🍸 Happy Hour!
DESCRIPTION:
URL:https://freeportclub.com/event/happy-hour/2030-03-29/
LOCATION:Mousies Lounge at The Freeport Club\, 1614 South Park Boulevard\, Freeport\, IL\, 61032\, United States
END:VEVENT
BEGIN:VEVENT
DTSTART;TZID=America/Chicago:20300405T170000
DTEND;TZID=America/Chicago:20300405T203000
DTSTAMP:20260419T190348
CREATED:20260325T222342Z
LAST-MODIFIED:20260326T192122Z
UID:10001340-1901638800-1901651400@freeportclub.com
SUMMARY:🍸 Happy Hour!
DESCRIPTION:
URL:https://freeportclub.com/event/happy-hour/2030-04-05/
LOCATION:Mousies Lounge at The Freeport Club\, 1614 South Park Boulevard\, Freeport\, IL\, 61032\, United States
END:VEVENT
BEGIN:VEVENT
DTSTART;TZID=America/Chicago:20300412T170000
DTEND;TZID=America/Chicago:20300412T203000
DTSTAMP:20260419T190348
CREATED:20260325T222342Z
LAST-MODIFIED:20260326T192122Z
UID:10001341-1902243600-1902256200@freeportclub.com
SUMMARY:🍸 Happy Hour!
DESCRIPTION:
URL:https://freeportclub.com/event/happy-hour/2030-04-12/
LOCATION:Mousies Lounge at The Freeport Club\, 1614 South Park Boulevard\, Freeport\, IL\, 61032\, United States
END:VEVENT
END:VCALENDAR