BEGIN:VCALENDAR
VERSION:2.0
PRODID:-//The Freeport Club - ECPv6.15.20//NONSGML v1.0//EN
CALSCALE:GREGORIAN
METHOD:PUBLISH
X-ORIGINAL-URL:https://freeportclub.com
X-WR-CALDESC:Events for The Freeport Club
REFRESH-INTERVAL;VALUE=DURATION:PT1H
X-Robots-Tag:noindex
X-PUBLISHED-TTL:PT1H
BEGIN:VTIMEZONE
TZID:America/Chicago
BEGIN:DAYLIGHT
TZOFFSETFROM:-0600
TZOFFSETTO:-0500
TZNAME:CDT
DTSTART:20280312T080000
END:DAYLIGHT
BEGIN:STANDARD
TZOFFSETFROM:-0500
TZOFFSETTO:-0600
TZNAME:CST
DTSTART:20281105T070000
END:STANDARD
BEGIN:DAYLIGHT
TZOFFSETFROM:-0600
TZOFFSETTO:-0500
TZNAME:CDT
DTSTART:20290311T080000
END:DAYLIGHT
BEGIN:STANDARD
TZOFFSETFROM:-0500
TZOFFSETTO:-0600
TZNAME:CST
DTSTART:20291104T070000
END:STANDARD
BEGIN:DAYLIGHT
TZOFFSETFROM:-0600
TZOFFSETTO:-0500
TZNAME:CDT
DTSTART:20300310T080000
END:DAYLIGHT
BEGIN:STANDARD
TZOFFSETFROM:-0500
TZOFFSETTO:-0600
TZNAME:CST
DTSTART:20301103T070000
END:STANDARD
END:VTIMEZONE
BEGIN:VEVENT
DTSTART;TZID=America/Chicago:20290330T170000
DTEND;TZID=America/Chicago:20290330T203000
DTSTAMP:20260419T174042
CREATED:20260325T222342Z
LAST-MODIFIED:20260326T192122Z
UID:10001287-1869584400-1869597000@freeportclub.com
SUMMARY:🍸 Happy Hour!
DESCRIPTION:
URL:https://freeportclub.com/event/happy-hour/2029-03-30/
LOCATION:Mousies Lounge at The Freeport Club\, 1614 South Park Boulevard\, Freeport\, IL\, 61032\, United States
END:VEVENT
BEGIN:VEVENT
DTSTART;TZID=America/Chicago:20290406T170000
DTEND;TZID=America/Chicago:20290406T203000
DTSTAMP:20260419T174042
CREATED:20260325T222342Z
LAST-MODIFIED:20260326T192122Z
UID:10001288-1870189200-1870201800@freeportclub.com
SUMMARY:🍸 Happy Hour!
DESCRIPTION:
URL:https://freeportclub.com/event/happy-hour/2029-04-06/
LOCATION:Mousies Lounge at The Freeport Club\, 1614 South Park Boulevard\, Freeport\, IL\, 61032\, United States
END:VEVENT
BEGIN:VEVENT
DTSTART;TZID=America/Chicago:20290413T170000
DTEND;TZID=America/Chicago:20290413T203000
DTSTAMP:20260419T174042
CREATED:20260325T222342Z
LAST-MODIFIED:20260326T192122Z
UID:10001289-1870794000-1870806600@freeportclub.com
SUMMARY:🍸 Happy Hour!
DESCRIPTION:
URL:https://freeportclub.com/event/happy-hour/2029-04-13/
LOCATION:Mousies Lounge at The Freeport Club\, 1614 South Park Boulevard\, Freeport\, IL\, 61032\, United States
END:VEVENT
BEGIN:VEVENT
DTSTART;TZID=America/Chicago:20290420T170000
DTEND;TZID=America/Chicago:20290420T203000
DTSTAMP:20260419T174042
CREATED:20260325T222342Z
LAST-MODIFIED:20260326T192122Z
UID:10001290-1871398800-1871411400@freeportclub.com
SUMMARY:🍸 Happy Hour!
DESCRIPTION:
URL:https://freeportclub.com/event/happy-hour/2029-04-20/
LOCATION:Mousies Lounge at The Freeport Club\, 1614 South Park Boulevard\, Freeport\, IL\, 61032\, United States
END:VEVENT
BEGIN:VEVENT
DTSTART;TZID=America/Chicago:20290427T170000
DTEND;TZID=America/Chicago:20290427T203000
DTSTAMP:20260419T174042
CREATED:20260325T222342Z
LAST-MODIFIED:20260326T192122Z
UID:10001291-1872003600-1872016200@freeportclub.com
SUMMARY:🍸 Happy Hour!
DESCRIPTION:
URL:https://freeportclub.com/event/happy-hour/2029-04-27/
LOCATION:Mousies Lounge at The Freeport Club\, 1614 South Park Boulevard\, Freeport\, IL\, 61032\, United States
END:VEVENT
BEGIN:VEVENT
DTSTART;TZID=America/Chicago:20290504T170000
DTEND;TZID=America/Chicago:20290504T203000
DTSTAMP:20260419T174042
CREATED:20260325T222342Z
LAST-MODIFIED:20260326T192122Z
UID:10001292-1872608400-1872621000@freeportclub.com
SUMMARY:🍸 Happy Hour!
DESCRIPTION:
URL:https://freeportclub.com/event/happy-hour/2029-05-04/
LOCATION:Mousies Lounge at The Freeport Club\, 1614 South Park Boulevard\, Freeport\, IL\, 61032\, United States
END:VEVENT
BEGIN:VEVENT
DTSTART;TZID=America/Chicago:20290511T170000
DTEND;TZID=America/Chicago:20290511T203000
DTSTAMP:20260419T174042
CREATED:20260325T222342Z
LAST-MODIFIED:20260326T192122Z
UID:10001293-1873213200-1873225800@freeportclub.com
SUMMARY:🍸 Happy Hour!
DESCRIPTION:
URL:https://freeportclub.com/event/happy-hour/2029-05-11/
LOCATION:Mousies Lounge at The Freeport Club\, 1614 South Park Boulevard\, Freeport\, IL\, 61032\, United States
END:VEVENT
BEGIN:VEVENT
DTSTART;TZID=America/Chicago:20290518T170000
DTEND;TZID=America/Chicago:20290518T203000
DTSTAMP:20260419T174042
CREATED:20260325T222342Z
LAST-MODIFIED:20260326T192122Z
UID:10001294-1873818000-1873830600@freeportclub.com
SUMMARY:🍸 Happy Hour!
DESCRIPTION:
URL:https://freeportclub.com/event/happy-hour/2029-05-18/
LOCATION:Mousies Lounge at The Freeport Club\, 1614 South Park Boulevard\, Freeport\, IL\, 61032\, United States
END:VEVENT
BEGIN:VEVENT
DTSTART;TZID=America/Chicago:20290525T170000
DTEND;TZID=America/Chicago:20290525T203000
DTSTAMP:20260419T174042
CREATED:20260325T222342Z
LAST-MODIFIED:20260326T192122Z
UID:10001295-1874422800-1874435400@freeportclub.com
SUMMARY:🍸 Happy Hour!
DESCRIPTION:
URL:https://freeportclub.com/event/happy-hour/2029-05-25/
LOCATION:Mousies Lounge at The Freeport Club\, 1614 South Park Boulevard\, Freeport\, IL\, 61032\, United States
END:VEVENT
BEGIN:VEVENT
DTSTART;TZID=America/Chicago:20290601T170000
DTEND;TZID=America/Chicago:20290601T203000
DTSTAMP:20260419T174042
CREATED:20260325T222342Z
LAST-MODIFIED:20260326T192122Z
UID:10001296-1875027600-1875040200@freeportclub.com
SUMMARY:🍸 Happy Hour!
DESCRIPTION:
URL:https://freeportclub.com/event/happy-hour/2029-06-01/
LOCATION:Mousies Lounge at The Freeport Club\, 1614 South Park Boulevard\, Freeport\, IL\, 61032\, United States
END:VEVENT
BEGIN:VEVENT
DTSTART;TZID=America/Chicago:20290608T170000
DTEND;TZID=America/Chicago:20290608T203000
DTSTAMP:20260419T174042
CREATED:20260325T222342Z
LAST-MODIFIED:20260326T192122Z
UID:10001297-1875632400-1875645000@freeportclub.com
SUMMARY:🍸 Happy Hour!
DESCRIPTION:
URL:https://freeportclub.com/event/happy-hour/2029-06-08/
LOCATION:Mousies Lounge at The Freeport Club\, 1614 South Park Boulevard\, Freeport\, IL\, 61032\, United States
END:VEVENT
BEGIN:VEVENT
DTSTART;TZID=America/Chicago:20290615T170000
DTEND;TZID=America/Chicago:20290615T203000
DTSTAMP:20260419T174042
CREATED:20260325T222342Z
LAST-MODIFIED:20260326T192122Z
UID:10001298-1876237200-1876249800@freeportclub.com
SUMMARY:🍸 Happy Hour!
DESCRIPTION:
URL:https://freeportclub.com/event/happy-hour/2029-06-15/
LOCATION:Mousies Lounge at The Freeport Club\, 1614 South Park Boulevard\, Freeport\, IL\, 61032\, United States
END:VEVENT
BEGIN:VEVENT
DTSTART;TZID=America/Chicago:20290622T170000
DTEND;TZID=America/Chicago:20290622T203000
DTSTAMP:20260419T174042
CREATED:20260325T222342Z
LAST-MODIFIED:20260326T192122Z
UID:10001299-1876842000-1876854600@freeportclub.com
SUMMARY:🍸 Happy Hour!
DESCRIPTION:
URL:https://freeportclub.com/event/happy-hour/2029-06-22/
LOCATION:Mousies Lounge at The Freeport Club\, 1614 South Park Boulevard\, Freeport\, IL\, 61032\, United States
END:VEVENT
BEGIN:VEVENT
DTSTART;TZID=America/Chicago:20290629T170000
DTEND;TZID=America/Chicago:20290629T203000
DTSTAMP:20260419T174042
CREATED:20260325T222342Z
LAST-MODIFIED:20260326T192122Z
UID:10001300-1877446800-1877459400@freeportclub.com
SUMMARY:🍸 Happy Hour!
DESCRIPTION:
URL:https://freeportclub.com/event/happy-hour/2029-06-29/
LOCATION:Mousies Lounge at The Freeport Club\, 1614 South Park Boulevard\, Freeport\, IL\, 61032\, United States
END:VEVENT
BEGIN:VEVENT
DTSTART;TZID=America/Chicago:20290706T170000
DTEND;TZID=America/Chicago:20290706T203000
DTSTAMP:20260419T174042
CREATED:20260325T222342Z
LAST-MODIFIED:20260326T192122Z
UID:10001301-1878051600-1878064200@freeportclub.com
SUMMARY:🍸 Happy Hour!
DESCRIPTION:
URL:https://freeportclub.com/event/happy-hour/2029-07-06/
LOCATION:Mousies Lounge at The Freeport Club\, 1614 South Park Boulevard\, Freeport\, IL\, 61032\, United States
END:VEVENT
BEGIN:VEVENT
DTSTART;TZID=America/Chicago:20290713T170000
DTEND;TZID=America/Chicago:20290713T203000
DTSTAMP:20260419T174042
CREATED:20260325T222342Z
LAST-MODIFIED:20260326T192122Z
UID:10001302-1878656400-1878669000@freeportclub.com
SUMMARY:🍸 Happy Hour!
DESCRIPTION:
URL:https://freeportclub.com/event/happy-hour/2029-07-13/
LOCATION:Mousies Lounge at The Freeport Club\, 1614 South Park Boulevard\, Freeport\, IL\, 61032\, United States
END:VEVENT
BEGIN:VEVENT
DTSTART;TZID=America/Chicago:20290720T170000
DTEND;TZID=America/Chicago:20290720T203000
DTSTAMP:20260419T174042
CREATED:20260325T222342Z
LAST-MODIFIED:20260326T192122Z
UID:10001303-1879261200-1879273800@freeportclub.com
SUMMARY:🍸 Happy Hour!
DESCRIPTION:
URL:https://freeportclub.com/event/happy-hour/2029-07-20/
LOCATION:Mousies Lounge at The Freeport Club\, 1614 South Park Boulevard\, Freeport\, IL\, 61032\, United States
END:VEVENT
BEGIN:VEVENT
DTSTART;TZID=America/Chicago:20290727T170000
DTEND;TZID=America/Chicago:20290727T203000
DTSTAMP:20260419T174042
CREATED:20260325T222342Z
LAST-MODIFIED:20260326T192122Z
UID:10001304-1879866000-1879878600@freeportclub.com
SUMMARY:🍸 Happy Hour!
DESCRIPTION:
URL:https://freeportclub.com/event/happy-hour/2029-07-27/
LOCATION:Mousies Lounge at The Freeport Club\, 1614 South Park Boulevard\, Freeport\, IL\, 61032\, United States
END:VEVENT
BEGIN:VEVENT
DTSTART;TZID=America/Chicago:20290803T170000
DTEND;TZID=America/Chicago:20290803T203000
DTSTAMP:20260419T174042
CREATED:20260325T222342Z
LAST-MODIFIED:20260326T192122Z
UID:10001305-1880470800-1880483400@freeportclub.com
SUMMARY:🍸 Happy Hour!
DESCRIPTION:
URL:https://freeportclub.com/event/happy-hour/2029-08-03/
LOCATION:Mousies Lounge at The Freeport Club\, 1614 South Park Boulevard\, Freeport\, IL\, 61032\, United States
END:VEVENT
BEGIN:VEVENT
DTSTART;TZID=America/Chicago:20290810T170000
DTEND;TZID=America/Chicago:20290810T203000
DTSTAMP:20260419T174042
CREATED:20260325T222342Z
LAST-MODIFIED:20260326T192122Z
UID:10001306-1881075600-1881088200@freeportclub.com
SUMMARY:🍸 Happy Hour!
DESCRIPTION:
URL:https://freeportclub.com/event/happy-hour/2029-08-10/
LOCATION:Mousies Lounge at The Freeport Club\, 1614 South Park Boulevard\, Freeport\, IL\, 61032\, United States
END:VEVENT
BEGIN:VEVENT
DTSTART;TZID=America/Chicago:20290817T170000
DTEND;TZID=America/Chicago:20290817T203000
DTSTAMP:20260419T174042
CREATED:20260325T222342Z
LAST-MODIFIED:20260326T192122Z
UID:10001307-1881680400-1881693000@freeportclub.com
SUMMARY:🍸 Happy Hour!
DESCRIPTION:
URL:https://freeportclub.com/event/happy-hour/2029-08-17/
LOCATION:Mousies Lounge at The Freeport Club\, 1614 South Park Boulevard\, Freeport\, IL\, 61032\, United States
END:VEVENT
BEGIN:VEVENT
DTSTART;TZID=America/Chicago:20290824T170000
DTEND;TZID=America/Chicago:20290824T203000
DTSTAMP:20260419T174042
CREATED:20260325T222342Z
LAST-MODIFIED:20260326T192122Z
UID:10001308-1882285200-1882297800@freeportclub.com
SUMMARY:🍸 Happy Hour!
DESCRIPTION:
URL:https://freeportclub.com/event/happy-hour/2029-08-24/
LOCATION:Mousies Lounge at The Freeport Club\, 1614 South Park Boulevard\, Freeport\, IL\, 61032\, United States
END:VEVENT
BEGIN:VEVENT
DTSTART;TZID=America/Chicago:20290831T170000
DTEND;TZID=America/Chicago:20290831T203000
DTSTAMP:20260419T174042
CREATED:20260325T222342Z
LAST-MODIFIED:20260326T192122Z
UID:10001309-1882890000-1882902600@freeportclub.com
SUMMARY:🍸 Happy Hour!
DESCRIPTION:
URL:https://freeportclub.com/event/happy-hour/2029-08-31/
LOCATION:Mousies Lounge at The Freeport Club\, 1614 South Park Boulevard\, Freeport\, IL\, 61032\, United States
END:VEVENT
BEGIN:VEVENT
DTSTART;TZID=America/Chicago:20290907T170000
DTEND;TZID=America/Chicago:20290907T203000
DTSTAMP:20260419T174042
CREATED:20260325T222342Z
LAST-MODIFIED:20260326T192122Z
UID:10001310-1883494800-1883507400@freeportclub.com
SUMMARY:🍸 Happy Hour!
DESCRIPTION:
URL:https://freeportclub.com/event/happy-hour/2029-09-07/
LOCATION:Mousies Lounge at The Freeport Club\, 1614 South Park Boulevard\, Freeport\, IL\, 61032\, United States
END:VEVENT
BEGIN:VEVENT
DTSTART;TZID=America/Chicago:20290914T170000
DTEND;TZID=America/Chicago:20290914T203000
DTSTAMP:20260419T174042
CREATED:20260325T222342Z
LAST-MODIFIED:20260326T192122Z
UID:10001311-1884099600-1884112200@freeportclub.com
SUMMARY:🍸 Happy Hour!
DESCRIPTION:
URL:https://freeportclub.com/event/happy-hour/2029-09-14/
LOCATION:Mousies Lounge at The Freeport Club\, 1614 South Park Boulevard\, Freeport\, IL\, 61032\, United States
END:VEVENT
BEGIN:VEVENT
DTSTART;TZID=America/Chicago:20290921T170000
DTEND;TZID=America/Chicago:20290921T203000
DTSTAMP:20260419T174042
CREATED:20260325T222342Z
LAST-MODIFIED:20260326T192122Z
UID:10001312-1884704400-1884717000@freeportclub.com
SUMMARY:🍸 Happy Hour!
DESCRIPTION:
URL:https://freeportclub.com/event/happy-hour/2029-09-21/
LOCATION:Mousies Lounge at The Freeport Club\, 1614 South Park Boulevard\, Freeport\, IL\, 61032\, United States
END:VEVENT
BEGIN:VEVENT
DTSTART;TZID=America/Chicago:20290928T170000
DTEND;TZID=America/Chicago:20290928T203000
DTSTAMP:20260419T174042
CREATED:20260325T222342Z
LAST-MODIFIED:20260326T192122Z
UID:10001313-1885309200-1885321800@freeportclub.com
SUMMARY:🍸 Happy Hour!
DESCRIPTION:
URL:https://freeportclub.com/event/happy-hour/2029-09-28/
LOCATION:Mousies Lounge at The Freeport Club\, 1614 South Park Boulevard\, Freeport\, IL\, 61032\, United States
END:VEVENT
BEGIN:VEVENT
DTSTART;TZID=America/Chicago:20291005T170000
DTEND;TZID=America/Chicago:20291005T203000
DTSTAMP:20260419T174042
CREATED:20260325T222342Z
LAST-MODIFIED:20260326T192122Z
UID:10001314-1885914000-1885926600@freeportclub.com
SUMMARY:🍸 Happy Hour!
DESCRIPTION:
URL:https://freeportclub.com/event/happy-hour/2029-10-05/
LOCATION:Mousies Lounge at The Freeport Club\, 1614 South Park Boulevard\, Freeport\, IL\, 61032\, United States
END:VEVENT
BEGIN:VEVENT
DTSTART;TZID=America/Chicago:20291012T170000
DTEND;TZID=America/Chicago:20291012T203000
DTSTAMP:20260419T174042
CREATED:20260325T222342Z
LAST-MODIFIED:20260326T192122Z
UID:10001315-1886518800-1886531400@freeportclub.com
SUMMARY:🍸 Happy Hour!
DESCRIPTION:
URL:https://freeportclub.com/event/happy-hour/2029-10-12/
LOCATION:Mousies Lounge at The Freeport Club\, 1614 South Park Boulevard\, Freeport\, IL\, 61032\, United States
END:VEVENT
BEGIN:VEVENT
DTSTART;TZID=America/Chicago:20291019T170000
DTEND;TZID=America/Chicago:20291019T203000
DTSTAMP:20260419T174042
CREATED:20260325T222342Z
LAST-MODIFIED:20260326T192122Z
UID:10001316-1887123600-1887136200@freeportclub.com
SUMMARY:🍸 Happy Hour!
DESCRIPTION:
URL:https://freeportclub.com/event/happy-hour/2029-10-19/
LOCATION:Mousies Lounge at The Freeport Club\, 1614 South Park Boulevard\, Freeport\, IL\, 61032\, United States
END:VEVENT
END:VCALENDAR