BEGIN:VCALENDAR
VERSION:2.0
PRODID:-//The Freeport Club - ECPv6.15.20//NONSGML v1.0//EN
CALSCALE:GREGORIAN
METHOD:PUBLISH
X-ORIGINAL-URL:https://freeportclub.com
X-WR-CALDESC:Events for The Freeport Club
REFRESH-INTERVAL;VALUE=DURATION:PT1H
X-Robots-Tag:noindex
X-PUBLISHED-TTL:PT1H
BEGIN:VTIMEZONE
TZID:America/Chicago
BEGIN:DAYLIGHT
TZOFFSETFROM:-0600
TZOFFSETTO:-0500
TZNAME:CDT
DTSTART:20270314T080000
END:DAYLIGHT
BEGIN:STANDARD
TZOFFSETFROM:-0500
TZOFFSETTO:-0600
TZNAME:CST
DTSTART:20271107T070000
END:STANDARD
BEGIN:DAYLIGHT
TZOFFSETFROM:-0600
TZOFFSETTO:-0500
TZNAME:CDT
DTSTART:20280312T080000
END:DAYLIGHT
BEGIN:STANDARD
TZOFFSETFROM:-0500
TZOFFSETTO:-0600
TZNAME:CST
DTSTART:20281105T070000
END:STANDARD
BEGIN:DAYLIGHT
TZOFFSETFROM:-0600
TZOFFSETTO:-0500
TZNAME:CDT
DTSTART:20290311T080000
END:DAYLIGHT
BEGIN:STANDARD
TZOFFSETFROM:-0500
TZOFFSETTO:-0600
TZNAME:CST
DTSTART:20291104T070000
END:STANDARD
BEGIN:DAYLIGHT
TZOFFSETFROM:-0600
TZOFFSETTO:-0500
TZNAME:CDT
DTSTART:20300310T080000
END:DAYLIGHT
BEGIN:STANDARD
TZOFFSETFROM:-0500
TZOFFSETTO:-0600
TZNAME:CST
DTSTART:20301103T070000
END:STANDARD
END:VTIMEZONE
BEGIN:VEVENT
DTSTART;TZID=America/Chicago:20280714T170000
DTEND;TZID=America/Chicago:20280714T203000
DTSTAMP:20260420T195019
CREATED:20260325T222342Z
LAST-MODIFIED:20260326T192122Z
UID:10001250-1847206800-1847219400@freeportclub.com
SUMMARY:🍸 Happy Hour!
DESCRIPTION:
URL:https://freeportclub.com/event/happy-hour/2028-07-14/
LOCATION:Mousies Lounge at The Freeport Club\, 1614 South Park Boulevard\, Freeport\, IL\, 61032\, United States
END:VEVENT
BEGIN:VEVENT
DTSTART;TZID=America/Chicago:20280721T170000
DTEND;TZID=America/Chicago:20280721T203000
DTSTAMP:20260420T195019
CREATED:20260325T222342Z
LAST-MODIFIED:20260326T192122Z
UID:10001251-1847811600-1847824200@freeportclub.com
SUMMARY:🍸 Happy Hour!
DESCRIPTION:
URL:https://freeportclub.com/event/happy-hour/2028-07-21/
LOCATION:Mousies Lounge at The Freeport Club\, 1614 South Park Boulevard\, Freeport\, IL\, 61032\, United States
END:VEVENT
BEGIN:VEVENT
DTSTART;TZID=America/Chicago:20280728T170000
DTEND;TZID=America/Chicago:20280728T203000
DTSTAMP:20260420T195019
CREATED:20260325T222342Z
LAST-MODIFIED:20260326T192122Z
UID:10001252-1848416400-1848429000@freeportclub.com
SUMMARY:🍸 Happy Hour!
DESCRIPTION:
URL:https://freeportclub.com/event/happy-hour/2028-07-28/
LOCATION:Mousies Lounge at The Freeport Club\, 1614 South Park Boulevard\, Freeport\, IL\, 61032\, United States
END:VEVENT
BEGIN:VEVENT
DTSTART;TZID=America/Chicago:20280804T170000
DTEND;TZID=America/Chicago:20280804T203000
DTSTAMP:20260420T195019
CREATED:20260325T222342Z
LAST-MODIFIED:20260326T192122Z
UID:10001253-1849021200-1849033800@freeportclub.com
SUMMARY:🍸 Happy Hour!
DESCRIPTION:
URL:https://freeportclub.com/event/happy-hour/2028-08-04/
LOCATION:Mousies Lounge at The Freeport Club\, 1614 South Park Boulevard\, Freeport\, IL\, 61032\, United States
END:VEVENT
BEGIN:VEVENT
DTSTART;TZID=America/Chicago:20280811T170000
DTEND;TZID=America/Chicago:20280811T203000
DTSTAMP:20260420T195019
CREATED:20260325T222342Z
LAST-MODIFIED:20260326T192122Z
UID:10001254-1849626000-1849638600@freeportclub.com
SUMMARY:🍸 Happy Hour!
DESCRIPTION:
URL:https://freeportclub.com/event/happy-hour/2028-08-11/
LOCATION:Mousies Lounge at The Freeport Club\, 1614 South Park Boulevard\, Freeport\, IL\, 61032\, United States
END:VEVENT
BEGIN:VEVENT
DTSTART;TZID=America/Chicago:20280818T170000
DTEND;TZID=America/Chicago:20280818T203000
DTSTAMP:20260420T195019
CREATED:20260325T222342Z
LAST-MODIFIED:20260326T192122Z
UID:10001255-1850230800-1850243400@freeportclub.com
SUMMARY:🍸 Happy Hour!
DESCRIPTION:
URL:https://freeportclub.com/event/happy-hour/2028-08-18/
LOCATION:Mousies Lounge at The Freeport Club\, 1614 South Park Boulevard\, Freeport\, IL\, 61032\, United States
END:VEVENT
BEGIN:VEVENT
DTSTART;TZID=America/Chicago:20280825T170000
DTEND;TZID=America/Chicago:20280825T203000
DTSTAMP:20260420T195019
CREATED:20260325T222342Z
LAST-MODIFIED:20260326T192122Z
UID:10001256-1850835600-1850848200@freeportclub.com
SUMMARY:🍸 Happy Hour!
DESCRIPTION:
URL:https://freeportclub.com/event/happy-hour/2028-08-25/
LOCATION:Mousies Lounge at The Freeport Club\, 1614 South Park Boulevard\, Freeport\, IL\, 61032\, United States
END:VEVENT
BEGIN:VEVENT
DTSTART;TZID=America/Chicago:20280901T170000
DTEND;TZID=America/Chicago:20280901T203000
DTSTAMP:20260420T195019
CREATED:20260325T222342Z
LAST-MODIFIED:20260326T192122Z
UID:10001257-1851440400-1851453000@freeportclub.com
SUMMARY:🍸 Happy Hour!
DESCRIPTION:
URL:https://freeportclub.com/event/happy-hour/2028-09-01/
LOCATION:Mousies Lounge at The Freeport Club\, 1614 South Park Boulevard\, Freeport\, IL\, 61032\, United States
END:VEVENT
BEGIN:VEVENT
DTSTART;TZID=America/Chicago:20280908T170000
DTEND;TZID=America/Chicago:20280908T203000
DTSTAMP:20260420T195019
CREATED:20260325T222342Z
LAST-MODIFIED:20260326T192122Z
UID:10001258-1852045200-1852057800@freeportclub.com
SUMMARY:🍸 Happy Hour!
DESCRIPTION:
URL:https://freeportclub.com/event/happy-hour/2028-09-08/
LOCATION:Mousies Lounge at The Freeport Club\, 1614 South Park Boulevard\, Freeport\, IL\, 61032\, United States
END:VEVENT
BEGIN:VEVENT
DTSTART;TZID=America/Chicago:20280915T170000
DTEND;TZID=America/Chicago:20280915T203000
DTSTAMP:20260420T195019
CREATED:20260325T222342Z
LAST-MODIFIED:20260326T192122Z
UID:10001259-1852650000-1852662600@freeportclub.com
SUMMARY:🍸 Happy Hour!
DESCRIPTION:
URL:https://freeportclub.com/event/happy-hour/2028-09-15/
LOCATION:Mousies Lounge at The Freeport Club\, 1614 South Park Boulevard\, Freeport\, IL\, 61032\, United States
END:VEVENT
BEGIN:VEVENT
DTSTART;TZID=America/Chicago:20280922T170000
DTEND;TZID=America/Chicago:20280922T203000
DTSTAMP:20260420T195019
CREATED:20260325T222342Z
LAST-MODIFIED:20260326T192122Z
UID:10001260-1853254800-1853267400@freeportclub.com
SUMMARY:🍸 Happy Hour!
DESCRIPTION:
URL:https://freeportclub.com/event/happy-hour/2028-09-22/
LOCATION:Mousies Lounge at The Freeport Club\, 1614 South Park Boulevard\, Freeport\, IL\, 61032\, United States
END:VEVENT
BEGIN:VEVENT
DTSTART;TZID=America/Chicago:20280929T170000
DTEND;TZID=America/Chicago:20280929T203000
DTSTAMP:20260420T195019
CREATED:20260325T222342Z
LAST-MODIFIED:20260326T192122Z
UID:10001261-1853859600-1853872200@freeportclub.com
SUMMARY:🍸 Happy Hour!
DESCRIPTION:
URL:https://freeportclub.com/event/happy-hour/2028-09-29/
LOCATION:Mousies Lounge at The Freeport Club\, 1614 South Park Boulevard\, Freeport\, IL\, 61032\, United States
END:VEVENT
BEGIN:VEVENT
DTSTART;TZID=America/Chicago:20281006T170000
DTEND;TZID=America/Chicago:20281006T203000
DTSTAMP:20260420T195019
CREATED:20260325T222342Z
LAST-MODIFIED:20260326T192122Z
UID:10001262-1854464400-1854477000@freeportclub.com
SUMMARY:🍸 Happy Hour!
DESCRIPTION:
URL:https://freeportclub.com/event/happy-hour/2028-10-06/
LOCATION:Mousies Lounge at The Freeport Club\, 1614 South Park Boulevard\, Freeport\, IL\, 61032\, United States
END:VEVENT
BEGIN:VEVENT
DTSTART;TZID=America/Chicago:20281013T170000
DTEND;TZID=America/Chicago:20281013T203000
DTSTAMP:20260420T195019
CREATED:20260325T222342Z
LAST-MODIFIED:20260326T192122Z
UID:10001263-1855069200-1855081800@freeportclub.com
SUMMARY:🍸 Happy Hour!
DESCRIPTION:
URL:https://freeportclub.com/event/happy-hour/2028-10-13/
LOCATION:Mousies Lounge at The Freeport Club\, 1614 South Park Boulevard\, Freeport\, IL\, 61032\, United States
END:VEVENT
BEGIN:VEVENT
DTSTART;TZID=America/Chicago:20281020T170000
DTEND;TZID=America/Chicago:20281020T203000
DTSTAMP:20260420T195019
CREATED:20260325T222342Z
LAST-MODIFIED:20260326T192122Z
UID:10001264-1855674000-1855686600@freeportclub.com
SUMMARY:🍸 Happy Hour!
DESCRIPTION:
URL:https://freeportclub.com/event/happy-hour/2028-10-20/
LOCATION:Mousies Lounge at The Freeport Club\, 1614 South Park Boulevard\, Freeport\, IL\, 61032\, United States
END:VEVENT
BEGIN:VEVENT
DTSTART;TZID=America/Chicago:20281027T170000
DTEND;TZID=America/Chicago:20281027T203000
DTSTAMP:20260420T195019
CREATED:20260325T222342Z
LAST-MODIFIED:20260326T192122Z
UID:10001265-1856278800-1856291400@freeportclub.com
SUMMARY:🍸 Happy Hour!
DESCRIPTION:
URL:https://freeportclub.com/event/happy-hour/2028-10-27/
LOCATION:Mousies Lounge at The Freeport Club\, 1614 South Park Boulevard\, Freeport\, IL\, 61032\, United States
END:VEVENT
BEGIN:VEVENT
DTSTART;TZID=America/Chicago:20281103T170000
DTEND;TZID=America/Chicago:20281103T203000
DTSTAMP:20260420T195019
CREATED:20260325T222342Z
LAST-MODIFIED:20260326T192122Z
UID:10001266-1856883600-1856896200@freeportclub.com
SUMMARY:🍸 Happy Hour!
DESCRIPTION:
URL:https://freeportclub.com/event/happy-hour/2028-11-03/
LOCATION:Mousies Lounge at The Freeport Club\, 1614 South Park Boulevard\, Freeport\, IL\, 61032\, United States
END:VEVENT
BEGIN:VEVENT
DTSTART;TZID=America/Chicago:20281110T170000
DTEND;TZID=America/Chicago:20281110T203000
DTSTAMP:20260420T195019
CREATED:20260325T222342Z
LAST-MODIFIED:20260326T192122Z
UID:10001267-1857488400-1857501000@freeportclub.com
SUMMARY:🍸 Happy Hour!
DESCRIPTION:
URL:https://freeportclub.com/event/happy-hour/2028-11-10/
LOCATION:Mousies Lounge at The Freeport Club\, 1614 South Park Boulevard\, Freeport\, IL\, 61032\, United States
END:VEVENT
BEGIN:VEVENT
DTSTART;TZID=America/Chicago:20281117T170000
DTEND;TZID=America/Chicago:20281117T203000
DTSTAMP:20260420T195019
CREATED:20260325T222342Z
LAST-MODIFIED:20260326T192122Z
UID:10001268-1858093200-1858105800@freeportclub.com
SUMMARY:🍸 Happy Hour!
DESCRIPTION:
URL:https://freeportclub.com/event/happy-hour/2028-11-17/
LOCATION:Mousies Lounge at The Freeport Club\, 1614 South Park Boulevard\, Freeport\, IL\, 61032\, United States
END:VEVENT
BEGIN:VEVENT
DTSTART;TZID=America/Chicago:20281124T170000
DTEND;TZID=America/Chicago:20281124T203000
DTSTAMP:20260420T195019
CREATED:20260325T222342Z
LAST-MODIFIED:20260326T192122Z
UID:10001269-1858698000-1858710600@freeportclub.com
SUMMARY:🍸 Happy Hour!
DESCRIPTION:
URL:https://freeportclub.com/event/happy-hour/2028-11-24/
LOCATION:Mousies Lounge at The Freeport Club\, 1614 South Park Boulevard\, Freeport\, IL\, 61032\, United States
END:VEVENT
BEGIN:VEVENT
DTSTART;TZID=America/Chicago:20281201T170000
DTEND;TZID=America/Chicago:20281201T203000
DTSTAMP:20260420T195019
CREATED:20260325T222342Z
LAST-MODIFIED:20260326T192122Z
UID:10001270-1859302800-1859315400@freeportclub.com
SUMMARY:🍸 Happy Hour!
DESCRIPTION:
URL:https://freeportclub.com/event/happy-hour/2028-12-01/
LOCATION:Mousies Lounge at The Freeport Club\, 1614 South Park Boulevard\, Freeport\, IL\, 61032\, United States
END:VEVENT
BEGIN:VEVENT
DTSTART;TZID=America/Chicago:20281208T170000
DTEND;TZID=America/Chicago:20281208T203000
DTSTAMP:20260420T195019
CREATED:20260325T222342Z
LAST-MODIFIED:20260326T192122Z
UID:10001271-1859907600-1859920200@freeportclub.com
SUMMARY:🍸 Happy Hour!
DESCRIPTION:
URL:https://freeportclub.com/event/happy-hour/2028-12-08/
LOCATION:Mousies Lounge at The Freeport Club\, 1614 South Park Boulevard\, Freeport\, IL\, 61032\, United States
END:VEVENT
BEGIN:VEVENT
DTSTART;TZID=America/Chicago:20281215T170000
DTEND;TZID=America/Chicago:20281215T203000
DTSTAMP:20260420T195019
CREATED:20260325T222342Z
LAST-MODIFIED:20260326T192122Z
UID:10001272-1860512400-1860525000@freeportclub.com
SUMMARY:🍸 Happy Hour!
DESCRIPTION:
URL:https://freeportclub.com/event/happy-hour/2028-12-15/
LOCATION:Mousies Lounge at The Freeport Club\, 1614 South Park Boulevard\, Freeport\, IL\, 61032\, United States
END:VEVENT
BEGIN:VEVENT
DTSTART;TZID=America/Chicago:20281222T170000
DTEND;TZID=America/Chicago:20281222T203000
DTSTAMP:20260420T195019
CREATED:20260325T222342Z
LAST-MODIFIED:20260326T192122Z
UID:10001273-1861117200-1861129800@freeportclub.com
SUMMARY:🍸 Happy Hour!
DESCRIPTION:
URL:https://freeportclub.com/event/happy-hour/2028-12-22/
LOCATION:Mousies Lounge at The Freeport Club\, 1614 South Park Boulevard\, Freeport\, IL\, 61032\, United States
END:VEVENT
BEGIN:VEVENT
DTSTART;TZID=America/Chicago:20281229T170000
DTEND;TZID=America/Chicago:20281229T203000
DTSTAMP:20260420T195019
CREATED:20260325T222342Z
LAST-MODIFIED:20260326T192122Z
UID:10001274-1861722000-1861734600@freeportclub.com
SUMMARY:🍸 Happy Hour!
DESCRIPTION:
URL:https://freeportclub.com/event/happy-hour/2028-12-29/
LOCATION:Mousies Lounge at The Freeport Club\, 1614 South Park Boulevard\, Freeport\, IL\, 61032\, United States
END:VEVENT
BEGIN:VEVENT
DTSTART;TZID=America/Chicago:20290105T170000
DTEND;TZID=America/Chicago:20290105T203000
DTSTAMP:20260420T195019
CREATED:20260325T222342Z
LAST-MODIFIED:20260326T192122Z
UID:10001275-1862326800-1862339400@freeportclub.com
SUMMARY:🍸 Happy Hour!
DESCRIPTION:
URL:https://freeportclub.com/event/happy-hour/2029-01-05/
LOCATION:Mousies Lounge at The Freeport Club\, 1614 South Park Boulevard\, Freeport\, IL\, 61032\, United States
END:VEVENT
BEGIN:VEVENT
DTSTART;TZID=America/Chicago:20290112T170000
DTEND;TZID=America/Chicago:20290112T203000
DTSTAMP:20260420T195019
CREATED:20260325T222342Z
LAST-MODIFIED:20260326T192122Z
UID:10001276-1862931600-1862944200@freeportclub.com
SUMMARY:🍸 Happy Hour!
DESCRIPTION:
URL:https://freeportclub.com/event/happy-hour/2029-01-12/
LOCATION:Mousies Lounge at The Freeport Club\, 1614 South Park Boulevard\, Freeport\, IL\, 61032\, United States
END:VEVENT
BEGIN:VEVENT
DTSTART;TZID=America/Chicago:20290119T170000
DTEND;TZID=America/Chicago:20290119T203000
DTSTAMP:20260420T195019
CREATED:20260325T222342Z
LAST-MODIFIED:20260326T192122Z
UID:10001277-1863536400-1863549000@freeportclub.com
SUMMARY:🍸 Happy Hour!
DESCRIPTION:
URL:https://freeportclub.com/event/happy-hour/2029-01-19/
LOCATION:Mousies Lounge at The Freeport Club\, 1614 South Park Boulevard\, Freeport\, IL\, 61032\, United States
END:VEVENT
BEGIN:VEVENT
DTSTART;TZID=America/Chicago:20290126T170000
DTEND;TZID=America/Chicago:20290126T203000
DTSTAMP:20260420T195019
CREATED:20260325T222342Z
LAST-MODIFIED:20260326T192122Z
UID:10001278-1864141200-1864153800@freeportclub.com
SUMMARY:🍸 Happy Hour!
DESCRIPTION:
URL:https://freeportclub.com/event/happy-hour/2029-01-26/
LOCATION:Mousies Lounge at The Freeport Club\, 1614 South Park Boulevard\, Freeport\, IL\, 61032\, United States
END:VEVENT
BEGIN:VEVENT
DTSTART;TZID=America/Chicago:20290202T170000
DTEND;TZID=America/Chicago:20290202T203000
DTSTAMP:20260420T195019
CREATED:20260325T222342Z
LAST-MODIFIED:20260326T192122Z
UID:10001279-1864746000-1864758600@freeportclub.com
SUMMARY:🍸 Happy Hour!
DESCRIPTION:
URL:https://freeportclub.com/event/happy-hour/2029-02-02/
LOCATION:Mousies Lounge at The Freeport Club\, 1614 South Park Boulevard\, Freeport\, IL\, 61032\, United States
END:VEVENT
END:VCALENDAR