BEGIN:VCALENDAR
VERSION:2.0
PRODID:-//The Freeport Club - ECPv6.15.20//NONSGML v1.0//EN
CALSCALE:GREGORIAN
METHOD:PUBLISH
X-WR-CALNAME:The Freeport Club
X-ORIGINAL-URL:https://freeportclub.com
X-WR-CALDESC:Events for The Freeport Club
REFRESH-INTERVAL;VALUE=DURATION:PT1H
X-Robots-Tag:noindex
X-PUBLISHED-TTL:PT1H
BEGIN:VTIMEZONE
TZID:America/Chicago
BEGIN:DAYLIGHT
TZOFFSETFROM:-0600
TZOFFSETTO:-0500
TZNAME:CDT
DTSTART:20260308T080000
END:DAYLIGHT
BEGIN:STANDARD
TZOFFSETFROM:-0500
TZOFFSETTO:-0600
TZNAME:CST
DTSTART:20261101T070000
END:STANDARD
BEGIN:DAYLIGHT
TZOFFSETFROM:-0600
TZOFFSETTO:-0500
TZNAME:CDT
DTSTART:20270314T080000
END:DAYLIGHT
BEGIN:STANDARD
TZOFFSETFROM:-0500
TZOFFSETTO:-0600
TZNAME:CST
DTSTART:20271107T070000
END:STANDARD
BEGIN:DAYLIGHT
TZOFFSETFROM:-0600
TZOFFSETTO:-0500
TZNAME:CDT
DTSTART:20280312T080000
END:DAYLIGHT
BEGIN:STANDARD
TZOFFSETFROM:-0500
TZOFFSETTO:-0600
TZNAME:CST
DTSTART:20281105T070000
END:STANDARD
BEGIN:DAYLIGHT
TZOFFSETFROM:-0600
TZOFFSETTO:-0500
TZNAME:CDT
DTSTART:20290311T080000
END:DAYLIGHT
BEGIN:STANDARD
TZOFFSETFROM:-0500
TZOFFSETTO:-0600
TZNAME:CST
DTSTART:20291104T070000
END:STANDARD
END:VTIMEZONE
BEGIN:VEVENT
DTSTART;TZID=America/Chicago:20271001T170000
DTEND;TZID=America/Chicago:20271001T203000
DTSTAMP:20260419T234818
CREATED:20260325T222342Z
LAST-MODIFIED:20260326T192122Z
UID:10001209-1822410000-1822422600@freeportclub.com
SUMMARY:🍸 Happy Hour!
DESCRIPTION:
URL:https://freeportclub.com/event/happy-hour/2027-10-01/
LOCATION:Mousies Lounge at The Freeport Club\, 1614 South Park Boulevard\, Freeport\, IL\, 61032\, United States
END:VEVENT
BEGIN:VEVENT
DTSTART;TZID=America/Chicago:20271008T170000
DTEND;TZID=America/Chicago:20271008T203000
DTSTAMP:20260419T234818
CREATED:20260325T222342Z
LAST-MODIFIED:20260326T192122Z
UID:10001210-1823014800-1823027400@freeportclub.com
SUMMARY:🍸 Happy Hour!
DESCRIPTION:
URL:https://freeportclub.com/event/happy-hour/2027-10-08/
LOCATION:Mousies Lounge at The Freeport Club\, 1614 South Park Boulevard\, Freeport\, IL\, 61032\, United States
END:VEVENT
BEGIN:VEVENT
DTSTART;TZID=America/Chicago:20271015T170000
DTEND;TZID=America/Chicago:20271015T203000
DTSTAMP:20260419T234818
CREATED:20260325T222342Z
LAST-MODIFIED:20260326T192122Z
UID:10001211-1823619600-1823632200@freeportclub.com
SUMMARY:🍸 Happy Hour!
DESCRIPTION:
URL:https://freeportclub.com/event/happy-hour/2027-10-15/
LOCATION:Mousies Lounge at The Freeport Club\, 1614 South Park Boulevard\, Freeport\, IL\, 61032\, United States
END:VEVENT
BEGIN:VEVENT
DTSTART;TZID=America/Chicago:20271022T170000
DTEND;TZID=America/Chicago:20271022T203000
DTSTAMP:20260419T234818
CREATED:20260325T222342Z
LAST-MODIFIED:20260326T192122Z
UID:10001212-1824224400-1824237000@freeportclub.com
SUMMARY:🍸 Happy Hour!
DESCRIPTION:
URL:https://freeportclub.com/event/happy-hour/2027-10-22/
LOCATION:Mousies Lounge at The Freeport Club\, 1614 South Park Boulevard\, Freeport\, IL\, 61032\, United States
END:VEVENT
BEGIN:VEVENT
DTSTART;TZID=America/Chicago:20271029T170000
DTEND;TZID=America/Chicago:20271029T203000
DTSTAMP:20260419T234818
CREATED:20260325T222342Z
LAST-MODIFIED:20260326T192122Z
UID:10001213-1824829200-1824841800@freeportclub.com
SUMMARY:🍸 Happy Hour!
DESCRIPTION:
URL:https://freeportclub.com/event/happy-hour/2027-10-29/
LOCATION:Mousies Lounge at The Freeport Club\, 1614 South Park Boulevard\, Freeport\, IL\, 61032\, United States
END:VEVENT
BEGIN:VEVENT
DTSTART;TZID=America/Chicago:20271105T170000
DTEND;TZID=America/Chicago:20271105T203000
DTSTAMP:20260419T234818
CREATED:20260325T222342Z
LAST-MODIFIED:20260326T192122Z
UID:10001214-1825434000-1825446600@freeportclub.com
SUMMARY:🍸 Happy Hour!
DESCRIPTION:
URL:https://freeportclub.com/event/happy-hour/2027-11-05/
LOCATION:Mousies Lounge at The Freeport Club\, 1614 South Park Boulevard\, Freeport\, IL\, 61032\, United States
END:VEVENT
BEGIN:VEVENT
DTSTART;TZID=America/Chicago:20271112T170000
DTEND;TZID=America/Chicago:20271112T203000
DTSTAMP:20260419T234818
CREATED:20260325T222342Z
LAST-MODIFIED:20260326T192122Z
UID:10001215-1826038800-1826051400@freeportclub.com
SUMMARY:🍸 Happy Hour!
DESCRIPTION:
URL:https://freeportclub.com/event/happy-hour/2027-11-12/
LOCATION:Mousies Lounge at The Freeport Club\, 1614 South Park Boulevard\, Freeport\, IL\, 61032\, United States
END:VEVENT
BEGIN:VEVENT
DTSTART;TZID=America/Chicago:20271119T170000
DTEND;TZID=America/Chicago:20271119T203000
DTSTAMP:20260419T234818
CREATED:20260325T222342Z
LAST-MODIFIED:20260326T192122Z
UID:10001216-1826643600-1826656200@freeportclub.com
SUMMARY:🍸 Happy Hour!
DESCRIPTION:
URL:https://freeportclub.com/event/happy-hour/2027-11-19/
LOCATION:Mousies Lounge at The Freeport Club\, 1614 South Park Boulevard\, Freeport\, IL\, 61032\, United States
END:VEVENT
BEGIN:VEVENT
DTSTART;TZID=America/Chicago:20271126T170000
DTEND;TZID=America/Chicago:20271126T203000
DTSTAMP:20260419T234818
CREATED:20260325T222342Z
LAST-MODIFIED:20260326T192122Z
UID:10001217-1827248400-1827261000@freeportclub.com
SUMMARY:🍸 Happy Hour!
DESCRIPTION:
URL:https://freeportclub.com/event/happy-hour/2027-11-26/
LOCATION:Mousies Lounge at The Freeport Club\, 1614 South Park Boulevard\, Freeport\, IL\, 61032\, United States
END:VEVENT
BEGIN:VEVENT
DTSTART;TZID=America/Chicago:20271203T170000
DTEND;TZID=America/Chicago:20271203T203000
DTSTAMP:20260419T234818
CREATED:20260325T222342Z
LAST-MODIFIED:20260326T192122Z
UID:10001218-1827853200-1827865800@freeportclub.com
SUMMARY:🍸 Happy Hour!
DESCRIPTION:
URL:https://freeportclub.com/event/happy-hour/2027-12-03/
LOCATION:Mousies Lounge at The Freeport Club\, 1614 South Park Boulevard\, Freeport\, IL\, 61032\, United States
END:VEVENT
BEGIN:VEVENT
DTSTART;TZID=America/Chicago:20271210T170000
DTEND;TZID=America/Chicago:20271210T203000
DTSTAMP:20260419T234818
CREATED:20260325T222342Z
LAST-MODIFIED:20260326T192122Z
UID:10001219-1828458000-1828470600@freeportclub.com
SUMMARY:🍸 Happy Hour!
DESCRIPTION:
URL:https://freeportclub.com/event/happy-hour/2027-12-10/
LOCATION:Mousies Lounge at The Freeport Club\, 1614 South Park Boulevard\, Freeport\, IL\, 61032\, United States
END:VEVENT
BEGIN:VEVENT
DTSTART;TZID=America/Chicago:20271217T170000
DTEND;TZID=America/Chicago:20271217T203000
DTSTAMP:20260419T234818
CREATED:20260325T222342Z
LAST-MODIFIED:20260326T192122Z
UID:10001220-1829062800-1829075400@freeportclub.com
SUMMARY:🍸 Happy Hour!
DESCRIPTION:
URL:https://freeportclub.com/event/happy-hour/2027-12-17/
LOCATION:Mousies Lounge at The Freeport Club\, 1614 South Park Boulevard\, Freeport\, IL\, 61032\, United States
END:VEVENT
BEGIN:VEVENT
DTSTART;TZID=America/Chicago:20271224T170000
DTEND;TZID=America/Chicago:20271224T203000
DTSTAMP:20260419T234818
CREATED:20260325T222342Z
LAST-MODIFIED:20260326T192122Z
UID:10001221-1829667600-1829680200@freeportclub.com
SUMMARY:🍸 Happy Hour!
DESCRIPTION:
URL:https://freeportclub.com/event/happy-hour/2027-12-24/
LOCATION:Mousies Lounge at The Freeport Club\, 1614 South Park Boulevard\, Freeport\, IL\, 61032\, United States
END:VEVENT
BEGIN:VEVENT
DTSTART;TZID=America/Chicago:20271231T170000
DTEND;TZID=America/Chicago:20271231T203000
DTSTAMP:20260419T234818
CREATED:20260325T222342Z
LAST-MODIFIED:20260326T192122Z
UID:10001222-1830272400-1830285000@freeportclub.com
SUMMARY:🍸 Happy Hour!
DESCRIPTION:
URL:https://freeportclub.com/event/happy-hour/2027-12-31/
LOCATION:Mousies Lounge at The Freeport Club\, 1614 South Park Boulevard\, Freeport\, IL\, 61032\, United States
END:VEVENT
BEGIN:VEVENT
DTSTART;TZID=America/Chicago:20280107T170000
DTEND;TZID=America/Chicago:20280107T203000
DTSTAMP:20260419T234818
CREATED:20260325T222342Z
LAST-MODIFIED:20260326T192122Z
UID:10001223-1830877200-1830889800@freeportclub.com
SUMMARY:🍸 Happy Hour!
DESCRIPTION:
URL:https://freeportclub.com/event/happy-hour/2028-01-07/
LOCATION:Mousies Lounge at The Freeport Club\, 1614 South Park Boulevard\, Freeport\, IL\, 61032\, United States
END:VEVENT
BEGIN:VEVENT
DTSTART;TZID=America/Chicago:20280114T170000
DTEND;TZID=America/Chicago:20280114T203000
DTSTAMP:20260419T234818
CREATED:20260325T222342Z
LAST-MODIFIED:20260326T192122Z
UID:10001224-1831482000-1831494600@freeportclub.com
SUMMARY:🍸 Happy Hour!
DESCRIPTION:
URL:https://freeportclub.com/event/happy-hour/2028-01-14/
LOCATION:Mousies Lounge at The Freeport Club\, 1614 South Park Boulevard\, Freeport\, IL\, 61032\, United States
END:VEVENT
BEGIN:VEVENT
DTSTART;TZID=America/Chicago:20280121T170000
DTEND;TZID=America/Chicago:20280121T203000
DTSTAMP:20260419T234818
CREATED:20260325T222342Z
LAST-MODIFIED:20260326T192122Z
UID:10001225-1832086800-1832099400@freeportclub.com
SUMMARY:🍸 Happy Hour!
DESCRIPTION:
URL:https://freeportclub.com/event/happy-hour/2028-01-21/
LOCATION:Mousies Lounge at The Freeport Club\, 1614 South Park Boulevard\, Freeport\, IL\, 61032\, United States
END:VEVENT
BEGIN:VEVENT
DTSTART;TZID=America/Chicago:20280128T170000
DTEND;TZID=America/Chicago:20280128T203000
DTSTAMP:20260419T234819
CREATED:20260325T222342Z
LAST-MODIFIED:20260326T192122Z
UID:10001226-1832691600-1832704200@freeportclub.com
SUMMARY:🍸 Happy Hour!
DESCRIPTION:
URL:https://freeportclub.com/event/happy-hour/2028-01-28/
LOCATION:Mousies Lounge at The Freeport Club\, 1614 South Park Boulevard\, Freeport\, IL\, 61032\, United States
END:VEVENT
BEGIN:VEVENT
DTSTART;TZID=America/Chicago:20280204T170000
DTEND;TZID=America/Chicago:20280204T203000
DTSTAMP:20260419T234819
CREATED:20260325T222342Z
LAST-MODIFIED:20260326T192122Z
UID:10001227-1833296400-1833309000@freeportclub.com
SUMMARY:🍸 Happy Hour!
DESCRIPTION:
URL:https://freeportclub.com/event/happy-hour/2028-02-04/
LOCATION:Mousies Lounge at The Freeport Club\, 1614 South Park Boulevard\, Freeport\, IL\, 61032\, United States
END:VEVENT
BEGIN:VEVENT
DTSTART;TZID=America/Chicago:20280211T170000
DTEND;TZID=America/Chicago:20280211T203000
DTSTAMP:20260419T234819
CREATED:20260325T222342Z
LAST-MODIFIED:20260326T192122Z
UID:10001228-1833901200-1833913800@freeportclub.com
SUMMARY:🍸 Happy Hour!
DESCRIPTION:
URL:https://freeportclub.com/event/happy-hour/2028-02-11/
LOCATION:Mousies Lounge at The Freeport Club\, 1614 South Park Boulevard\, Freeport\, IL\, 61032\, United States
END:VEVENT
BEGIN:VEVENT
DTSTART;TZID=America/Chicago:20280218T170000
DTEND;TZID=America/Chicago:20280218T203000
DTSTAMP:20260419T234819
CREATED:20260325T222342Z
LAST-MODIFIED:20260326T192122Z
UID:10001229-1834506000-1834518600@freeportclub.com
SUMMARY:🍸 Happy Hour!
DESCRIPTION:
URL:https://freeportclub.com/event/happy-hour/2028-02-18/
LOCATION:Mousies Lounge at The Freeport Club\, 1614 South Park Boulevard\, Freeport\, IL\, 61032\, United States
END:VEVENT
BEGIN:VEVENT
DTSTART;TZID=America/Chicago:20280225T170000
DTEND;TZID=America/Chicago:20280225T203000
DTSTAMP:20260419T234819
CREATED:20260325T222342Z
LAST-MODIFIED:20260326T192122Z
UID:10001230-1835110800-1835123400@freeportclub.com
SUMMARY:🍸 Happy Hour!
DESCRIPTION:
URL:https://freeportclub.com/event/happy-hour/2028-02-25/
LOCATION:Mousies Lounge at The Freeport Club\, 1614 South Park Boulevard\, Freeport\, IL\, 61032\, United States
END:VEVENT
BEGIN:VEVENT
DTSTART;TZID=America/Chicago:20280303T170000
DTEND;TZID=America/Chicago:20280303T203000
DTSTAMP:20260419T234819
CREATED:20260325T222342Z
LAST-MODIFIED:20260326T192122Z
UID:10001231-1835715600-1835728200@freeportclub.com
SUMMARY:🍸 Happy Hour!
DESCRIPTION:
URL:https://freeportclub.com/event/happy-hour/2028-03-03/
LOCATION:Mousies Lounge at The Freeport Club\, 1614 South Park Boulevard\, Freeport\, IL\, 61032\, United States
END:VEVENT
BEGIN:VEVENT
DTSTART;TZID=America/Chicago:20280310T170000
DTEND;TZID=America/Chicago:20280310T203000
DTSTAMP:20260419T234819
CREATED:20260325T222342Z
LAST-MODIFIED:20260326T192122Z
UID:10001232-1836320400-1836333000@freeportclub.com
SUMMARY:🍸 Happy Hour!
DESCRIPTION:
URL:https://freeportclub.com/event/happy-hour/2028-03-10/
LOCATION:Mousies Lounge at The Freeport Club\, 1614 South Park Boulevard\, Freeport\, IL\, 61032\, United States
END:VEVENT
BEGIN:VEVENT
DTSTART;TZID=America/Chicago:20280317T170000
DTEND;TZID=America/Chicago:20280317T203000
DTSTAMP:20260419T234819
CREATED:20260325T222342Z
LAST-MODIFIED:20260326T192122Z
UID:10001233-1836925200-1836937800@freeportclub.com
SUMMARY:🍸 Happy Hour!
DESCRIPTION:
URL:https://freeportclub.com/event/happy-hour/2028-03-17/
LOCATION:Mousies Lounge at The Freeport Club\, 1614 South Park Boulevard\, Freeport\, IL\, 61032\, United States
END:VEVENT
BEGIN:VEVENT
DTSTART;TZID=America/Chicago:20280324T170000
DTEND;TZID=America/Chicago:20280324T203000
DTSTAMP:20260419T234819
CREATED:20260325T222342Z
LAST-MODIFIED:20260326T192122Z
UID:10001234-1837530000-1837542600@freeportclub.com
SUMMARY:🍸 Happy Hour!
DESCRIPTION:
URL:https://freeportclub.com/event/happy-hour/2028-03-24/
LOCATION:Mousies Lounge at The Freeport Club\, 1614 South Park Boulevard\, Freeport\, IL\, 61032\, United States
END:VEVENT
BEGIN:VEVENT
DTSTART;TZID=America/Chicago:20280331T170000
DTEND;TZID=America/Chicago:20280331T203000
DTSTAMP:20260419T234819
CREATED:20260325T222342Z
LAST-MODIFIED:20260326T192122Z
UID:10001235-1838134800-1838147400@freeportclub.com
SUMMARY:🍸 Happy Hour!
DESCRIPTION:
URL:https://freeportclub.com/event/happy-hour/2028-03-31/
LOCATION:Mousies Lounge at The Freeport Club\, 1614 South Park Boulevard\, Freeport\, IL\, 61032\, United States
END:VEVENT
BEGIN:VEVENT
DTSTART;TZID=America/Chicago:20280407T170000
DTEND;TZID=America/Chicago:20280407T203000
DTSTAMP:20260419T234819
CREATED:20260325T222342Z
LAST-MODIFIED:20260326T192122Z
UID:10001236-1838739600-1838752200@freeportclub.com
SUMMARY:🍸 Happy Hour!
DESCRIPTION:
URL:https://freeportclub.com/event/happy-hour/2028-04-07/
LOCATION:Mousies Lounge at The Freeport Club\, 1614 South Park Boulevard\, Freeport\, IL\, 61032\, United States
END:VEVENT
BEGIN:VEVENT
DTSTART;TZID=America/Chicago:20280414T170000
DTEND;TZID=America/Chicago:20280414T203000
DTSTAMP:20260419T234819
CREATED:20260325T222342Z
LAST-MODIFIED:20260326T192122Z
UID:10001237-1839344400-1839357000@freeportclub.com
SUMMARY:🍸 Happy Hour!
DESCRIPTION:
URL:https://freeportclub.com/event/happy-hour/2028-04-14/
LOCATION:Mousies Lounge at The Freeport Club\, 1614 South Park Boulevard\, Freeport\, IL\, 61032\, United States
END:VEVENT
BEGIN:VEVENT
DTSTART;TZID=America/Chicago:20280421T170000
DTEND;TZID=America/Chicago:20280421T203000
DTSTAMP:20260419T234819
CREATED:20260325T222342Z
LAST-MODIFIED:20260326T192122Z
UID:10001238-1839949200-1839961800@freeportclub.com
SUMMARY:🍸 Happy Hour!
DESCRIPTION:
URL:https://freeportclub.com/event/happy-hour/2028-04-21/
LOCATION:Mousies Lounge at The Freeport Club\, 1614 South Park Boulevard\, Freeport\, IL\, 61032\, United States
END:VEVENT
END:VCALENDAR