BEGIN:VCALENDAR
VERSION:2.0
PRODID:-//The Freeport Club - ECPv6.15.20//NONSGML v1.0//EN
CALSCALE:GREGORIAN
METHOD:PUBLISH
X-WR-CALNAME:The Freeport Club
X-ORIGINAL-URL:https://freeportclub.com
X-WR-CALDESC:Events for The Freeport Club
REFRESH-INTERVAL;VALUE=DURATION:PT1H
X-Robots-Tag:noindex
X-PUBLISHED-TTL:PT1H
BEGIN:VTIMEZONE
TZID:America/Chicago
BEGIN:DAYLIGHT
TZOFFSETFROM:-0600
TZOFFSETTO:-0500
TZNAME:CDT
DTSTART:20230312T080000
END:DAYLIGHT
BEGIN:STANDARD
TZOFFSETFROM:-0500
TZOFFSETTO:-0600
TZNAME:CST
DTSTART:20231105T070000
END:STANDARD
BEGIN:DAYLIGHT
TZOFFSETFROM:-0600
TZOFFSETTO:-0500
TZNAME:CDT
DTSTART:20240310T080000
END:DAYLIGHT
BEGIN:STANDARD
TZOFFSETFROM:-0500
TZOFFSETTO:-0600
TZNAME:CST
DTSTART:20241103T070000
END:STANDARD
BEGIN:DAYLIGHT
TZOFFSETFROM:-0600
TZOFFSETTO:-0500
TZNAME:CDT
DTSTART:20250309T080000
END:DAYLIGHT
BEGIN:STANDARD
TZOFFSETFROM:-0500
TZOFFSETTO:-0600
TZNAME:CST
DTSTART:20251102T070000
END:STANDARD
END:VTIMEZONE
BEGIN:VEVENT
DTSTART;TZID=America/Chicago:20240830T120000
DTEND;TZID=America/Chicago:20240830T170000
DTSTAMP:20260421T211428
CREATED:20240308T005450Z
LAST-MODIFIED:20240308T005450Z
UID:10000988-1725019200-1725037200@freeportclub.com
SUMMARY:80’s Night - Back 9 Closed at 5pm
DESCRIPTION:
URL:https://freeportclub.com/event/80s-night-back-9-closed-at-5pm/
LOCATION:IL
END:VEVENT
BEGIN:VEVENT
DTSTART;TZID=America/Chicago:20240830T110000
DTEND;TZID=America/Chicago:20240830T170000
DTSTAMP:20260421T211428
CREATED:20240308T004703Z
LAST-MODIFIED:20240308T004703Z
UID:10000983-1725015600-1725037200@freeportclub.com
SUMMARY:Couples League - COURSE CLOSED AFTER 4:00 PM
DESCRIPTION:
URL:https://freeportclub.com/event/couples-league-course-closed-after-400-pm/2024-08-30/
LOCATION:The Freeport Club\, 1614 South Park Boulevard\, Freeport\, IL\, 61032\, United States
CATEGORIES:Outings
ATTACH;FMTTYPE=image/jpeg:https://freeportclub.com/wp-content/uploads/2024/03/24-Couples-League.jpg
END:VEVENT
BEGIN:VEVENT
DTSTART;TZID=America/Chicago:20240829T110000
DTEND;TZID=America/Chicago:20240829T160000
DTSTAMP:20260421T211428
CREATED:20240308T003836Z
LAST-MODIFIED:20240308T003836Z
UID:10000961-1724929200-1724947200@freeportclub.com
SUMMARY:Men's League - Course CLOSED after 4:00
DESCRIPTION:
URL:https://freeportclub.com/event/mens-league-course-closed-after-400/2024-08-29/
LOCATION:The Freeport Club\, 1614 South Park Boulevard\, Freeport\, IL\, 61032\, United States
CATEGORIES:Outings
ATTACH;FMTTYPE=image/jpeg:https://freeportclub.com/wp-content/uploads/2024/03/24-Men_s-League-Flyer.jpg
END:VEVENT
BEGIN:VEVENT
DTSTART;TZID=America/Chicago:20240827T110000
DTEND;TZID=America/Chicago:20240827T160000
DTSTAMP:20260421T211428
CREATED:20240308T013032Z
LAST-MODIFIED:20240308T014147Z
UID:10001017-1724756400-1724774400@freeportclub.com
SUMMARY:Ladies League - COURSE CLOSED AFTER 4:00 PM
DESCRIPTION:
URL:https://freeportclub.com/event/ladies-league-course-closed-after-400-pm-2-2/2024-08-27/
LOCATION:The Freeport Club\, 1614 South Park Boulevard\, Freeport\, IL\, 61032\, United States
CATEGORIES:Outings
ATTACH;FMTTYPE=image/jpeg:https://freeportclub.com/wp-content/uploads/2024/03/24-Ladies-League-Flyer.jpg
END:VEVENT
BEGIN:VEVENT
DTSTART;TZID=America/Chicago:20240823T160000
DTEND;TZID=America/Chicago:20240823T185900
DTSTAMP:20260421T211428
CREATED:20240308T005603Z
LAST-MODIFIED:20240308T005616Z
UID:10000989-1724428800-1724439540@freeportclub.com
SUMMARY:Night Golf
DESCRIPTION:
URL:https://freeportclub.com/event/night-golf-2/
LOCATION:The Freeport Club\, 1614 South Park Boulevard\, Freeport\, IL\, 61032\, United States
CATEGORIES:Outings
ATTACH;FMTTYPE=image/jpeg:https://freeportclub.com/wp-content/uploads/2024/03/24-Night-Golf-8.23.jpg
END:VEVENT
BEGIN:VEVENT
DTSTART;TZID=America/Chicago:20240822T110000
DTEND;TZID=America/Chicago:20240822T160000
DTSTAMP:20260421T211428
CREATED:20240308T003836Z
LAST-MODIFIED:20240308T003836Z
UID:10000960-1724324400-1724342400@freeportclub.com
SUMMARY:Men's League - Course CLOSED after 4:00
DESCRIPTION:
URL:https://freeportclub.com/event/mens-league-course-closed-after-400/2024-08-22/
LOCATION:The Freeport Club\, 1614 South Park Boulevard\, Freeport\, IL\, 61032\, United States
CATEGORIES:Outings
ATTACH;FMTTYPE=image/jpeg:https://freeportclub.com/wp-content/uploads/2024/03/24-Men_s-League-Flyer.jpg
END:VEVENT
BEGIN:VEVENT
DTSTART;TZID=America/Chicago:20240820T110000
DTEND;TZID=America/Chicago:20240820T160000
DTSTAMP:20260421T211428
CREATED:20240308T013032Z
LAST-MODIFIED:20240308T014147Z
UID:10001016-1724151600-1724169600@freeportclub.com
SUMMARY:Ladies League - COURSE CLOSED AFTER 4:00 PM
DESCRIPTION:
URL:https://freeportclub.com/event/ladies-league-course-closed-after-400-pm-2-2/2024-08-20/
LOCATION:The Freeport Club\, 1614 South Park Boulevard\, Freeport\, IL\, 61032\, United States
CATEGORIES:Outings
ATTACH;FMTTYPE=image/jpeg:https://freeportclub.com/wp-content/uploads/2024/03/24-Ladies-League-Flyer.jpg
END:VEVENT
BEGIN:VEVENT
DTSTART;TZID=America/Chicago:20240817T040000
DTEND;TZID=America/Chicago:20240817T120000
DTSTAMP:20260421T211428
CREATED:20240308T005742Z
LAST-MODIFIED:20240308T005742Z
UID:10000990-1723867200-1723896000@freeportclub.com
SUMMARY:Spongebob Outing - Course Closed until 2:00 pm
DESCRIPTION:
URL:https://freeportclub.com/event/spongebob-outing-course-closed-until-200-pm/
LOCATION:The Freeport Club\, 1614 South Park Boulevard\, Freeport\, IL\, 61032\, United States
CATEGORIES:Outings
ATTACH;FMTTYPE=image/jpeg:https://freeportclub.com/wp-content/uploads/2023/05/spongebob-freeport-2023.jpg
END:VEVENT
BEGIN:VEVENT
DTSTART;TZID=America/Chicago:20240815T110000
DTEND;TZID=America/Chicago:20240815T160000
DTSTAMP:20260421T211428
CREATED:20240308T003836Z
LAST-MODIFIED:20240308T003836Z
UID:10000959-1723719600-1723737600@freeportclub.com
SUMMARY:Men's League - Course CLOSED after 4:00
DESCRIPTION:
URL:https://freeportclub.com/event/mens-league-course-closed-after-400/2024-08-15/
LOCATION:The Freeport Club\, 1614 South Park Boulevard\, Freeport\, IL\, 61032\, United States
CATEGORIES:Outings
ATTACH;FMTTYPE=image/jpeg:https://freeportclub.com/wp-content/uploads/2024/03/24-Men_s-League-Flyer.jpg
END:VEVENT
BEGIN:VEVENT
DTSTART;TZID=America/Chicago:20240813T110000
DTEND;TZID=America/Chicago:20240813T160000
DTSTAMP:20260421T211428
CREATED:20240308T013032Z
LAST-MODIFIED:20240308T014147Z
UID:10001015-1723546800-1723564800@freeportclub.com
SUMMARY:Ladies League - COURSE CLOSED AFTER 4:00 PM
DESCRIPTION:
URL:https://freeportclub.com/event/ladies-league-course-closed-after-400-pm-2-2/2024-08-13/
LOCATION:The Freeport Club\, 1614 South Park Boulevard\, Freeport\, IL\, 61032\, United States
CATEGORIES:Outings
ATTACH;FMTTYPE=image/jpeg:https://freeportclub.com/wp-content/uploads/2024/03/24-Ladies-League-Flyer.jpg
END:VEVENT
BEGIN:VEVENT
DTSTART;TZID=America/Chicago:20240809T110000
DTEND;TZID=America/Chicago:20240809T170000
DTSTAMP:20260421T211428
CREATED:20240308T004703Z
LAST-MODIFIED:20240308T004703Z
UID:10000982-1723201200-1723222800@freeportclub.com
SUMMARY:Couples League - COURSE CLOSED AFTER 4:00 PM
DESCRIPTION:
URL:https://freeportclub.com/event/couples-league-course-closed-after-400-pm/2024-08-09/
LOCATION:The Freeport Club\, 1614 South Park Boulevard\, Freeport\, IL\, 61032\, United States
CATEGORIES:Outings
ATTACH;FMTTYPE=image/jpeg:https://freeportclub.com/wp-content/uploads/2024/03/24-Couples-League.jpg
END:VEVENT
BEGIN:VEVENT
DTSTART;TZID=America/Chicago:20240808T110000
DTEND;TZID=America/Chicago:20240808T160000
DTSTAMP:20260421T211428
CREATED:20240308T003836Z
LAST-MODIFIED:20240308T003836Z
UID:10000958-1723114800-1723132800@freeportclub.com
SUMMARY:Men's League - Course CLOSED after 4:00
DESCRIPTION:
URL:https://freeportclub.com/event/mens-league-course-closed-after-400/2024-08-08/
LOCATION:The Freeport Club\, 1614 South Park Boulevard\, Freeport\, IL\, 61032\, United States
CATEGORIES:Outings
ATTACH;FMTTYPE=image/jpeg:https://freeportclub.com/wp-content/uploads/2024/03/24-Men_s-League-Flyer.jpg
END:VEVENT
BEGIN:VEVENT
DTSTART;TZID=America/Chicago:20240806T110000
DTEND;TZID=America/Chicago:20240806T160000
DTSTAMP:20260421T211428
CREATED:20240308T013032Z
LAST-MODIFIED:20240308T014147Z
UID:10001014-1722942000-1722960000@freeportclub.com
SUMMARY:Ladies League - COURSE CLOSED AFTER 4:00 PM
DESCRIPTION:
URL:https://freeportclub.com/event/ladies-league-course-closed-after-400-pm-2-2/2024-08-06/
LOCATION:The Freeport Club\, 1614 South Park Boulevard\, Freeport\, IL\, 61032\, United States
CATEGORIES:Outings
ATTACH;FMTTYPE=image/jpeg:https://freeportclub.com/wp-content/uploads/2024/03/24-Ladies-League-Flyer.jpg
END:VEVENT
BEGIN:VEVENT
DTSTART;TZID=America/Chicago:20240804T030000
DTEND;TZID=America/Chicago:20240804T120000
DTSTAMP:20260421T211428
CREATED:20240308T005928Z
LAST-MODIFIED:20240308T005928Z
UID:10000992-1722740400-1722772800@freeportclub.com
SUMMARY:Stephenson Cup - Course Closed until 2:00 pm
DESCRIPTION:
URL:https://freeportclub.com/event/stephenson-cup-course-closed-until-200-pm/2024-08-04/
LOCATION:The Freeport Club\, 1614 South Park Boulevard\, Freeport\, IL\, 61032\, United States
CATEGORIES:Outings
ATTACH;FMTTYPE=image/jpeg:https://freeportclub.com/wp-content/uploads/2024/02/24-Stephenson-Cup-Flyer.jpg
END:VEVENT
BEGIN:VEVENT
DTSTART;TZID=America/Chicago:20240803T030000
DTEND;TZID=America/Chicago:20240803T120000
DTSTAMP:20260421T211428
CREATED:20240308T005928Z
LAST-MODIFIED:20240308T005928Z
UID:10000991-1722654000-1722686400@freeportclub.com
SUMMARY:Stephenson Cup - Course Closed until 2:00 pm
DESCRIPTION:
URL:https://freeportclub.com/event/stephenson-cup-course-closed-until-200-pm/2024-08-03/
LOCATION:The Freeport Club\, 1614 South Park Boulevard\, Freeport\, IL\, 61032\, United States
CATEGORIES:Outings
ATTACH;FMTTYPE=image/jpeg:https://freeportclub.com/wp-content/uploads/2024/02/24-Stephenson-Cup-Flyer.jpg
END:VEVENT
BEGIN:VEVENT
DTSTART;TZID=America/Chicago:20240801T110000
DTEND;TZID=America/Chicago:20240801T160000
DTSTAMP:20260421T211428
CREATED:20240308T003836Z
LAST-MODIFIED:20240308T003836Z
UID:10000957-1722510000-1722528000@freeportclub.com
SUMMARY:Men's League - Course CLOSED after 4:00
DESCRIPTION:
URL:https://freeportclub.com/event/mens-league-course-closed-after-400/2024-08-01/
LOCATION:The Freeport Club\, 1614 South Park Boulevard\, Freeport\, IL\, 61032\, United States
CATEGORIES:Outings
ATTACH;FMTTYPE=image/jpeg:https://freeportclub.com/wp-content/uploads/2024/03/24-Men_s-League-Flyer.jpg
END:VEVENT
BEGIN:VEVENT
DTSTART;TZID=America/Chicago:20240730T110000
DTEND;TZID=America/Chicago:20240730T160000
DTSTAMP:20260421T211428
CREATED:20240308T013032Z
LAST-MODIFIED:20240308T014147Z
UID:10001013-1722337200-1722355200@freeportclub.com
SUMMARY:Ladies League - COURSE CLOSED AFTER 4:00 PM
DESCRIPTION:
URL:https://freeportclub.com/event/ladies-league-course-closed-after-400-pm-2-2/2024-07-30/
LOCATION:The Freeport Club\, 1614 South Park Boulevard\, Freeport\, IL\, 61032\, United States
CATEGORIES:Outings
ATTACH;FMTTYPE=image/jpeg:https://freeportclub.com/wp-content/uploads/2024/03/24-Ladies-League-Flyer.jpg
END:VEVENT
BEGIN:VEVENT
DTSTART;TZID=America/Chicago:20240726T020000
DTEND;TZID=America/Chicago:20240726T120000
DTSTAMP:20260421T211428
CREATED:20240308T010050Z
LAST-MODIFIED:20240308T010050Z
UID:10000993-1721959200-1721995200@freeportclub.com
SUMMARY:Aquin Open - Course Closed All Day
DESCRIPTION:
URL:https://freeportclub.com/event/aquin-open-course-closed-all-day/
LOCATION:The Freeport Club\, 1614 South Park Boulevard\, Freeport\, IL\, 61032\, United States
CATEGORIES:Outings
ATTACH;FMTTYPE=image/png:https://freeportclub.com/wp-content/uploads/2023/05/Golf-Outing-square.png
END:VEVENT
BEGIN:VEVENT
DTSTART;TZID=America/Chicago:20240725T110000
DTEND;TZID=America/Chicago:20240725T160000
DTSTAMP:20260421T211428
CREATED:20240308T003836Z
LAST-MODIFIED:20240308T003836Z
UID:10000956-1721905200-1721923200@freeportclub.com
SUMMARY:Men's League - Course CLOSED after 4:00
DESCRIPTION:
URL:https://freeportclub.com/event/mens-league-course-closed-after-400/2024-07-25/
LOCATION:The Freeport Club\, 1614 South Park Boulevard\, Freeport\, IL\, 61032\, United States
CATEGORIES:Outings
ATTACH;FMTTYPE=image/jpeg:https://freeportclub.com/wp-content/uploads/2024/03/24-Men_s-League-Flyer.jpg
END:VEVENT
BEGIN:VEVENT
DTSTART;TZID=America/Chicago:20240723T110000
DTEND;TZID=America/Chicago:20240723T160000
DTSTAMP:20260421T211428
CREATED:20240308T013032Z
LAST-MODIFIED:20240308T014147Z
UID:10001012-1721732400-1721750400@freeportclub.com
SUMMARY:Ladies League - COURSE CLOSED AFTER 4:00 PM
DESCRIPTION:
URL:https://freeportclub.com/event/ladies-league-course-closed-after-400-pm-2-2/2024-07-23/
LOCATION:The Freeport Club\, 1614 South Park Boulevard\, Freeport\, IL\, 61032\, United States
CATEGORIES:Outings
ATTACH;FMTTYPE=image/jpeg:https://freeportclub.com/wp-content/uploads/2024/03/24-Ladies-League-Flyer.jpg
END:VEVENT
BEGIN:VEVENT
DTSTART;TZID=America/Chicago:20240720T050000
DTEND;TZID=America/Chicago:20240720T120000
DTSTAMP:20260421T211429
CREATED:20240308T010210Z
LAST-MODIFIED:20240308T010210Z
UID:10000994-1721451600-1721476800@freeportclub.com
SUMMARY:Kuhse Outing - Course Closed until 4:00 pm
DESCRIPTION:
URL:https://freeportclub.com/event/kuhse-outing-course-closed-until-400-pm/
LOCATION:The Freeport Club\, 1614 South Park Boulevard\, Freeport\, IL\, 61032\, United States
CATEGORIES:Outings
ATTACH;FMTTYPE=image/png:https://freeportclub.com/wp-content/uploads/2023/05/Golf-Outing-square.png
END:VEVENT
BEGIN:VEVENT
DTSTART;TZID=America/Chicago:20240719T110000
DTEND;TZID=America/Chicago:20240719T170000
DTSTAMP:20260421T211429
CREATED:20240308T004703Z
LAST-MODIFIED:20240308T004703Z
UID:10000981-1721386800-1721408400@freeportclub.com
SUMMARY:Couples League - COURSE CLOSED AFTER 4:00 PM
DESCRIPTION:
URL:https://freeportclub.com/event/couples-league-course-closed-after-400-pm/2024-07-19/
LOCATION:The Freeport Club\, 1614 South Park Boulevard\, Freeport\, IL\, 61032\, United States
CATEGORIES:Outings
ATTACH;FMTTYPE=image/jpeg:https://freeportclub.com/wp-content/uploads/2024/03/24-Couples-League.jpg
END:VEVENT
BEGIN:VEVENT
DTSTART;TZID=America/Chicago:20240718T110000
DTEND;TZID=America/Chicago:20240718T160000
DTSTAMP:20260421T211429
CREATED:20240308T003836Z
LAST-MODIFIED:20240308T003836Z
UID:10000955-1721300400-1721318400@freeportclub.com
SUMMARY:Men's League - Course CLOSED after 4:00
DESCRIPTION:
URL:https://freeportclub.com/event/mens-league-course-closed-after-400/2024-07-18/
LOCATION:The Freeport Club\, 1614 South Park Boulevard\, Freeport\, IL\, 61032\, United States
CATEGORIES:Outings
ATTACH;FMTTYPE=image/jpeg:https://freeportclub.com/wp-content/uploads/2024/03/24-Men_s-League-Flyer.jpg
END:VEVENT
BEGIN:VEVENT
DTSTART;TZID=America/Chicago:20240716T110000
DTEND;TZID=America/Chicago:20240716T160000
DTSTAMP:20260421T211429
CREATED:20240308T013032Z
LAST-MODIFIED:20240308T014147Z
UID:10001011-1721127600-1721145600@freeportclub.com
SUMMARY:Ladies League - COURSE CLOSED AFTER 4:00 PM
DESCRIPTION:
URL:https://freeportclub.com/event/ladies-league-course-closed-after-400-pm-2-2/2024-07-16/
LOCATION:The Freeport Club\, 1614 South Park Boulevard\, Freeport\, IL\, 61032\, United States
CATEGORIES:Outings
ATTACH;FMTTYPE=image/jpeg:https://freeportclub.com/wp-content/uploads/2024/03/24-Ladies-League-Flyer.jpg
END:VEVENT
BEGIN:VEVENT
DTSTART;TZID=America/Chicago:20240712T110000
DTEND;TZID=America/Chicago:20240712T170000
DTSTAMP:20260421T211429
CREATED:20240308T004703Z
LAST-MODIFIED:20240308T004703Z
UID:10000980-1720782000-1720803600@freeportclub.com
SUMMARY:Couples League - COURSE CLOSED AFTER 4:00 PM
DESCRIPTION:
URL:https://freeportclub.com/event/couples-league-course-closed-after-400-pm/2024-07-12/
LOCATION:The Freeport Club\, 1614 South Park Boulevard\, Freeport\, IL\, 61032\, United States
CATEGORIES:Outings
ATTACH;FMTTYPE=image/jpeg:https://freeportclub.com/wp-content/uploads/2024/03/24-Couples-League.jpg
END:VEVENT
BEGIN:VEVENT
DTSTART;TZID=America/Chicago:20240711T060000
DTEND;TZID=America/Chicago:20240711T120000
DTSTAMP:20260421T211429
CREATED:20240308T010430Z
LAST-MODIFIED:20240308T010430Z
UID:10000996-1720677600-1720699200@freeportclub.com
SUMMARY:Morse Outing - COURSE CLOSED ALL DAY - NO Men's League
DESCRIPTION:
URL:https://freeportclub.com/event/morse-outing-course-closed-all-day-no-mens-league/
LOCATION:The Freeport Club\, 1614 South Park Boulevard\, Freeport\, IL\, 61032\, United States
CATEGORIES:Outings
ATTACH;FMTTYPE=image/png:https://freeportclub.com/wp-content/uploads/2023/05/Golf-Outing-square.png
END:VEVENT
BEGIN:VEVENT
DTSTART;TZID=America/Chicago:20240709T110000
DTEND;TZID=America/Chicago:20240709T160000
DTSTAMP:20260421T211429
CREATED:20240308T013032Z
LAST-MODIFIED:20240308T014147Z
UID:10001010-1720522800-1720540800@freeportclub.com
SUMMARY:Ladies League - COURSE CLOSED AFTER 4:00 PM
DESCRIPTION:
URL:https://freeportclub.com/event/ladies-league-course-closed-after-400-pm-2-2/2024-07-09/
LOCATION:The Freeport Club\, 1614 South Park Boulevard\, Freeport\, IL\, 61032\, United States
CATEGORIES:Outings
ATTACH;FMTTYPE=image/jpeg:https://freeportclub.com/wp-content/uploads/2024/03/24-Ladies-League-Flyer.jpg
END:VEVENT
BEGIN:VEVENT
DTSTART;TZID=America/Chicago:20240704T110000
DTEND;TZID=America/Chicago:20240704T160000
DTSTAMP:20260421T211429
CREATED:20240308T003836Z
LAST-MODIFIED:20240308T003836Z
UID:10000953-1720090800-1720108800@freeportclub.com
SUMMARY:Men's League - Course CLOSED after 4:00
DESCRIPTION:
URL:https://freeportclub.com/event/mens-league-course-closed-after-400/2024-07-04/
LOCATION:The Freeport Club\, 1614 South Park Boulevard\, Freeport\, IL\, 61032\, United States
CATEGORIES:Outings
ATTACH;FMTTYPE=image/jpeg:https://freeportclub.com/wp-content/uploads/2024/03/24-Men_s-League-Flyer.jpg
END:VEVENT
BEGIN:VEVENT
DTSTART;TZID=America/Chicago:20240702T110000
DTEND;TZID=America/Chicago:20240702T160000
DTSTAMP:20260421T211429
CREATED:20240308T013032Z
LAST-MODIFIED:20240308T014147Z
UID:10001009-1719918000-1719936000@freeportclub.com
SUMMARY:Ladies League - COURSE CLOSED AFTER 4:00 PM
DESCRIPTION:
URL:https://freeportclub.com/event/ladies-league-course-closed-after-400-pm-2-2/2024-07-02/
LOCATION:The Freeport Club\, 1614 South Park Boulevard\, Freeport\, IL\, 61032\, United States
CATEGORIES:Outings
ATTACH;FMTTYPE=image/jpeg:https://freeportclub.com/wp-content/uploads/2024/03/24-Ladies-League-Flyer.jpg
END:VEVENT
BEGIN:VEVENT
DTSTART;TZID=America/Chicago:20240628T110000
DTEND;TZID=America/Chicago:20240628T170000
DTSTAMP:20260421T211429
CREATED:20240308T004703Z
LAST-MODIFIED:20240308T004703Z
UID:10000979-1719572400-1719594000@freeportclub.com
SUMMARY:Couples League - COURSE CLOSED AFTER 4:00 PM
DESCRIPTION:
URL:https://freeportclub.com/event/couples-league-course-closed-after-400-pm/2024-06-28/
LOCATION:The Freeport Club\, 1614 South Park Boulevard\, Freeport\, IL\, 61032\, United States
CATEGORIES:Outings
ATTACH;FMTTYPE=image/jpeg:https://freeportclub.com/wp-content/uploads/2024/03/24-Couples-League.jpg
END:VEVENT
END:VCALENDAR