BEGIN:VCALENDAR
VERSION:2.0
PRODID:-//The Freeport Club - ECPv6.15.20//NONSGML v1.0//EN
CALSCALE:GREGORIAN
METHOD:PUBLISH
X-WR-CALNAME:The Freeport Club
X-ORIGINAL-URL:https://freeportclub.com
X-WR-CALDESC:Events for The Freeport Club
REFRESH-INTERVAL;VALUE=DURATION:PT1H
X-Robots-Tag:noindex
X-PUBLISHED-TTL:PT1H
BEGIN:VTIMEZONE
TZID:America/Chicago
BEGIN:DAYLIGHT
TZOFFSETFROM:-0600
TZOFFSETTO:-0500
TZNAME:CDT
DTSTART:20250309T080000
END:DAYLIGHT
BEGIN:STANDARD
TZOFFSETFROM:-0500
TZOFFSETTO:-0600
TZNAME:CST
DTSTART:20251102T070000
END:STANDARD
BEGIN:DAYLIGHT
TZOFFSETFROM:-0600
TZOFFSETTO:-0500
TZNAME:CDT
DTSTART:20260308T080000
END:DAYLIGHT
BEGIN:STANDARD
TZOFFSETFROM:-0500
TZOFFSETTO:-0600
TZNAME:CST
DTSTART:20261101T070000
END:STANDARD
BEGIN:DAYLIGHT
TZOFFSETFROM:-0600
TZOFFSETTO:-0500
TZNAME:CDT
DTSTART:20270314T080000
END:DAYLIGHT
BEGIN:STANDARD
TZOFFSETFROM:-0500
TZOFFSETTO:-0600
TZNAME:CST
DTSTART:20271107T070000
END:STANDARD
END:VTIMEZONE
BEGIN:VEVENT
DTSTART;TZID=America/Chicago:20260714T090000
DTEND;TZID=America/Chicago:20260714T150000
DTSTAMP:20260424T042204
CREATED:20260325T221131Z
LAST-MODIFIED:20260423T160306Z
UID:10001109-1784019600-1784041200@freeportclub.com
SUMMARY:⛳ Ladies Invitational
DESCRIPTION:
URL:https://freeportclub.com/event/ladies-invitational-2/
LOCATION:The Freeport Club\, 1614 South Park Boulevard\, Freeport\, IL\, 61032\, United States
CATEGORIES:Outings
END:VEVENT
BEGIN:VEVENT
DTSTART;TZID=America/Chicago:20260714T170000
DTEND;TZID=America/Chicago:20260714T213000
DTSTAMP:20260424T042204
CREATED:20260325T222543Z
LAST-MODIFIED:20260326T192448Z
UID:10001397-1784048400-1784064600@freeportclub.com
SUMMARY:⛳ Ladies League
DESCRIPTION:
URL:https://freeportclub.com/event/ladies-league/2026-07-14/
LOCATION:The Freeport Club\, 1614 South Park Boulevard\, Freeport\, IL\, 61032\, United States
END:VEVENT
END:VCALENDAR