BEGIN:VCALENDAR
VERSION:2.0
PRODID:-//The Freeport Club - ECPv6.15.20//NONSGML v1.0//EN
CALSCALE:GREGORIAN
METHOD:PUBLISH
X-ORIGINAL-URL:https://freeportclub.com
X-WR-CALDESC:Events for The Freeport Club
REFRESH-INTERVAL;VALUE=DURATION:PT1H
X-Robots-Tag:noindex
X-PUBLISHED-TTL:PT1H
BEGIN:VTIMEZONE
TZID:America/Chicago
BEGIN:DAYLIGHT
TZOFFSETFROM:-0600
TZOFFSETTO:-0500
TZNAME:CDT
DTSTART:20250309T080000
END:DAYLIGHT
BEGIN:STANDARD
TZOFFSETFROM:-0500
TZOFFSETTO:-0600
TZNAME:CST
DTSTART:20251102T070000
END:STANDARD
BEGIN:DAYLIGHT
TZOFFSETFROM:-0600
TZOFFSETTO:-0500
TZNAME:CDT
DTSTART:20260308T080000
END:DAYLIGHT
BEGIN:STANDARD
TZOFFSETFROM:-0500
TZOFFSETTO:-0600
TZNAME:CST
DTSTART:20261101T070000
END:STANDARD
BEGIN:DAYLIGHT
TZOFFSETFROM:-0600
TZOFFSETTO:-0500
TZNAME:CDT
DTSTART:20270314T080000
END:DAYLIGHT
BEGIN:STANDARD
TZOFFSETFROM:-0500
TZOFFSETTO:-0600
TZNAME:CST
DTSTART:20271107T070000
END:STANDARD
END:VTIMEZONE
BEGIN:VEVENT
DTSTART;TZID=America/Chicago:20260502T150000
DTEND;TZID=America/Chicago:20260502T200000
DTSTAMP:20260424T001532
CREATED:20260325T221109Z
LAST-MODIFIED:20260423T164857Z
UID:10001101-1777734000-1777752000@freeportclub.com
SUMMARY:🏇 Kentucky Derby Event
DESCRIPTION:Saturday\, May 2nd • The Freeport Club \nKentucky\nDerby Party\nat The Freeport Club — Freeport\, IL \n     \n\n\n      🌹 \n\n \n     \n\n\n        Party Starts\n        3:00 PM\n        Get here early\n      \n\n        Race Post Time\n        5:57 PM\n        The Run for the Roses\n      \n \n \n \n   \n\n     \n\n      It’s the most exciting two minutes in sports — and we’re throwing a party worthy of it. Join us at The Freeport Club for a Kentucky Derby watch party with drink specials\, games\, and prizes for the best hat and best dressed in the room.\n     \n     \n\n\n        🍹 \nDrink Specials\nDerby-themed drinks all night long\n \n\n        🎲 \nGames\nFun games throughout the party\n \n\n        📺 \nWatch Party\nFull race coverage\, post time 5:57 PM\n \n \n     \n\n🏆 Prizes Awarded For\n\n\n          👒 Best Hat\n        \n\n          👗 Best Dressed\n        \n \n \n     \n\n\n        📅 \n\nDate\nSaturday\, May 2\, 2026\n \n \n\n        🕒 \n\nParty Starts\n3:00 PM\n \n \n\n        🏇 \n\nRace Time\n5:57 PM\n \n \n\n        📍 \n\nLocation\nThe Freeport Club\n \n \n \n \n \n   \n\nQuestions? Give us a call. \n(815) 232-1165\n    Open to members and the public — all are welcome
URL:https://freeportclub.com/event/kentucky-derby-event/
LOCATION:The Freeport Club\, 1614 South Park Boulevard\, Freeport\, IL\, 61032\, United States
CATEGORIES:Non-Golf Events
END:VEVENT
END:VCALENDAR