BEGIN:VCALENDAR
VERSION:2.0
PRODID:-//The Freeport Club - ECPv6.15.20//NONSGML v1.0//EN
CALSCALE:GREGORIAN
METHOD:PUBLISH
X-WR-CALNAME:The Freeport Club
X-ORIGINAL-URL:https://freeportclub.com
X-WR-CALDESC:Events for The Freeport Club
REFRESH-INTERVAL;VALUE=DURATION:PT1H
X-Robots-Tag:noindex
X-PUBLISHED-TTL:PT1H
BEGIN:VTIMEZONE
TZID:America/Chicago
BEGIN:DAYLIGHT
TZOFFSETFROM:-0600
TZOFFSETTO:-0500
TZNAME:CDT
DTSTART:20240310T080000
END:DAYLIGHT
BEGIN:STANDARD
TZOFFSETFROM:-0500
TZOFFSETTO:-0600
TZNAME:CST
DTSTART:20241103T070000
END:STANDARD
BEGIN:DAYLIGHT
TZOFFSETFROM:-0600
TZOFFSETTO:-0500
TZNAME:CDT
DTSTART:20250309T080000
END:DAYLIGHT
BEGIN:STANDARD
TZOFFSETFROM:-0500
TZOFFSETTO:-0600
TZNAME:CST
DTSTART:20251102T070000
END:STANDARD
BEGIN:DAYLIGHT
TZOFFSETFROM:-0600
TZOFFSETTO:-0500
TZNAME:CDT
DTSTART:20260308T080000
END:DAYLIGHT
BEGIN:STANDARD
TZOFFSETFROM:-0500
TZOFFSETTO:-0600
TZNAME:CST
DTSTART:20261101T070000
END:STANDARD
END:VTIMEZONE
BEGIN:VEVENT
DTSTART;TZID=America/Chicago:20251101T103000
DTEND;TZID=America/Chicago:20251101T163000
DTSTAMP:20260419T203759
CREATED:20251027T154747Z
LAST-MODIFIED:20251027T154830Z
UID:10001089-1761993000-1762014600@freeportclub.com
SUMMARY:Chili Shootout
DESCRIPTION:2-person scramble. 10:30 AM shotgun start.\nFall golf is here\, and we’re celebrating with our annual Chili Shootout.\nGrab your partner and sign up for 18 holes of golf\, lunch\, and cash prizes based on field size.\nWhat you need to know:\nTeams of men\, women\, or mixed\nMembers: $50/team\nNon-members: $70/team\nIncludes 18 holes w/cart\, lunch\, and cash prizes\nThis is one of our favorite outings of the year.\nGreat golf\, good food\, and a chance to enjoy the course before winter sets in.\nSign up by calling the Golf Shop at 815-232-1165\nSpots are limited.\nGet your team registered soon.
URL:https://freeportclub.com/event/chili-shootout/
LOCATION:The Freeport Club\, 1614 South Park Boulevard\, Freeport\, IL\, 61032\, United States
CATEGORIES:Outings
ATTACH;FMTTYPE=image/png:https://freeportclub.com/wp-content/uploads/2025/10/Screenshot-2025-10-27-at-10.47.02-AM.png
END:VEVENT
END:VCALENDAR